Workbook
Name \a: #REF!
Name \a: #REF!
Name \a: #REF!
Name \z: #REF!
Name \z: #REF!
Name _: '[1]ราคาต่อหน่วย2-9'!#REF!
Name _: '[2]ราคาต่อหน่วย2-9'!#REF!
Name _: '[2]ราคาต่อหน่วย2-9'!#REF!
Name _: '[2]ราคาต่อหน่วย2-9'!#REF!
Name _con2: [3]แหล่งวัสดุ!$E$51
Name _con4: [3]แหล่งวัสดุ!$E$53
Name _cut1: [4]ค่างานต้นทุน!$H$18
Name _cut1: [4]ค่างานต้นทุน!$H$18
Name _cut1: [5]ค่างานต้นทุน!$H$18
Name _ftf2: '[6]หา FACTOR F'!$K$34
Name _ftf2: '[6]หา FACTOR F'!$K$34
Name _ftf3: '[6]หา FACTOR F'!$K$51
Name _ftf3: '[6]หา FACTOR F'!$K$51
Name _ml1: #REF!
Name _ml1: #REF!
Name _ml1: #REF!
Name _RB9: '[7]ต้นทุนcon,steel&แบบ'!$J$184
Name _sp1: #REF!
Name _sp1: #REF!
Name _sp1: #REF!
Name _tc1: #REF!
Name _tc1: #REF!
Name AT: #REF!
Name AT: #REF!
Name AV.SP: #REF!
Name av1.sp: #REF!
Name b1a: [8]unitcost!#REF!
Name b1a: [8]unitcost!#REF!
Name b1a: [8]unitcost!#REF!
Name b1d: [8]unitcost!#REF!
Name b1d: [8]unitcost!#REF!
Name b1l: [8]unitcost!#REF!
Name b1l: [8]unitcost!#REF!
Name b2a: [8]unitcost!#REF!
Name b2a: [8]unitcost!#REF!
Name b2d: [8]unitcost!#REF!
Name b2d: [8]unitcost!#REF!
Name b2l: [8]unitcost!#REF!
Name b2l: [8]unitcost!#REF!
Name b3a: [8]unitcost!#REF!
Name b3a: [8]unitcost!#REF!
Name b3d: [8]unitcost!#REF!
Name b3d: [8]unitcost!#REF!
Name b3l: [8]unitcost!#REF!
Name b3l: [8]unitcost!#REF!
Name b4a: [8]unitcost!#REF!
Name b4a: [8]unitcost!#REF!
Name b4d: [8]unitcost!#REF!
Name b4d: [8]unitcost!#REF!
Name b4l: [8]unitcost!#REF!
Name b4l: [8]unitcost!#REF!
Name b5a: [8]unitcost!#REF!
Name b5a: [8]unitcost!#REF!
Name b5d: [8]unitcost!#REF!
Name b5d: [8]unitcost!#REF!

Sheet สรุป ปปช.
A1: ตารางแสดงวงเงินงบประมาณที่ได้รับจัดสรรและราคากลางในงานจ้างก่อสร้าง
A2: 1. | B2: ="ชื่อโครงการ "&'ปร.5 ท'!C4 -> ชื่อโครงการ บำรุงรักษาระบบโครงข่ายทาง
B3: ="สาย "&'ปร.5 ท'!C5&" "&'ปร.5 ท'!D5 -> สาย
B4: ='ปร.5 ท'!C6&" จำนวน 1.000 แห่ง" -> ตำบลควนขนุน อำเภอควนขนุน จังหวัดพัทลุง จำนวน 1.000 แห่ง
B5: หน่วยงานเจ้าของโครงการ แขวงทางหลวงชนบทพัทลุง กรมทางหลวงชนบท
A6: 2. | B6: วงเงินงบประมาณที่ได้รับจัดสรร | E6: =FIXED('ปร.5 ท'!I25,2)&" บาท" -> 718,000.00 บาท
A7: 3. | B7: ลักษณะงานโดยสังเขป | D7: ประเภทงาน | E7: =ปก!A15 -> ซ่อมสร้างผิวทางพาราแอสฟัลท์ติกคอนกรีต
B8: =E7 -> ซ่อมสร้างผิวทางพาราแอสฟัลท์ติกคอนกรีต
B9: - | C9: วัสดุเคลือบผิวจราจร
B10: - | C10: ตีเส้นจราจรเทอร์โมพลาสติก
B11: - | C11: ป้ายจำกัดความเร็ว
B12: - | C12: ป้ายเตือนเขตโรงเรียน
B13: - | C13: ป้ายโครงการพร้อมชื่อโรงเรียน
B14: - | C14: MAST ARM พร้อมป้ายเตือนและไฟกระพริบ
B15: - | C15: งานหินคลุกบดอัดแน่น
B16: - | C16: งาน Prime coat
B17: - | C17: งานผิวทางแอสฟัลท์ติกคอนกรีต
B18: - | C18: ตีเส้นลานจอดรถ สีขาว
B19: - | C19: งานอำนวยการ
B20: - | C20: งานอื่นๆ
A21: 4. | B21: ราคากลางคำนวณ ณ วันที่ | D21: ='ปร.5 ท'!C17&" "&'ปร.5 ท'!E17&" "&'ปร.5 ท'!G17&" (วันที่อธิบดีเห็นชอบ)" -> 30 มิถุนายน 2563 (วันที่อธิบดีเห็นชอบ)
B22: ="เป็นเงิน "&FIXED('ปร.5 ท'!I25,2)&" บาท" -> เป็นเงิน 718,000.00 บาท
A23: 5. | B23: บัญชีประมาณการราคากลาง รายละเอียดตามไฟล์ที่แนบ
B24: ปร.๔/๑บร, ปร.๔/๑ท, ปร.๕
A25: 6. | B25: รายชื่อคณะกรรมการกำหนดราคากลาง
B26: 6.1 | C26: ='ปร.5 ท'!M35 -> นางรุจิรา | D26: ='ปร.5 ท'!N35 -> กลับแป้น | E26: ='ปร.5 ท'!O35 -> รองปลัดเทศบาล | F26: ='ปร.5 ท'!Q29 -> ประธานกรรมการฯ
B27: 6.2 | C27: ='ปร.5 ท'!M34 -> นายบุญภาศ | D27: ='ปร.5 ท'!N34 -> ทองฤทธิ์นุ่น | E27: ='ปร.5 ท'!O34 -> ผู้อำนวยการกองช่าง | F27: ='ปร.5 ท'!Q30 -> กรรมการ
B28: 6.3 | C28: ='ปร.5 ท'!M33 -> นางสาวพันธุ์ทิพย์ | D28: ='ปร.5 ท'!N33 -> ทองเดช | E28: ='ปร.5 ท'!O33 -> นายช่างเขียนแบบ อาวุโส | F28: ='ปร.5 ท'!Q31 -> กรรมการ

Sheet ปก
A9: ปีงบประมาณ 2560
A11: ประมาณราคางานก่อสร้าง
A13: ="โครงการ"&'ปร.5 ท'!C4 -> โครงการบำรุงรักษาระบบโครงข่ายทาง
A15: ซ่อมสร้างผิวทางพาราแอสฟัลท์ติกคอนกรีต
A17: ="รหัสสายทาง "&'ปร.5 ท'!C5 -> รหัสสายทาง
A19: ='ปร.5 ท'!D5 -> 0
A21: ='ปร.5 ท'!C6 -> ตำบลควนขนุน อำเภอควนขนุน จังหวัดพัทลุง
A23: จำนวน 1.000 แห่ง
A25: ="งบประมาณ "&FIXED('ปร.5 ท'!I25,0)&" บาท" -> งบประมาณ 718,000 บาท
A28: แขวงทางหลวงชนบทพัทลุง | I28: สำนักงานทางหลวงชนบทที่ 14 (กระบี่)
A29: กรมทางหลวงชนบท | I29: กระทรวงคมนาคม

Sheet Soil
A1: ระยะทางรวม | B1: =AC210/1000 -> 0.84 | C1: กม. | D1: SIDE SLOPE | G1: 1 | H1: : | I1: 2
D2: 1.) ชั้นวัสดุคัดเลือก หนา | H2: = | I2: 0
D3: 2.) ชั้นรองพื้นทาง หนา | H3: = | I3: 0.2
D4: 3.) ชั้นพื้นทาง หนา | H4: = | I4: 0.15
A5: ='ปร.5 ท'!C6 -> ตำบลควนขนุน อำเภอควนขนุน จังหวัดพัทลุง
A6: ปริมาณงาน ดินตัด, ดินถม, งานกรุงทางถางป่าขุดตอ, งานปรับเกลี่ยแต่งและบดอัดคันทางเดิม,งานรองพื้นทาง, งานพื้นทาง, งานPrime Coat, งานผิวทาง, งานไหล่ทาง | AC6: CHECK
A7: STA. | B7: ระยะ | C7: Cut | D7: Fill | E7: Cut | F7: Fill | G7: ผิวทางกว้าง | H7: ไหล่ทางกว้าง | I7: รวมผิว+ไหล่ทาง | J7: งานชั้นวัสดุคัดเลือก | N7: งานรองพื้นทาง | R7: งานถางป่ากรุยทาง | S7: งานปรับเกลียแต่งและบดอัดคันทางเดิม | T7: งานวัสดุคัดเลือก | U7: งานรองพื้นทางลูกรัง | V7: งานชั้นพื้นทาง | Z7: งานชั้นพื้นทาง | AA7: งานผิวทาง | AB7: งานไหล่ทาง
B8: ม. | C8: ตร.ม. | D8: ตร.ม. | E8: ลบ.ม. | F8: ลบ.ม. | G8: ม. | H8: ข้างละ ม. | I8: ม. | J8: ผิวบน | K8: ผิวล่าง | L8: เฉลี่ย | M8: พท. | N8: ผิวบน | O8: ผิวล่าง | P8: เฉลี่ย | Q8: พท. | R8: ตร.ม. | S8: ตร.ม. | T8: ลบ.ม. | U8: ลบ.ม. | V8: ผิวบน | W8: ผิวล่าง | X8: เฉลี่ย | Y8: พท. | Z8: ลบ.ม. | AA8: ตร.ม. | AB8: ตร.ม.
A9: 0 | B9: 25 | E9: 0 | F9: 0 | G9: =ปร.4_1!I5 -> 5 | H9: =ปร.4_1!I6 -> 0 | I9: =+G9+2*H9 -> 5 | J9: =IF(I9=0,0,I9+2*($I$3+I$4)/(1/$I$1)) -> 6.4 | K9: =IF(I9=0,0,I9+2*($I$2+$I$3+$I$4)/(1/$I$1)) -> 6.4 | L9: =(J9+K9)/2 -> 6.4 | M9: =L9*$I$2 -> 0 | N9: =IF(I9=0,0,I9+2*$I$4/(1/$I$1)) -> 5.6 | O9: =IF(I9=0,0,I9+2*($I$3+$I$4)/(1/$I$1)) -> 6.4 | P9: =+(N9+O9)/2 -> 6 | Q9: =+P9*$I$3 -> 1.2 | U9: 0 | V9: =+I9 -> 5 | W9: =N9 -> 5.6 | X9: =+(V9+W9)/2 -> 5.3 | Y9: =+X9*$I$4 -> 0.795 | Z9: 0 | AA9: 0 | AB9: 0
A10: =A9+B10 -> 25 | B10: =B9 -> 25 | E10: =(C9+C10)/2*B10 -> 0 | F10: =+(D9+D10)/2*B10 -> 0 | G10: =G9 -> 5 | H10: =H9 -> 0 | I10: =+G10+2*H10 -> 5 | J10: =IF(I10=0,0,I10+2*($I$3+I$4)/(1/$I$1)) -> 6.4 | K10: =IF(I10=0,0,I10+2*($I$2+$I$3+$I$4)/(1/$I$1)) -> 6.4 | L10: =(J10+K10)/2 -> 6.4 | M10: =L10*$I$2 -> 0 | N10: =IF(I10=0,0,I10+2*$I$4/(1/$I$1)) -> 5.6 | O10: =IF(I10=0,0,I10+2*($I$3+$I$4)/(1/$I$1)) -> 6.4 | P10: =+(N10+O10)/2 -> 6 | Q10: =+P10*$I$3 -> 1.2 | R10: =(2*ปร.4_1!$W$12)*B10 -> 100 | S10: =ปร.4_1!$Z$13*Soil!B10 -> 125 | T10: =IF(G10=0,0,(M10+M9)/2*B10) -> 0 | U10: =IF(G10=0,0,(Q10+Q9)/2*B10) -> 30 | V10: =+I10 -> 5 | W10: =N10 -> 5.6 | X10: =+(V10+W10)/2 -> 5.3 | Y10: =+X10*$I$4 -> 0.795 | Z10: =IF(G10=0,0,(Y10+Y9)/2*B10) -> 19.875 | AA10: =IF(G10=0,0,(G9+G10)/2*B10) -> 125 | AB10: =IF(G10=0,0,(2*H9+2*H10)/2*B10) -> 0 | AC10: =IF(G10>0,B10,0) -> 25
A11: =A10+B11 -> 50 | B11: =B10 -> 25 | E11: =(C10+C11)/2*B11 -> 0 | F11: =+(D10+D11)/2*B11 -> 0 | G11: =G10 -> 5 | H11: =H10 -> 0 | I11: =+G11+2*H11 -> 5 | J11: =IF(I11=0,0,I11+2*($I$3+I$4)/(1/$I$1)) -> 6.4 | K11: =IF(I11=0,0,I11+2*($I$2+$I$3+$I$4)/(1/$I$1)) -> 6.4 | L11: =(J11+K11)/2 -> 6.4 | M11: =L11*$I$2 -> 0 | N11: =IF(I11=0,0,I11+2*$I$4/(1/$I$1)) -> 5.6 | O11: =IF(I11=0,0,I11+2*($I$3+$I$4)/(1/$I$1)) -> 6.4 | P11: =+(N11+O11)/2 -> 6 | Q11: =+P11*$I$3 -> 1.2 | R11: =(2*ปร.4_1!$W$12)*B11 -> 100 | S11: =ปร.4_1!$Z$13*Soil!B11 -> 125 | T11: =IF(G11=0,0,(M11+M10)/2*B11) -> 0 | U11: =IF(G11=0,0,(Q11+Q10)/2*B11) -> 30 | V11: =+I11 -> 5 | W11: =N11 -> 5.6 | X11: =+(V11+W11)/2 -> 5.3 | Y11: =+X11*$I$4 -> 0.795 | Z11: =IF(G11=0,0,(Y11+Y10)/2*B11) -> 19.875 | AA11: =IF(G11=0,0,(G10+G11)/2*B11) -> 125 | AB11: =IF(G11=0,0,(2*H10+2*H11)/2*B11) -> 0 | AC11: =IF(G11>0,B11,0) -> 25
A12: =A11+B12 -> 75 | B12: =B11 -> 25 | E12: =(C11+C12)/2*B12 -> 0 | F12: =+(D11+D12)/2*B12 -> 0 | G12: =G11 -> 5 | H12: =H11 -> 0 | I12: =+G12+2*H12 -> 5 | J12: =IF(I12=0,0,I12+2*($I$3+I$4)/(1/$I$1)) -> 6.4 | K12: =IF(I12=0,0,I12+2*($I$2+$I$3+$I$4)/(1/$I$1)) -> 6.4 | L12: =(J12+K12)/2 -> 6.4 | M12: =L12*$I$2 -> 0 | N12: =IF(I12=0,0,I12+2*$I$4/(1/$I$1)) -> 5.6 | O12: =IF(I12=0,0,I12+2*($I$3+$I$4)/(1/$I$1)) -> 6.4 | P12: =+(N12+O12)/2 -> 6 | Q12: =+P12*$I$3 -> 1.2 | R12: =(2*ปร.4_1!$W$12)*B12 -> 100 | S12: =ปร.4_1!$Z$13*Soil!B12 -> 125 | T12: =IF(G12=0,0,(M12+M11)/2*B12) -> 0 | U12: =IF(G12=0,0,(Q12+Q11)/2*B12) -> 30 | V12: =+I12 -> 5 | W12: =N12 -> 5.6 | X12: =+(V12+W12)/2 -> 5.3 | Y12: =+X12*$I$4 -> 0.795 | Z12: =IF(G12=0,0,(Y12+Y11)/2*B12) -> 19.875 | AA12: =IF(G12=0,0,(G11+G12)/2*B12) -> 125 | AB12: =IF(G12=0,0,(2*H11+2*H12)/2*B12) -> 0 | AC12: =IF(G12>0,B12,0) -> 25
A13: =A12+B13 -> 100 | B13: =B12 -> 25 | E13: =(C12+C13)/2*B13 -> 0 | F13: =+(D12+D13)/2*B13 -> 0 | G13: =G12 -> 5 | H13: =H12 -> 0 | I13: =+G13+2*H13 -> 5 | J13: =IF(I13=0,0,I13+2*($I$3+I$4)/(1/$I$1)) -> 6.4 | K13: =IF(I13=0,0,I13+2*($I$2+$I$3+$I$4)/(1/$I$1)) -> 6.4 | L13: =(J13+K13)/2 -> 6.4 | M13: =L13*$I$2 -> 0 | N13: =IF(I13=0,0,I13+2*$I$4/(1/$I$1)) -> 5.6 | O13: =IF(I13=0,0,I13+2*($I$3+$I$4)/(1/$I$1)) -> 6.4 | P13: =+(N13+O13)/2 -> 6 | Q13: =+P13*$I$3 -> 1.2 | R13: =(2*ปร.4_1!$W$12)*B13 -> 100 | S13: =ปร.4_1!$Z$13*Soil!B13 -> 125 | T13: =IF(G13=0,0,(M13+M12)/2*B13) -> 0 | U13: =IF(G13=0,0,(Q13+Q12)/2*B13) -> 30 | V13: =+I13 -> 5 | W13: =N13 -> 5.6 | X13: =+(V13+W13)/2 -> 5.3 | Y13: =+X13*$I$4 -> 0.795 | Z13: =IF(G13=0,0,(Y13+Y12)/2*B13) -> 19.875 | AA13: =IF(G13=0,0,(G12+G13)/2*B13) -> 125 | AB13: =IF(G13=0,0,(2*H12+2*H13)/2*B13) -> 0 | AC13: =IF(G13>0,B13,0) -> 25
A14: =A13+B14 -> 125 | B14: =B13 -> 25 | E14: =(C13+C14)/2*B14 -> 0 | F14: =+(D13+D14)/2*B14 -> 0 | G14: =G13 -> 5 | H14: =H13 -> 0 | I14: =+G14+2*H14 -> 5 | J14: =IF(I14=0,0,I14+2*($I$3+I$4)/(1/$I$1)) -> 6.4 | K14: =IF(I14=0,0,I14+2*($I$2+$I$3+$I$4)/(1/$I$1)) -> 6.4 | L14: =(J14+K14)/2 -> 6.4 | M14: =L14*$I$2 -> 0 | N14: =IF(I14=0,0,I14+2*$I$4/(1/$I$1)) -> 5.6 | O14: =IF(I14=0,0,I14+2*($I$3+$I$4)/(1/$I$1)) -> 6.4 | P14: =+(N14+O14)/2 -> 6 | Q14: =+P14*$I$3 -> 1.2 | R14: =(2*ปร.4_1!$W$12)*B14 -> 100 | S14: =ปร.4_1!$Z$13*Soil!B14 -> 125 | T14: =IF(G14=0,0,(M14+M13)/2*B14) -> 0 | U14: =IF(G14=0,0,(Q14+Q13)/2*B14) -> 30 | V14: =+I14 -> 5 | W14: =N14 -> 5.6 | X14: =+(V14+W14)/2 -> 5.3 | Y14: =+X14*$I$4 -> 0.795 | Z14: =IF(G14=0,0,(Y14+Y13)/2*B14) -> 19.875 | AA14: =IF(G14=0,0,(G13+G14)/2*B14) -> 125 | AB14: =IF(G14=0,0,(2*H13+2*H14)/2*B14) -> 0 | AC14: =IF(G14>0,B14,0) -> 25
A15: =A14+B15 -> 150 | B15: =B14 -> 25 | E15: =(C14+C15)/2*B15 -> 0 | F15: =+(D14+D15)/2*B15 -> 0 | G15: =G14 -> 5 | H15: =H14 -> 0 | I15: =+G15+2*H15 -> 5 | J15: =IF(I15=0,0,I15+2*($I$3+I$4)/(1/$I$1)) -> 6.4 | K15: =IF(I15=0,0,I15+2*($I$2+$I$3+$I$4)/(1/$I$1)) -> 6.4 | L15: =(J15+K15)/2 -> 6.4 | M15: =L15*$I$2 -> 0 | N15: =IF(I15=0,0,I15+2*$I$4/(1/$I$1)) -> 5.6 | O15: =IF(I15=0,0,I15+2*($I$3+$I$4)/(1/$I$1)) -> 6.4 | P15: =+(N15+O15)/2 -> 6 | Q15: =+P15*$I$3 -> 1.2 | R15: =(2*ปร.4_1!$W$12)*B15 -> 100 | S15: =ปร.4_1!$Z$13*Soil!B15 -> 125 | T15: =IF(G15=0,0,(M15+M14)/2*B15) -> 0 | U15: =IF(G15=0,0,(Q15+Q14)/2*B15) -> 30 | V15: =+I15 -> 5 | W15: =N15 -> 5.6 | X15: =+(V15+W15)/2 -> 5.3 | Y15: =+X15*$I$4 -> 0.795 | Z15: =IF(G15=0,0,(Y15+Y14)/2*B15) -> 19.875 | AA15: =IF(G15=0,0,(G14+G15)/2*B15) -> 125 | AB15: =IF(G15=0,0,(2*H14+2*H15)/2*B15) -> 0 | AC15: =IF(G15>0,B15,0) -> 25
A16: =A15+B16 -> 175 | B16: =B15 -> 25 | E16: =(C15+C16)/2*B16 -> 0 | F16: =+(D15+D16)/2*B16 -> 0 | G16: =G15 -> 5 | H16: =H15 -> 0 | I16: =+G16+2*H16 -> 5 | J16: =IF(I16=0,0,I16+2*($I$3+I$4)/(1/$I$1)) -> 6.4 | K16: =IF(I16=0,0,I16+2*($I$2+$I$3+$I$4)/(1/$I$1)) -> 6.4 | L16: =(J16+K16)/2 -> 6.4 | M16: =L16*$I$2 -> 0 | N16: =IF(I16=0,0,I16+2*$I$4/(1/$I$1)) -> 5.6 | O16: =IF(I16=0,0,I16+2*($I$3+$I$4)/(1/$I$1)) -> 6.4 | P16: =+(N16+O16)/2 -> 6 | Q16: =+P16*$I$3 -> 1.2 | R16: =(2*ปร.4_1!$W$12)*B16 -> 100 | S16: =ปร.4_1!$Z$13*Soil!B16 -> 125 | T16: =IF(G16=0,0,(M16+M15)/2*B16) -> 0 | U16: =IF(G16=0,0,(Q16+Q15)/2*B16) -> 30 | V16: =+I16 -> 5 | W16: =N16 -> 5.6 | X16: =+(V16+W16)/2 -> 5.3 | Y16: =+X16*$I$4 -> 0.795 | Z16: =IF(G16=0,0,(Y16+Y15)/2*B16) -> 19.875 | AA16: =IF(G16=0,0,(G15+G16)/2*B16) -> 125 | AB16: =IF(G16=0,0,(2*H15+2*H16)/2*B16) -> 0 | AC16: =IF(G16>0,B16,0) -> 25
A17: =A16+B17 -> 200 | B17: =B16 -> 25 | E17: =(C16+C17)/2*B17 -> 0 | F17: =+(D16+D17)/2*B17 -> 0 | G17: =G16 -> 5 | H17: =H16 -> 0 | I17: =+G17+2*H17 -> 5 | J17: =IF(I17=0,0,I17+2*($I$3+I$4)/(1/$I$1)) -> 6.4 | K17: =IF(I17=0,0,I17+2*($I$2+$I$3+$I$4)/(1/$I$1)) -> 6.4 | L17: =(J17+K17)/2 -> 6.4 | M17: =L17*$I$2 -> 0 | N17: =IF(I17=0,0,I17+2*$I$4/(1/$I$1)) -> 5.6 | O17: =IF(I17=0,0,I17+2*($I$3+$I$4)/(1/$I$1)) -> 6.4 | P17: =+(N17+O17)/2 -> 6 | Q17: =+P17*$I$3 -> 1.2 | R17: =(2*ปร.4_1!$W$12)*B17 -> 100 | S17: =ปร.4_1!$Z$13*Soil!B17 -> 125 | T17: =IF(G17=0,0,(M17+M16)/2*B17) -> 0 | U17: =IF(G17=0,0,(Q17+Q16)/2*B17) -> 30 | V17: =+I17 -> 5 | W17: =N17 -> 5.6 | X17: =+(V17+W17)/2 -> 5.3 | Y17: =+X17*$I$4 -> 0.795 | Z17: =IF(G17=0,0,(Y17+Y16)/2*B17) -> 19.875 | AA17: =IF(G17=0,0,(G16+G17)/2*B17) -> 125 | AB17: =IF(G17=0,0,(2*H16+2*H17)/2*B17) -> 0 | AC17: =IF(G17>0,B17,0) -> 25
A18: =A17+B18 -> 225 | B18: =B17 -> 25 | E18: =(C17+C18)/2*B18 -> 0 | F18: =+(D17+D18)/2*B18 -> 0 | G18: =G17 -> 5 | H18: =H17 -> 0 | I18: =+G18+2*H18 -> 5 | J18: =IF(I18=0,0,I18+2*($I$3+I$4)/(1/$I$1)) -> 6.4 | K18: =IF(I18=0,0,I18+2*($I$2+$I$3+$I$4)/(1/$I$1)) -> 6.4 | L18: =(J18+K18)/2 -> 6.4 | M18: =L18*$I$2 -> 0 | N18: =IF(I18=0,0,I18+2*$I$4/(1/$I$1)) -> 5.6 | O18: =IF(I18=0,0,I18+2*($I$3+$I$4)/(1/$I$1)) -> 6.4 | P18: =+(N18+O18)/2 -> 6 | Q18: =+P18*$I$3 -> 1.2 | R18: =(2*ปร.4_1!$W$12)*B18 -> 100 | S18: =ปร.4_1!$Z$13*Soil!B18 -> 125 | T18: =IF(G18=0,0,(M18+M17)/2*B18) -> 0 | U18: =IF(G18=0,0,(Q18+Q17)/2*B18) -> 30 | V18: =+I18 -> 5 | W18: =N18 -> 5.6 | X18: =+(V18+W18)/2 -> 5.3 | Y18: =+X18*$I$4 -> 0.795 | Z18: =IF(G18=0,0,(Y18+Y17)/2*B18) -> 19.875 | AA18: =IF(G18=0,0,(G17+G18)/2*B18) -> 125 | AB18: =IF(G18=0,0,(2*H17+2*H18)/2*B18) -> 0 | AC18: =IF(G18>0,B18,0) -> 25
A19: =A18+B19 -> 250 | B19: =B18 -> 25 | E19: =(C18+C19)/2*B19 -> 0 | F19: =+(D18+D19)/2*B19 -> 0 | G19: =G18 -> 5 | H19: =H18 -> 0 | I19: =+G19+2*H19 -> 5 | J19: =IF(I19=0,0,I19+2*($I$3+I$4)/(1/$I$1)) -> 6.4 | K19: =IF(I19=0,0,I19+2*($I$2+$I$3+$I$4)/(1/$I$1)) -> 6.4 | L19: =(J19+K19)/2 -> 6.4 | M19: =L19*$I$2 -> 0 | N19: =IF(I19=0,0,I19+2*$I$4/(1/$I$1)) -> 5.6 | O19: =IF(I19=0,0,I19+2*($I$3+$I$4)/(1/$I$1)) -> 6.4 | P19: =+(N19+O19)/2 -> 6 | Q19: =+P19*$I$3 -> 1.2 | R19: =(2*ปร.4_1!$W$12)*B19 -> 100 | S19: =ปร.4_1!$Z$13*Soil!B19 -> 125 | T19: =IF(G19=0,0,(M19+M18)/2*B19) -> 0 | U19: =IF(G19=0,0,(Q19+Q18)/2*B19) -> 30 | V19: =+I19 -> 5 | W19: =N19 -> 5.6 | X19: =+(V19+W19)/2 -> 5.3 | Y19: =+X19*$I$4 -> 0.795 | Z19: =IF(G19=0,0,(Y19+Y18)/2*B19) -> 19.875 | AA19: =IF(G19=0,0,(G18+G19)/2*B19) -> 125 | AB19: =IF(G19=0,0,(2*H18+2*H19)/2*B19) -> 0 | AC19: =IF(G19>0,B19,0) -> 25
A20: =A19+B20 -> 275 | B20: =B19 -> 25 | E20: =(C19+C20)/2*B20 -> 0 | F20: =+(D19+D20)/2*B20 -> 0 | G20: =G19 -> 5 | H20: =H19 -> 0 | I20: =+G20+2*H20 -> 5 | J20: =IF(I20=0,0,I20+2*($I$3+I$4)/(1/$I$1)) -> 6.4 | K20: =IF(I20=0,0,I20+2*($I$2+$I$3+$I$4)/(1/$I$1)) -> 6.4 | L20: =(J20+K20)/2 -> 6.4 | M20: =L20*$I$2 -> 0 | N20: =IF(I20=0,0,I20+2*$I$4/(1/$I$1)) -> 5.6 | O20: =IF(I20=0,0,I20+2*($I$3+$I$4)/(1/$I$1)) -> 6.4 | P20: =+(N20+O20)/2 -> 6 | Q20: =+P20*$I$3 -> 1.2 | R20: =(2*ปร.4_1!$W$12)*B20 -> 100 | S20: =ปร.4_1!$Z$13*Soil!B20 -> 125 | T20: =IF(G20=0,0,(M20+M19)/2*B20) -> 0 | U20: =IF(G20=0,0,(Q20+Q19)/2*B20) -> 30 | V20: =+I20 -> 5 | W20: =N20 -> 5.6 | X20: =+(V20+W20)/2 -> 5.3 | Y20: =+X20*$I$4 -> 0.795 | Z20: =IF(G20=0,0,(Y20+Y19)/2*B20) -> 19.875 | AA20: =IF(G20=0,0,(G19+G20)/2*B20) -> 125 | AB20: =IF(G20=0,0,(2*H19+2*H20)/2*B20) -> 0 | AC20: =IF(G20>0,B20,0) -> 25
A21: =A20+B21 -> 300 | B21: =B20 -> 25 | E21: =(C20+C21)/2*B21 -> 0 | F21: =+(D20+D21)/2*B21 -> 0 | G21: =G20 -> 5 | H21: =H20 -> 0 | I21: =+G21+2*H21 -> 5 | J21: =IF(I21=0,0,I21+2*($I$3+I$4)/(1/$I$1)) -> 6.4 | K21: =IF(I21=0,0,I21+2*($I$2+$I$3+$I$4)/(1/$I$1)) -> 6.4 | L21: =(J21+K21)/2 -> 6.4 | M21: =L21*$I$2 -> 0 | N21: =IF(I21=0,0,I21+2*$I$4/(1/$I$1)) -> 5.6 | O21: =IF(I21=0,0,I21+2*($I$3+$I$4)/(1/$I$1)) -> 6.4 | P21: =+(N21+O21)/2 -> 6 | Q21: =+P21*$I$3 -> 1.2 | R21: =(2*ปร.4_1!$W$12)*B21 -> 100 | S21: =ปร.4_1!$Z$13*Soil!B21 -> 125 | T21: =IF(G21=0,0,(M21+M20)/2*B21) -> 0 | U21: =IF(G21=0,0,(Q21+Q20)/2*B21) -> 30 | V21: =+I21 -> 5 | W21: =N21 -> 5.6 | X21: =+(V21+W21)/2 -> 5.3 | Y21: =+X21*$I$4 -> 0.795 | Z21: =IF(G21=0,0,(Y21+Y20)/2*B21) -> 19.875 | AA21: =IF(G21=0,0,(G20+G21)/2*B21) -> 125 | AB21: =IF(G21=0,0,(2*H20+2*H21)/2*B21) -> 0 | AC21: =IF(G21>0,B21,0) -> 25
A22: =A21+B22 -> 325 | B22: =B21 -> 25 | E22: =(C21+C22)/2*B22 -> 0 | F22: =+(D21+D22)/2*B22 -> 0 | G22: =G21 -> 5 | H22: =H21 -> 0 | I22: =+G22+2*H22 -> 5 | J22: =IF(I22=0,0,I22+2*($I$3+I$4)/(1/$I$1)) -> 6.4 | K22: =IF(I22=0,0,I22+2*($I$2+$I$3+$I$4)/(1/$I$1)) -> 6.4 | L22: =(J22+K22)/2 -> 6.4 | M22: =L22*$I$2 -> 0 | N22: =IF(I22=0,0,I22+2*$I$4/(1/$I$1)) -> 5.6 | O22: =IF(I22=0,0,I22+2*($I$3+$I$4)/(1/$I$1)) -> 6.4 | P22: =+(N22+O22)/2 -> 6 | Q22: =+P22*$I$3 -> 1.2 | R22: =(2*ปร.4_1!$W$12)*B22 -> 100 | S22: =ปร.4_1!$Z$13*Soil!B22 -> 125 | T22: =IF(G22=0,0,(M22+M21)/2*B22) -> 0 | U22: =IF(G22=0,0,(Q22+Q21)/2*B22) -> 30 | V22: =+I22 -> 5 | W22: =N22 -> 5.6 | X22: =+(V22+W22)/2 -> 5.3 | Y22: =+X22*$I$4 -> 0.795 | Z22: =IF(G22=0,0,(Y22+Y21)/2*B22) -> 19.875 | AA22: =IF(G22=0,0,(G21+G22)/2*B22) -> 125 | AB22: =IF(G22=0,0,(2*H21+2*H22)/2*B22) -> 0 | AC22: =IF(G22>0,B22,0) -> 25
A23: =A22+B23 -> 350 | B23: 25 | E23: =(C22+C23)/2*B23 -> 0 | F23: =+(D22+D23)/2*B23 -> 0 | G23: =G22 -> 5 | H23: =H22 -> 0 | I23: =+G23+2*H23 -> 5 | J23: =IF(I23=0,0,I23+2*($I$3+I$4)/(1/$I$1)) -> 6.4 | K23: =IF(I23=0,0,I23+2*($I$2+$I$3+$I$4)/(1/$I$1)) -> 6.4 | L23: =(J23+K23)/2 -> 6.4 | M23: =L23*$I$2 -> 0 | N23: =IF(I23=0,0,I23+2*$I$4/(1/$I$1)) -> 5.6 | O23: =IF(I23=0,0,I23+2*($I$3+$I$4)/(1/$I$1)) -> 6.4 | P23: =+(N23+O23)/2 -> 6 | Q23: =+P23*$I$3 -> 1.2 | R23: =(2*ปร.4_1!$W$12)*B23 -> 100 | S23: =ปร.4_1!$Z$13*Soil!B23 -> 125 | T23: =IF(G23=0,0,(M23+M22)/2*B23) -> 0 | U23: =IF(G23=0,0,(Q23+Q22)/2*B23) -> 30 | V23: =+I23 -> 5 | W23: =N23 -> 5.6 | X23: =+(V23+W23)/2 -> 5.3 | Y23: =+X23*$I$4 -> 0.795 | Z23: =IF(G23=0,0,(Y23+Y22)/2*B23) -> 19.875 | AA23: =IF(G23=0,0,(G22+G23)/2*B23) -> 125 | AB23: =IF(G23=0,0,(2*H22+2*H23)/2*B23) -> 0 | AC23: =IF(G23>0,B23,0) -> 25
A24: =A23+B24 -> 375 | B24: 25 | E24: =(C23+C24)/2*B24 -> 0 | F24: =+(D23+D24)/2*B24 -> 0 | G24: =G23 -> 5 | H24: =H23 -> 0 | I24: =+G24+2*H24 -> 5 | J24: =IF(I24=0,0,I24+2*($I$3+I$4)/(1/$I$1)) -> 6.4 | K24: =IF(I24=0,0,I24+2*($I$2+$I$3+$I$4)/(1/$I$1)) -> 6.4 | L24: =(J24+K24)/2 -> 6.4 | M24: =L24*$I$2 -> 0 | N24: =IF(I24=0,0,I24+2*$I$4/(1/$I$1)) -> 5.6 | O24: =IF(I24=0,0,I24+2*($I$3+$I$4)/(1/$I$1)) -> 6.4 | P24: =+(N24+O24)/2 -> 6 | Q24: =+P24*$I$3 -> 1.2 | R24: =(2*ปร.4_1!$W$12)*B24 -> 100 | S24: =ปร.4_1!$Z$13*Soil!B24 -> 125 | T24: =IF(G24=0,0,(M24+M23)/2*B24) -> 0 | U24: =IF(G24=0,0,(Q24+Q23)/2*B24) -> 30 | V24: =+I24 -> 5 | W24: =N24 -> 5.6 | X24: =+(V24+W24)/2 -> 5.3 | Y24: =+X24*$I$4 -> 0.795 | Z24: =IF(G24=0,0,(Y24+Y23)/2*B24) -> 19.875 | AA24: =IF(G24=0,0,(G23+G24)/2*B24) -> 125 | AB24: =IF(G24=0,0,(2*H23+2*H24)/2*B24) -> 0 | AC24: =IF(G24>0,B24,0) -> 25
A25: =A24+B25 -> 400 | B25: =B24 -> 25 | E25: =(C24+C25)/2*B25 -> 0 | F25: =+(D24+D25)/2*B25 -> 0 | G25: =G24 -> 5 | H25: =H24 -> 0 | I25: =+G25+2*H25 -> 5 | J25: =IF(I25=0,0,I25+2*($I$3+I$4)/(1/$I$1)) -> 6.4 | K25: =IF(I25=0,0,I25+2*($I$2+$I$3+$I$4)/(1/$I$1)) -> 6.4 | L25: =(J25+K25)/2 -> 6.4 | M25: =L25*$I$2 -> 0 | N25: =IF(I25=0,0,I25+2*$I$4/(1/$I$1)) -> 5.6 | O25: =IF(I25=0,0,I25+2*($I$3+$I$4)/(1/$I$1)) -> 6.4 | P25: =+(N25+O25)/2 -> 6 | Q25: =+P25*$I$3 -> 1.2 | R25: =(2*ปร.4_1!$W$12)*B25 -> 100 | S25: =ปร.4_1!$Z$13*Soil!B25 -> 125 | T25: =IF(G25=0,0,(M25+M24)/2*B25) -> 0 | U25: =IF(G25=0,0,(Q25+Q24)/2*B25) -> 30 | V25: =+I25 -> 5 | W25: =N25 -> 5.6 | X25: =+(V25+W25)/2 -> 5.3 | Y25: =+X25*$I$4 -> 0.795 | Z25: =IF(G25=0,0,(Y25+Y24)/2*B25) -> 19.875 | AA25: =IF(G25=0,0,(G24+G25)/2*B25) -> 125 | AB25: =IF(G25=0,0,(2*H24+2*H25)/2*B25) -> 0 | AC25: =IF(G25>0,B25,0) -> 25
A26: =A25+B26 -> 425 | B26: =B25 -> 25 | E26: =(C25+C26)/2*B26 -> 0 | F26: =+(D25+D26)/2*B26 -> 0 | G26: =G25 -> 5 | H26: =H25 -> 0 | I26: =+G26+2*H26 -> 5 | J26: =IF(I26=0,0,I26+2*($I$3+I$4)/(1/$I$1)) -> 6.4 | K26: =IF(I26=0,0,I26+2*($I$2+$I$3+$I$4)/(1/$I$1)) -> 6.4 | L26: =(J26+K26)/2 -> 6.4 | M26: =L26*$I$2 -> 0 | N26: =IF(I26=0,0,I26+2*$I$4/(1/$I$1)) -> 5.6 | O26: =IF(I26=0,0,I26+2*($I$3+$I$4)/(1/$I$1)) -> 6.4 | P26: =+(N26+O26)/2 -> 6 | Q26: =+P26*$I$3 -> 1.2 | R26: =(2*ปร.4_1!$W$12)*B26 -> 100 | S26: =ปร.4_1!$Z$13*Soil!B26 -> 125 | T26: =IF(G26=0,0,(M26+M25)/2*B26) -> 0 | U26: =IF(G26=0,0,(Q26+Q25)/2*B26) -> 30 | V26: =+I26 -> 5 | W26: =N26 -> 5.6 | X26: =+(V26+W26)/2 -> 5.3 | Y26: =+X26*$I$4 -> 0.795 | Z26: =IF(G26=0,0,(Y26+Y25)/2*B26) -> 19.875 | AA26: =IF(G26=0,0,(G25+G26)/2*B26) -> 125 | AB26: =IF(G26=0,0,(2*H25+2*H26)/2*B26) -> 0 | AC26: =IF(G26>0,B26,0) -> 25
A27: =A26+B27 -> 450 | B27: =B26 -> 25 | E27: =(C26+C27)/2*B27 -> 0 | F27: =+(D26+D27)/2*B27 -> 0 | G27: =G26 -> 5 | H27: =H26 -> 0 | I27: =+G27+2*H27 -> 5 | J27: =IF(I27=0,0,I27+2*($I$3+I$4)/(1/$I$1)) -> 6.4 | K27: =IF(I27=0,0,I27+2*($I$2+$I$3+$I$4)/(1/$I$1)) -> 6.4 | L27: =(J27+K27)/2 -> 6.4 | M27: =L27*$I$2 -> 0 | N27: =IF(I27=0,0,I27+2*$I$4/(1/$I$1)) -> 5.6 | O27: =IF(I27=0,0,I27+2*($I$3+$I$4)/(1/$I$1)) -> 6.4 | P27: =+(N27+O27)/2 -> 6 | Q27: =+P27*$I$3 -> 1.2 | R27: =(2*ปร.4_1!$W$12)*B27 -> 100 | S27: =ปร.4_1!$Z$13*Soil!B27 -> 125 | T27: =IF(G27=0,0,(M27+M26)/2*B27) -> 0 | U27: =IF(G27=0,0,(Q27+Q26)/2*B27) -> 30 | V27: =+I27 -> 5 | W27: =N27 -> 5.6 | X27: =+(V27+W27)/2 -> 5.3 | Y27: =+X27*$I$4 -> 0.795 | Z27: =IF(G27=0,0,(Y27+Y26)/2*B27) -> 19.875 | AA27: =IF(G27=0,0,(G26+G27)/2*B27) -> 125 | AB27: =IF(G27=0,0,(2*H26+2*H27)/2*B27) -> 0 | AC27: =IF(G27>0,B27,0) -> 25
A28: =A27+B28 -> 475 | B28: =B27 -> 25 | E28: =(C27+C28)/2*B28 -> 0 | F28: =+(D27+D28)/2*B28 -> 0 | G28: =G27 -> 5 | H28: =H27 -> 0 | I28: =+G28+2*H28 -> 5 | J28: =IF(I28=0,0,I28+2*($I$3+I$4)/(1/$I$1)) -> 6.4 | K28: =IF(I28=0,0,I28+2*($I$2+$I$3+$I$4)/(1/$I$1)) -> 6.4 | L28: =(J28+K28)/2 -> 6.4 | M28: =L28*$I$2 -> 0 | N28: =IF(I28=0,0,I28+2*$I$4/(1/$I$1)) -> 5.6 | O28: =IF(I28=0,0,I28+2*($I$3+$I$4)/(1/$I$1)) -> 6.4 | P28: =+(N28+O28)/2 -> 6 | Q28: =+P28*$I$3 -> 1.2 | R28: =(2*ปร.4_1!$W$12)*B28 -> 100 | S28: =ปร.4_1!$Z$13*Soil!B28 -> 125 | T28: =IF(G28=0,0,(M28+M27)/2*B28) -> 0 | U28: =IF(G28=0,0,(Q28+Q27)/2*B28) -> 30 | V28: =+I28 -> 5 | W28: =N28 -> 5.6 | X28: =+(V28+W28)/2 -> 5.3 | Y28: =+X28*$I$4 -> 0.795 | Z28: =IF(G28=0,0,(Y28+Y27)/2*B28) -> 19.875 | AA28: =IF(G28=0,0,(G27+G28)/2*B28) -> 125 | AB28: =IF(G28=0,0,(2*H27+2*H28)/2*B28) -> 0 | AC28: =IF(G28>0,B28,0) -> 25
A29: =A28+B29 -> 500 | B29: =B28 -> 25 | E29: =(C28+C29)/2*B29 -> 0 | F29: =+(D28+D29)/2*B29 -> 0 | G29: =G28 -> 5 | H29: =H28 -> 0 | I29: =+G29+2*H29 -> 5 | J29: =IF(I29=0,0,I29+2*($I$3+I$4)/(1/$I$1)) -> 6.4 | K29: =IF(I29=0,0,I29+2*($I$2+$I$3+$I$4)/(1/$I$1)) -> 6.4 | L29: =(J29+K29)/2 -> 6.4 | M29: =L29*$I$2 -> 0 | N29: =IF(I29=0,0,I29+2*$I$4/(1/$I$1)) -> 5.6 | O29: =IF(I29=0,0,I29+2*($I$3+$I$4)/(1/$I$1)) -> 6.4 | P29: =+(N29+O29)/2 -> 6 | Q29: =+P29*$I$3 -> 1.2 | R29: =(2*ปร.4_1!$W$12)*B29 -> 100 | S29: =ปร.4_1!$Z$13*Soil!B29 -> 125 | T29: =IF(G29=0,0,(M29+M28)/2*B29) -> 0 | U29: =IF(G29=0,0,(Q29+Q28)/2*B29) -> 30 | V29: =+I29 -> 5 | W29: =N29 -> 5.6 | X29: =+(V29+W29)/2 -> 5.3 | Y29: =+X29*$I$4 -> 0.795 | Z29: =IF(G29=0,0,(Y29+Y28)/2*B29) -> 19.875 | AA29: =IF(G29=0,0,(G28+G29)/2*B29) -> 125 | AB29: =IF(G29=0,0,(2*H28+2*H29)/2*B29) -> 0 | AC29: =IF(G29>0,B29,0) -> 25
A30: =A29+B30 -> 525 | B30: =B29 -> 25 | E30: =(C29+C30)/2*B30 -> 0 | F30: =+(D29+D30)/2*B30 -> 0 | G30: =G29 -> 5 | H30: =H29 -> 0 | I30: =+G30+2*H30 -> 5 | J30: =IF(I30=0,0,I30+2*($I$3+I$4)/(1/$I$1)) -> 6.4 | K30: =IF(I30=0,0,I30+2*($I$2+$I$3+$I$4)/(1/$I$1)) -> 6.4 | L30: =(J30+K30)/2 -> 6.4 | M30: =L30*$I$2 -> 0 | N30: =IF(I30=0,0,I30+2*$I$4/(1/$I$1)) -> 5.6 | O30: =IF(I30=0,0,I30+2*($I$3+$I$4)/(1/$I$1)) -> 6.4 | P30: =+(N30+O30)/2 -> 6 | Q30: =+P30*$I$3 -> 1.2 | R30: =(2*ปร.4_1!$W$12)*B30 -> 100 | S30: =ปร.4_1!$Z$13*Soil!B30 -> 125 | T30: =IF(G30=0,0,(M30+M29)/2*B30) -> 0 | U30: =IF(G30=0,0,(Q30+Q29)/2*B30) -> 30 | V30: =+I30 -> 5 | W30: =N30 -> 5.6 | X30: =+(V30+W30)/2 -> 5.3 | Y30: =+X30*$I$4 -> 0.795 | Z30: =IF(G30=0,0,(Y30+Y29)/2*B30) -> 19.875 | AA30: =IF(G30=0,0,(G29+G30)/2*B30) -> 125 | AB30: =IF(G30=0,0,(2*H29+2*H30)/2*B30) -> 0 | AC30: =IF(G30>0,B30,0) -> 25
A31: =A30+B31 -> 550 | B31: =B30 -> 25 | E31: =(C30+C31)/2*B31 -> 0 | F31: =+(D30+D31)/2*B31 -> 0 | G31: =G30 -> 5 | H31: =H30 -> 0 | I31: =+G31+2*H31 -> 5 | J31: =IF(I31=0,0,I31+2*($I$3+I$4)/(1/$I$1)) -> 6.4 | K31: =IF(I31=0,0,I31+2*($I$2+$I$3+$I$4)/(1/$I$1)) -> 6.4 | L31: =(J31+K31)/2 -> 6.4 | M31: =L31*$I$2 -> 0 | N31: =IF(I31=0,0,I31+2*$I$4/(1/$I$1)) -> 5.6 | O31: =IF(I31=0,0,I31+2*($I$3+$I$4)/(1/$I$1)) -> 6.4 | P31: =+(N31+O31)/2 -> 6 | Q31: =+P31*$I$3 -> 1.2 | R31: =(2*ปร.4_1!$W$12)*B31 -> 100 | S31: =ปร.4_1!$Z$13*Soil!B31 -> 125 | T31: =IF(G31=0,0,(M31+M30)/2*B31) -> 0 | U31: =IF(G31=0,0,(Q31+Q30)/2*B31) -> 30 | V31: =+I31 -> 5 | W31: =N31 -> 5.6 | X31: =+(V31+W31)/2 -> 5.3 | Y31: =+X31*$I$4 -> 0.795 | Z31: =IF(G31=0,0,(Y31+Y30)/2*B31) -> 19.875 | AA31: =IF(G31=0,0,(G30+G31)/2*B31) -> 125 | AB31: =IF(G31=0,0,(2*H30+2*H31)/2*B31) -> 0 | AC31: =IF(G31>0,B31,0) -> 25
A32: =A31+B32 -> 575 | B32: =B31 -> 25 | E32: =(C31+C32)/2*B32 -> 0 | F32: =+(D31+D32)/2*B32 -> 0 | G32: =G31 -> 5 | H32: =H31 -> 0 | I32: =+G32+2*H32 -> 5 | J32: =IF(I32=0,0,I32+2*($I$3+I$4)/(1/$I$1)) -> 6.4 | K32: =IF(I32=0,0,I32+2*($I$2+$I$3+$I$4)/(1/$I$1)) -> 6.4 | L32: =(J32+K32)/2 -> 6.4 | M32: =L32*$I$2 -> 0 | N32: =IF(I32=0,0,I32+2*$I$4/(1/$I$1)) -> 5.6 | O32: =IF(I32=0,0,I32+2*($I$3+$I$4)/(1/$I$1)) -> 6.4 | P32: =+(N32+O32)/2 -> 6 | Q32: =+P32*$I$3 -> 1.2 | R32: =(2*ปร.4_1!$W$12)*B32 -> 100 | S32: =ปร.4_1!$Z$13*Soil!B32 -> 125 | T32: =IF(G32=0,0,(M32+M31)/2*B32) -> 0 | U32: =IF(G32=0,0,(Q32+Q31)/2*B32) -> 30 | V32: =+I32 -> 5 | W32: =N32 -> 5.6 | X32: =+(V32+W32)/2 -> 5.3 | Y32: =+X32*$I$4 -> 0.795 | Z32: =IF(G32=0,0,(Y32+Y31)/2*B32) -> 19.875 | AA32: =IF(G32=0,0,(G31+G32)/2*B32) -> 125 | AB32: =IF(G32=0,0,(2*H31+2*H32)/2*B32) -> 0 | AC32: =IF(G32>0,B32,0) -> 25
A33: =A32+B33 -> 600 | B33: =B32 -> 25 | E33: =(C32+C33)/2*B33 -> 0 | F33: =+(D32+D33)/2*B33 -> 0 | G33: =G32 -> 5 | H33: =H32 -> 0 | I33: =+G33+2*H33 -> 5 | J33: =IF(I33=0,0,I33+2*($I$3+I$4)/(1/$I$1)) -> 6.4 | K33: =IF(I33=0,0,I33+2*($I$2+$I$3+$I$4)/(1/$I$1)) -> 6.4 | L33: =(J33+K33)/2 -> 6.4 | M33: =L33*$I$2 -> 0 | N33: =IF(I33=0,0,I33+2*$I$4/(1/$I$1)) -> 5.6 | O33: =IF(I33=0,0,I33+2*($I$3+$I$4)/(1/$I$1)) -> 6.4 | P33: =+(N33+O33)/2 -> 6 | Q33: =+P33*$I$3 -> 1.2 | R33: =(2*ปร.4_1!$W$12)*B33 -> 100 | S33: =ปร.4_1!$Z$13*Soil!B33 -> 125 | T33: =IF(G33=0,0,(M33+M32)/2*B33) -> 0 | U33: =IF(G33=0,0,(Q33+Q32)/2*B33) -> 30 | V33: =+I33 -> 5 | W33: =N33 -> 5.6 | X33: =+(V33+W33)/2 -> 5.3 | Y33: =+X33*$I$4 -> 0.795 | Z33: =IF(G33=0,0,(Y33+Y32)/2*B33) -> 19.875 | AA33: =IF(G33=0,0,(G32+G33)/2*B33) -> 125 | AB33: =IF(G33=0,0,(2*H32+2*H33)/2*B33) -> 0 | AC33: =IF(G33>0,B33,0) -> 25
A34: =A33+B34 -> 625 | B34: =B33 -> 25 | E34: =(C33+C34)/2*B34 -> 0 | F34: =+(D33+D34)/2*B34 -> 0 | G34: =G33 -> 5 | H34: =H33 -> 0 | I34: =+G34+2*H34 -> 5 | J34: =IF(I34=0,0,I34+2*($I$3+I$4)/(1/$I$1)) -> 6.4 | K34: =IF(I34=0,0,I34+2*($I$2+$I$3+$I$4)/(1/$I$1)) -> 6.4 | L34: =(J34+K34)/2 -> 6.4 | M34: =L34*$I$2 -> 0 | N34: =IF(I34=0,0,I34+2*$I$4/(1/$I$1)) -> 5.6 | O34: =IF(I34=0,0,I34+2*($I$3+$I$4)/(1/$I$1)) -> 6.4 | P34: =+(N34+O34)/2 -> 6 | Q34: =+P34*$I$3 -> 1.2 | R34: =(2*ปร.4_1!$W$12)*B34 -> 100 | S34: =ปร.4_1!$Z$13*Soil!B34 -> 125 | T34: =IF(G34=0,0,(M34+M33)/2*B34) -> 0 | U34: =IF(G34=0,0,(Q34+Q33)/2*B34) -> 30 | V34: =+I34 -> 5 | W34: =N34 -> 5.6 | X34: =+(V34+W34)/2 -> 5.3 | Y34: =+X34*$I$4 -> 0.795 | Z34: =IF(G34=0,0,(Y34+Y33)/2*B34) -> 19.875 | AA34: =IF(G34=0,0,(G33+G34)/2*B34) -> 125 | AB34: =IF(G34=0,0,(2*H33+2*H34)/2*B34) -> 0 | AC34: =IF(G34>0,B34,0) -> 25
A35: =A34+B35 -> 650 | B35: =B34 -> 25 | E35: =(C34+C35)/2*B35 -> 0 | F35: =+(D34+D35)/2*B35 -> 0 | G35: =G34 -> 5 | H35: =H34 -> 0 | I35: =+G35+2*H35 -> 5 | J35: =IF(I35=0,0,I35+2*($I$3+I$4)/(1/$I$1)) -> 6.4 | K35: =IF(I35=0,0,I35+2*($I$2+$I$3+$I$4)/(1/$I$1)) -> 6.4 | L35: =(J35+K35)/2 -> 6.4 | M35: =L35*$I$2 -> 0 | N35: =IF(I35=0,0,I35+2*$I$4/(1/$I$1)) -> 5.6 | O35: =IF(I35=0,0,I35+2*($I$3+$I$4)/(1/$I$1)) -> 6.4 | P35: =+(N35+O35)/2 -> 6 | Q35: =+P35*$I$3 -> 1.2 | R35: =(2*ปร.4_1!$W$12)*B35 -> 100 | S35: =ปร.4_1!$Z$13*Soil!B35 -> 125 | T35: =IF(G35=0,0,(M35+M34)/2*B35) -> 0 | U35: =IF(G35=0,0,(Q35+Q34)/2*B35) -> 30 | V35: =+I35 -> 5 | W35: =N35 -> 5.6 | X35: =+(V35+W35)/2 -> 5.3 | Y35: =+X35*$I$4 -> 0.795 | Z35: =IF(G35=0,0,(Y35+Y34)/2*B35) -> 19.875 | AA35: =IF(G35=0,0,(G34+G35)/2*B35) -> 125 | AB35: =IF(G35=0,0,(2*H34+2*H35)/2*B35) -> 0 | AC35: =IF(G35>0,B35,0) -> 25
A36: =A35+B36 -> 675 | B36: =B35 -> 25 | E36: =(C35+C36)/2*B36 -> 0 | F36: =+(D35+D36)/2*B36 -> 0 | G36: =G35 -> 5 | H36: =H35 -> 0 | I36: =+G36+2*H36 -> 5 | J36: =IF(I36=0,0,I36+2*($I$3+I$4)/(1/$I$1)) -> 6.4 | K36: =IF(I36=0,0,I36+2*($I$2+$I$3+$I$4)/(1/$I$1)) -> 6.4 | L36: =(J36+K36)/2 -> 6.4 | M36: =L36*$I$2 -> 0 | N36: =IF(I36=0,0,I36+2*$I$4/(1/$I$1)) -> 5.6 | O36: =IF(I36=0,0,I36+2*($I$3+$I$4)/(1/$I$1)) -> 6.4 | P36: =+(N36+O36)/2 -> 6 | Q36: =+P36*$I$3 -> 1.2 | R36: =(2*ปร.4_1!$W$12)*B36 -> 100 | S36: =ปร.4_1!$Z$13*Soil!B36 -> 125 | T36: =IF(G36=0,0,(M36+M35)/2*B36) -> 0 | U36: =IF(G36=0,0,(Q36+Q35)/2*B36) -> 30 | V36: =+I36 -> 5 | W36: =N36 -> 5.6 | X36: =+(V36+W36)/2 -> 5.3 | Y36: =+X36*$I$4 -> 0.795 | Z36: =IF(G36=0,0,(Y36+Y35)/2*B36) -> 19.875 | AA36: =IF(G36=0,0,(G35+G36)/2*B36) -> 125 | AB36: =IF(G36=0,0,(2*H35+2*H36)/2*B36) -> 0 | AC36: =IF(G36>0,B36,0) -> 25
... A38: =A37+B38 -> 725 | B38: =B37 -> 25 | E38: =(C37+C38)/2*B38 -> 0 | F38: =+(D37+D38)/2*B38 -> 0 | G38: =G37 -> 5 | H38: =H37 -> 0 | I38: =+G38+2*H38 -> 5 | J38: =IF(I38=0,0,I38+2*($I$3+I$4)/(1/$I$1)) -> 6.4 | K38: =IF(I38=0,0,I38+2*($I$2+$I$3+$I$4)/(1/$I$1)) -> 6.4 | L38: =(J38+K38)/2 -> 6.4 | M38: =L38*$I$2 -> 0 | N38: =IF(I38=0,0,I38+2*$I$4/(1/$I$1)) -> 5.6 | O38: =IF(I38=0,0,I38+2*($I$3+$I$4)/(1/$I$1)) -> 6.4 | P38: =+(N38+O38)/2 -> 6 | Q38: =+P38*$I$3 -> 1.2 | R38: =(2*ปร.4_1!$W$12)*B38 -> 100 | S38: =ปร.4_1!$Z$13*Soil!B38 -> 125 | T38: =IF(G38=0,0,(M38+M37)/2*B38) -> 0 | U38: =IF(G38=0,0,(Q38+Q37)/2*B38) -> 30 | V38: =+I38 -> 5 | W38: =N38 -> 5.6 | X38: =+(V38+W38)/2 -> 5.3 | Y38: =+X38*$I$4 -> 0.795 | Z38: =IF(G38=0,0,(Y38+Y37)/2*B38) -> 19.875 | AA38: =IF(G38=0,0,(G37+G38)/2*B38) -> 125 | AB38: =IF(G38=0,0,(2*H37+2*H38)/2*B38) -> 0 | AC38: =IF(G38>0,B38,0) -> 25
A39: =A38+B39 -> 750 | B39: 25 | E39: =(C38+C39)/2*B39 -> 0 | F39: =+(D38+D39)/2*B39 -> 0 | G39: =G38 -> 5 | H39: =H38 -> 0 | I39: =+G39+2*H39 -> 5 | J39: =IF(I39=0,0,I39+2*($I$3+I$4)/(1/$I$1)) -> 6.4 | K39: =IF(I39=0,0,I39+2*($I$2+$I$3+$I$4)/(1/$I$1)) -> 6.4 | L39: =(J39+K39)/2 -> 6.4 | M39: =L39*$I$2 -> 0 | N39: =IF(I39=0,0,I39+2*$I$4/(1/$I$1)) -> 5.6 | O39: =IF(I39=0,0,I39+2*($I$3+$I$4)/(1/$I$1)) -> 6.4 | P39: =+(N39+O39)/2 -> 6 | Q39: =+P39*$I$3 -> 1.2 | R39: =(2*ปร.4_1!$W$12)*B39 -> 100 | S39: =ปร.4_1!$Z$13*Soil!B39 -> 125 | T39: =IF(G39=0,0,(M39+M38)/2*B39) -> 0 | U39: =IF(G39=0,0,(Q39+Q38)/2*B39) -> 30 | V39: =+I39 -> 5 | W39: =N39 -> 5.6 | X39: =+(V39+W39)/2 -> 5.3 | Y39: =+X39*$I$4 -> 0.795 | Z39: =IF(G39=0,0,(Y39+Y38)/2*B39) -> 19.875 | AA39: =IF(G39=0,0,(G38+G39)/2*B39) -> 125 | AB39: =IF(G39=0,0,(2*H38+2*H39)/2*B39) -> 0 | AC39: =IF(G39>0,B39,0) -> 25
A40: =A39+B40 -> 775 | B40: 25 | E40: =(C39+C40)/2*B40 -> 0 | F40: =+(D39+D40)/2*B40 -> 0 | G40: =G39 -> 5 | H40: =H39 -> 0 | I40: =+G40+2*H40 -> 5 | J40: =IF(I40=0,0,I40+2*($I$3+I$4)/(1/$I$1)) -> 6.4 | K40: =IF(I40=0,0,I40+2*($I$2+$I$3+$I$4)/(1/$I$1)) -> 6.4 | L40: =(J40+K40)/2 -> 6.4 | M40: =L40*$I$2 -> 0 | N40: =IF(I40=0,0,I40+2*$I$4/(1/$I$1)) -> 5.6 | O40: =IF(I40=0,0,I40+2*($I$3+$I$4)/(1/$I$1)) -> 6.4 | P40: =+(N40+O40)/2 -> 6 | Q40: =+P40*$I$3 -> 1.2 | R40: =(2*ปร.4_1!$W$12)*B40 -> 100 | S40: =ปร.4_1!$Z$13*Soil!B40 -> 125 | T40: =IF(G40=0,0,(M40+M39)/2*B40) -> 0 | U40: =IF(G40=0,0,(Q40+Q39)/2*B40) -> 30 | V40: =+I40 -> 5 | W40: =N40 -> 5.6 | X40: =+(V40+W40)/2 -> 5.3 | Y40: =+X40*$I$4 -> 0.795 | Z40: =IF(G40=0,0,(Y40+Y39)/2*B40) -> 19.875 | AA40: =IF(G40=0,0,(G39+G40)/2*B40) -> 125 | AB40: =IF(G40=0,0,(2*H39+2*H40)/2*B40) -> 0 | AC40: =IF(G40>0,B40,0) -> 25
A41: =A40+B41 -> 800 | B41: 25 | E41: =(C40+C41)/2*B41 -> 0 | F41: =+(D40+D41)/2*B41 -> 0 | G41: =G40 -> 5 | H41: =H40 -> 0 | I41: =+G41+2*H41 -> 5 | J41: =IF(I41=0,0,I41+2*($I$3+I$4)/(1/$I$1)) -> 6.4 | K41: =IF(I41=0,0,I41+2*($I$2+$I$3+$I$4)/(1/$I$1)) -> 6.4 | L41: =(J41+K41)/2 -> 6.4 | M41: =L41*$I$2 -> 0 | N41: =IF(I41=0,0,I41+2*$I$4/(1/$I$1)) -> 5.6 | O41: =IF(I41=0,0,I41+2*($I$3+$I$4)/(1/$I$1)) -> 6.4 | P41: =+(N41+O41)/2 -> 6 | Q41: =+P41*$I$3 -> 1.2 | R41: =(2*ปร.4_1!$W$12)*B41 -> 100 | S41: =ปร.4_1!$Z$13*Soil!B41 -> 125 | T41: =IF(G41=0,0,(M41+M40)/2*B41) -> 0 | U41: =IF(G41=0,0,(Q41+Q40)/2*B41) -> 30 | V41: =+I41 -> 5 | W41: =N41 -> 5.6 | X41: =+(V41+W41)/2 -> 5.3 | Y41: =+X41*$I$4 -> 0.795 | Z41: =IF(G41=0,0,(Y41+Y40)/2*B41) -> 19.875 | AA41: =IF(G41=0,0,(G40+G41)/2*B41) -> 125 | AB41: =IF(G41=0,0,(2*H40+2*H41)/2*B41) -> 0 | AC41: =IF(G41>0,B41,0) -> 25
A42: =A41+B42 -> 825 | B42: 25 | E42: =(C41+C42)/2*B42 -> 0 | F42: =+(D41+D42)/2*B42 -> 0 | G42: =G41 -> 5 | H42: =H41 -> 0 | I42: =+G42+2*H42 -> 5 | J42: =IF(I42=0,0,I42+2*($I$3+I$4)/(1/$I$1)) -> 6.4 | K42: =IF(I42=0,0,I42+2*($I$2+$I$3+$I$4)/(1/$I$1)) -> 6.4 | L42: =(J42+K42)/2 -> 6.4 | M42: =L42*$I$2 -> 0 | N42: =IF(I42=0,0,I42+2*$I$4/(1/$I$1)) -> 5.6 | O42: =IF(I42=0,0,I42+2*($I$3+$I$4)/(1/$I$1)) -> 6.4 | P42: =+(N42+O42)/2 -> 6 | Q42: =+P42*$I$3 -> 1.2 | R42: =(2*ปร.4_1!$W$12)*B42 -> 100 | S42: =ปร.4_1!$Z$13*Soil!B42 -> 125 | T42: =IF(G42=0,0,(M42+M41)/2*B42) -> 0 | U42: =IF(G42=0,0,(Q42+Q41)/2*B42) -> 30 | V42: =+I42 -> 5 | W42: =N42 -> 5.6 | X42: =+(V42+W42)/2 -> 5.3 | Y42: =+X42*$I$4 -> 0.795 | Z42: =IF(G42=0,0,(Y42+Y41)/2*B42) -> 19.875 | AA42: =IF(G42=0,0,(G41+G42)/2*B42) -> 125 | AB42: =IF(G42=0,0,(2*H41+2*H42)/2*B42) -> 0 | AC42: =IF(G42>0,B42,0) -> 25
A43: =A42+B43 -> 840 | B43: 15 | E43: =(C42+C43)/2*B43 -> 0 | F43: =+(D42+D43)/2*B43 -> 0 | G43: =G42 -> 5 | H43: =H42 -> 0 | I43: =+G43+2*H43 -> 5 | J43: =IF(I43=0,0,I43+2*($I$3+I$4)/(1/$I$1)) -> 6.4 | K43: =IF(I43=0,0,I43+2*($I$2+$I$3+$I$4)/(1/$I$1)) -> 6.4 | L43: =(J43+K43)/2 -> 6.4 | M43: =L43*$I$2 -> 0 | N43: =IF(I43=0,0,I43+2*$I$4/(1/$I$1)) -> 5.6 | O43: =IF(I43=0,0,I43+2*($I$3+$I$4)/(1/$I$1)) -> 6.4 | P43: =+(N43+O43)/2 -> 6 | Q43: =+P43*$I$3 -> 1.2 | R43: =(2*ปร.4_1!$W$12)*B43 -> 60 | S43: =ปร.4_1!$Z$13*Soil!B43 -> 75 | T43: =IF(G43=0,0,(M43+M42)/2*B43) -> 0 | U43: =IF(G43=0,0,(Q43+Q42)/2*B43) -> 18 | V43: =+I43 -> 5 | W43: =N43 -> 5.6 | X43: =+(V43+W43)/2 -> 5.3 | Y43: =+X43*$I$4 -> 0.795 | Z43: =IF(G43=0,0,(Y43+Y42)/2*B43) -> 11.925 | AA43: =IF(G43=0,0,(G42+G43)/2*B43) -> 75 | AB43: =IF(G43=0,0,(2*H42+2*H43)/2*B43) -> 0 | AC43: =IF(G43>0,B43,0) -> 15
A44: =A43+B44 -> 840 | B44: 0 | E44: =(C43+C44)/2*B44 -> 0 | F44: =+(D43+D44)/2*B44 -> 0 | G44: =G43 -> 5 | H44: =H43 -> 0 | I44: =+G44+2*H44 -> 5 | J44: =IF(I44=0,0,I44+2*($I$3+I$4)/(1/$I$1)) -> 6.4 | K44: =IF(I44=0,0,I44+2*($I$2+$I$3+$I$4)/(1/$I$1)) -> 6.4 | L44: =(J44+K44)/2 -> 6.4 | M44: =L44*$I$2 -> 0 | N44: =IF(I44=0,0,I44+2*$I$4/(1/$I$1)) -> 5.6 | O44: =IF(I44=0,0,I44+2*($I$3+$I$4)/(1/$I$1)) -> 6.4 | P44: =+(N44+O44)/2 -> 6 | Q44: =+P44*$I$3 -> 1.2 | R44: =(2*ปร.4_1!$W$12)*B44 -> 0 | S44: =ปร.4_1!$Z$13*Soil!B44 -> 0 | T44: =IF(G44=0,0,(M44+M43)/2*B44) -> 0 | U44: =IF(G44=0,0,(Q44+Q43)/2*B44) -> 0 | V44: =+I44 -> 5 | W44: =N44 -> 5.6 | X44: =+(V44+W44)/2 -> 5.3 | Y44: =+X44*$I$4 -> 0.795 | Z44: =IF(G44=0,0,(Y44+Y43)/2*B44) -> 0 | AA44: =IF(G44=0,0,(G43+G44)/2*B44) -> 0 | AB44: =IF(G44=0,0,(2*H43+2*H44)/2*B44) -> 0 | AC44: =IF(G44>0,B44,0) -> 0
A45: =A44+B45 -> 840 | B45: 0 | E45: =(C44+C45)/2*B45 -> 0 | F45: =+(D44+D45)/2*B45 -> 0 | G45: =G44 -> 5 | H45: =H44 -> 0 | I45: =+G45+2*H45 -> 5 | J45: =IF(I45=0,0,I45+2*($I$3+I$4)/(1/$I$1)) -> 6.4 | K45: =IF(I45=0,0,I45+2*($I$2+$I$3+$I$4)/(1/$I$1)) -> 6.4 | L45: =(J45+K45)/2 -> 6.4 | M45: =L45*$I$2 -> 0 | N45: =IF(I45=0,0,I45+2*$I$4/(1/$I$1)) -> 5.6 | O45: =IF(I45=0,0,I45+2*($I$3+$I$4)/(1/$I$1)) -> 6.4 | P45: =+(N45+O45)/2 -> 6 | Q45: =+P45*$I$3 -> 1.2 | R45: =(2*ปร.4_1!$W$12)*B45 -> 0 | S45: =ปร.4_1!$Z$13*Soil!B45 -> 0 | T45: =IF(G45=0,0,(M45+M44)/2*B45) -> 0 | U45: =IF(G45=0,0,(Q45+Q44)/2*B45) -> 0 | V45: =+I45 -> 5 | W45: =N45 -> 5.6 | X45: =+(V45+W45)/2 -> 5.3 | Y45: =+X45*$I$4 -> 0.795 | Z45: =IF(G45=0,0,(Y45+Y44)/2*B45) -> 0 | AA45: =IF(G45=0,0,(G44+G45)/2*B45) -> 0 | AB45: =IF(G45=0,0,(2*H44+2*H45)/2*B45) -> 0 | AC45: =IF(G45>0,B45,0) -> 0
A46: =A45+B46 -> 840 | B46: 0 | E46: =(C45+C46)/2*B46 -> 0 | F46: =+(D45+D46)/2*B46 -> 0 | G46: =G45 -> 5 | H46: =H45 -> 0 | I46: =+G46+2*H46 -> 5 | J46: =IF(I46=0,0,I46+2*($I$3+I$4)/(1/$I$1)) -> 6.4 | K46: =IF(I46=0,0,I46+2*($I$2+$I$3+$I$4)/(1/$I$1)) -> 6.4 | L46: =(J46+K46)/2 -> 6.4 | M46: =L46*$I$2 -> 0 | N46: =IF(I46=0,0,I46+2*$I$4/(1/$I$1)) -> 5.6 | O46: =IF(I46=0,0,I46+2*($I$3+$I$4)/(1/$I$1)) -> 6.4 | P46: =+(N46+O46)/2 -> 6 | Q46: =+P46*$I$3 -> 1.2 | R46: =(2*ปร.4_1!$W$12)*B46 -> 0 | S46: =ปร.4_1!$Z$13*Soil!B46 -> 0 | T46: =IF(G46=0,0,(M46+M45)/2*B46) -> 0 | U46: =IF(G46=0,0,(Q46+Q45)/2*B46) -> 0 | V46: =+I46 -> 5 | W46: =N46 -> 5.6 | X46: =+(V46+W46)/2 -> 5.3 | Y46: =+X46*$I$4 -> 0.795 | Z46: =IF(G46=0,0,(Y46+Y45)/2*B46) -> 0 | AA46: =IF(G46=0,0,(G45+G46)/2*B46) -> 0 | AB46: =IF(G46=0,0,(2*H45+2*H46)/2*B46) -> 0 | AC46: =IF(G46>0,B46,0) -> 0
A47: =A46+B47 -> 840 | B47: 0 | E47: =(C46+C47)/2*B47 -> 0 | F47: =+(D46+D47)/2*B47 -> 0 | G47: =G46 -> 5 | H47: =H46 -> 0 | I47: =+G47+2*H47 -> 5 | J47: =IF(I47=0,0,I47+2*($I$3+I$4)/(1/$I$1)) -> 6.4 | K47: =IF(I47=0,0,I47+2*($I$2+$I$3+$I$4)/(1/$I$1)) -> 6.4 | L47: =(J47+K47)/2 -> 6.4 | M47: =L47*$I$2 -> 0 | N47: =IF(I47=0,0,I47+2*$I$4/(1/$I$1)) -> 5.6 | O47: =IF(I47=0,0,I47+2*($I$3+$I$4)/(1/$I$1)) -> 6.4 | P47: =+(N47+O47)/2 -> 6 | Q47: =+P47*$I$3 -> 1.2 | R47: =(2*ปร.4_1!$W$12)*B47 -> 0 | S47: =ปร.4_1!$Z$13*Soil!B47 -> 0 | T47: =IF(G47=0,0,(M47+M46)/2*B47) -> 0 | U47: =IF(G47=0,0,(Q47+Q46)/2*B47) -> 0 | V47: =+I47 -> 5 | W47: =N47 -> 5.6 | X47: =+(V47+W47)/2 -> 5.3 | Y47: =+X47*$I$4 -> 0.795 | Z47: =IF(G47=0,0,(Y47+Y46)/2*B47) -> 0 | AA47: =IF(G47=0,0,(G46+G47)/2*B47) -> 0 | AB47: =IF(G47=0,0,(2*H46+2*H47)/2*B47) -> 0 | AC47: =IF(G47>0,B47,0) -> 0
A48: =A47+B48 -> 840 | B48: 0 | E48: =(C47+C48)/2*B48 -> 0 | F48: =+(D47+D48)/2*B48 -> 0 | G48: =G47 -> 5 | H48: =H47 -> 0 | I48: =+G48+2*H48 -> 5 | J48: =IF(I48=0,0,I48+2*($I$3+I$4)/(1/$I$1)) -> 6.4 | K48: =IF(I48=0,0,I48+2*($I$2+$I$3+$I$4)/(1/$I$1)) -> 6.4 | L48: =(J48+K48)/2 -> 6.4 | M48: =L48*$I$2 -> 0 | N48: =IF(I48=0,0,I48+2*$I$4/(1/$I$1)) -> 5.6 | O48: =IF(I48=0,0,I48+2*($I$3+$I$4)/(1/$I$1)) -> 6.4 | P48: =+(N48+O48)/2 -> 6 | Q48: =+P48*$I$3 -> 1.2 | R48: =(2*ปร.4_1!$W$12)*B48 -> 0 | S48: =ปร.4_1!$Z$13*Soil!B48 -> 0 | T48: =IF(G48=0,0,(M48+M47)/2*B48) -> 0 | U48: =IF(G48=0,0,(Q48+Q47)/2*B48) -> 0 | V48: =+I48 -> 5 | W48: =N48 -> 5.6 | X48: =+(V48+W48)/2 -> 5.3 | Y48: =+X48*$I$4 -> 0.795 | Z48: =IF(G48=0,0,(Y48+Y47)/2*B48) -> 0 | AA48: =IF(G48=0,0,(G47+G48)/2*B48) -> 0 | AB48: =IF(G48=0,0,(2*H47+2*H48)/2*B48) -> 0 | AC48: =IF(G48>0,B48,0) -> 0
A49: =A48+B49 -> 840 | B49: 0 | E49: =(C48+C49)/2*B49 -> 0 | F49: =+(D48+D49)/2*B49 -> 0 | G49: =G48 -> 5 | H49: =H48 -> 0 | I49: =+G49+2*H49 -> 5 | J49: =IF(I49=0,0,I49+2*($I$3+I$4)/(1/$I$1)) -> 6.4 | K49: =IF(I49=0,0,I49+2*($I$2+$I$3+$I$4)/(1/$I$1)) -> 6.4 | L49: =(J49+K49)/2 -> 6.4 | M49: =L49*$I$2 -> 0 | N49: =IF(I49=0,0,I49+2*$I$4/(1/$I$1)) -> 5.6 | O49: =IF(I49=0,0,I49+2*($I$3+$I$4)/(1/$I$1)) -> 6.4 | P49: =+(N49+O49)/2 -> 6 | Q49: =+P49*$I$3 -> 1.2 | R49: =(2*ปร.4_1!$W$12)*B49 -> 0 | S49: =ปร.4_1!$Z$13*Soil!B49 -> 0 | T49: =IF(G49=0,0,(M49+M48)/2*B49) -> 0 | U49: =IF(G49=0,0,(Q49+Q48)/2*B49) -> 0 | V49: =+I49 -> 5 | W49: =N49 -> 5.6 | X49: =+(V49+W49)/2 -> 5.3 | Y49: =+X49*$I$4 -> 0.795 | Z49: =IF(G49=0,0,(Y49+Y48)/2*B49) -> 0 | AA49: =IF(G49=0,0,(G48+G49)/2*B49) -> 0 | AB49: =IF(G49=0,0,(2*H48+2*H49)/2*B49) -> 0 | AC49: =IF(G49>0,B49,0) -> 0
A50: =A49+B50 -> 840 | B50: 0 | E50: =(C49+C50)/2*B50 -> 0 | F50: =+(D49+D50)/2*B50 -> 0 | G50: =G49 -> 5 | H50: =H49 -> 0 | I50: =+G50+2*H50 -> 5 | J50: =IF(I50=0,0,I50+2*($I$3+I$4)/(1/$I$1)) -> 6.4 | K50: =IF(I50=0,0,I50+2*($I$2+$I$3+$I$4)/(1/$I$1)) -> 6.4 | L50: =(J50+K50)/2 -> 6.4 | M50: =L50*$I$2 -> 0 | N50: =IF(I50=0,0,I50+2*$I$4/(1/$I$1)) -> 5.6 | O50: =IF(I50=0,0,I50+2*($I$3+$I$4)/(1/$I$1)) -> 6.4 | P50: =+(N50+O50)/2 -> 6 | Q50: =+P50*$I$3 -> 1.2 | R50: =(2*ปร.4_1!$W$12)*B50 -> 0 | S50: =ปร.4_1!$Z$13*Soil!B50 -> 0 | T50: =IF(G50=0,0,(M50+M49)/2*B50) -> 0 | U50: =IF(G50=0,0,(Q50+Q49)/2*B50) -> 0 | V50: =+I50 -> 5 | W50: =N50 -> 5.6 | X50: =+(V50+W50)/2 -> 5.3 | Y50: =+X50*$I$4 -> 0.795 | Z50: =IF(G50=0,0,(Y50+Y49)/2*B50) -> 0 | AA50: =IF(G50=0,0,(G49+G50)/2*B50) -> 0 | AB50: =IF(G50=0,0,(2*H49+2*H50)/2*B50) -> 0 | AC50: =IF(G50>0,B50,0) -> 0
... A205: =A204+B205 -> 840 | B205: 0 | E205: =(C204+C205)/2*B205 -> 0 | F205: =+(D204+D205)/2*B205 -> 0 | G205: =G204 -> 5 | H205: =H204 -> 0 | I205: =+G205+2*H205 -> 5 | J205: =IF(I205=0,0,I205+2*($I$3+I$4)/(1/$I$1)) -> 6.4 | K205: =IF(I205=0,0,I205+2*($I$2+$I$3+$I$4)/(1/$I$1)) -> 6.4 | L205: =(J205+K205)/2 -> 6.4 | M205: =L205*$I$2 -> 0 | N205: =IF(I205=0,0,I205+2*$I$4/(1/$I$1)) -> 5.6 | O205: =IF(I205=0,0,I205+2*($I$3+$I$4)/(1/$I$1)) -> 6.4 | P205: =+(N205+O205)/2 -> 6 | Q205: =+P205*$I$3 -> 1.2 | R205: =(2*ปร.4_1!$W$12)*B205 -> 0 | S205: =ปร.4_1!$Z$13*Soil!B205 -> 0 | T205: =IF(G205=0,0,(M205+M204)/2*B205) -> 0 | U205: =IF(G205=0,0,(Q205+Q204)/2*B205) -> 0 | V205: =+I205 -> 5 | W205: =N205 -> 5.6 | X205: =+(V205+W205)/2 -> 5.3 | Y205: =+X205*$I$4 -> 0.795 | Z205: =IF(G205=0,0,(Y205+Y204)/2*B205) -> 0 | AA205: =IF(G205=0,0,(G204+G205)/2*B205) -> 0 | AB205: =IF(G205=0,0,(2*H204+2*H205)/2*B205) -> 0 | AC205: =IF(G205>0,B205,0) -> 0
A206: =A205+B206 -> 840 | E206: =(C205+C206)/2*B206 -> 0 | F206: =+(D205+D206)/2*B206 -> 0 | G206: =G205 -> 5 | H206: =H205 -> 0 | I206: =+G206+2*H206 -> 5 | J206: =IF(I206=0,0,I206+2*($I$3+I$4)/(1/$I$1)) -> 6.4 | K206: =IF(I206=0,0,I206+2*($I$2+$I$3+$I$4)/(1/$I$1)) -> 6.4 | L206: =(J206+K206)/2 -> 6.4 | M206: =L206*$I$2 -> 0 | N206: =IF(I206=0,0,I206+2*$I$4/(1/$I$1)) -> 5.6 | O206: =IF(I206=0,0,I206+2*($I$3+$I$4)/(1/$I$1)) -> 6.4 | P206: =+(N206+O206)/2 -> 6 | Q206: =+P206*$I$3 -> 1.2 | R206: =(2*ปร.4_1!$W$12)*B206 -> 0 | S206: =ปร.4_1!$Z$13*Soil!B206 -> 0 | T206: =IF(G206=0,0,(M206+M205)/2*B206) -> 0 | U206: =IF(G206=0,0,(Q206+Q205)/2*B206) -> 0 | V206: =+I206 -> 5 | W206: =N206 -> 5.6 | X206: =+(V206+W206)/2 -> 5.3 | Y206: =+X206*$I$4 -> 0.795 | Z206: =IF(G206=0,0,(Y206+Y205)/2*B206) -> 0 | AA206: =IF(G206=0,0,(G205+G206)/2*B206) -> 0 | AB206: =IF(G206=0,0,(2*H205+2*H206)/2*B206) -> 0 | AC206: =IF(G206>0,B206,0) -> 0
A207: =A206+B207 -> 840 | E207: =(C206+C207)/2*B207 -> 0 | F207: =+(D206+D207)/2*B207 -> 0 | G207: =G206 -> 5 | H207: =H206 -> 0 | I207: =+G207+2*H207 -> 5 | J207: =IF(I207=0,0,I207+2*($I$3+I$4)/(1/$I$1)) -> 6.4 | K207: =IF(I207=0,0,I207+2*($I$2+$I$3+$I$4)/(1/$I$1)) -> 6.4 | L207: =(J207+K207)/2 -> 6.4 | M207: =L207*$I$2 -> 0 | N207: =IF(I207=0,0,I207+2*$I$4/(1/$I$1)) -> 5.6 | O207: =IF(I207=0,0,I207+2*($I$3+$I$4)/(1/$I$1)) -> 6.4 | P207: =+(N207+O207)/2 -> 6 | Q207: =+P207*$I$3 -> 1.2 | R207: =(2*ปร.4_1!$W$12)*B207 -> 0 | S207: =ปร.4_1!$Z$13*Soil!B207 -> 0 | T207: =IF(G207=0,0,(M207+M206)/2*B207) -> 0 | U207: =IF(G207=0,0,(Q207+Q206)/2*B207) -> 0 | V207: =+I207 -> 5 | W207: =N207 -> 5.6 | X207: =+(V207+W207)/2 -> 5.3 | Y207: =+X207*$I$4 -> 0.795 | Z207: =IF(G207=0,0,(Y207+Y206)/2*B207) -> 0 | AA207: =IF(G207=0,0,(G206+G207)/2*B207) -> 0 | AB207: =IF(G207=0,0,(2*H206+2*H207)/2*B207) -> 0 | AC207: =IF(G207>0,B207,0) -> 0
A208: =A207+B208 -> 840 | E208: =(C207+C208)/2*B208 -> 0 | F208: =+(D207+D208)/2*B208 -> 0 | G208: =G207 -> 5 | H208: =H207 -> 0 | I208: =+G208+2*H208 -> 5 | J208: =IF(I208=0,0,I208+2*($I$3+I$4)/(1/$I$1)) -> 6.4 | K208: =IF(I208=0,0,I208+2*($I$2+$I$3+$I$4)/(1/$I$1)) -> 6.4 | L208: =(J208+K208)/2 -> 6.4 | M208: =L208*$I$2 -> 0 | N208: =IF(I208=0,0,I208+2*$I$4/(1/$I$1)) -> 5.6 | O208: =IF(I208=0,0,I208+2*($I$3+$I$4)/(1/$I$1)) -> 6.4 | P208: =+(N208+O208)/2 -> 6 | Q208: =+P208*$I$3 -> 1.2 | R208: =(2*ปร.4_1!$W$12)*B208 -> 0 | S208: =ปร.4_1!$Z$13*Soil!B208 -> 0 | T208: =IF(G208=0,0,(M208+M207)/2*B208) -> 0 | U208: =IF(G208=0,0,(Q208+Q207)/2*B208) -> 0 | V208: =+I208 -> 5 | W208: =N208 -> 5.6 | X208: =+(V208+W208)/2 -> 5.3 | Y208: =+X208*$I$4 -> 0.795 | Z208: =IF(G208=0,0,(Y208+Y207)/2*B208) -> 0 | AA208: =IF(G208=0,0,(G207+G208)/2*B208) -> 0 | AB208: =IF(G208=0,0,(2*H207+2*H208)/2*B208) -> 0 | AC208: =IF(G208>0,B208,0) -> 0
A209: =A208+B209 -> 840 | E209: =(C208+C209)/2*B209 -> 0 | F209: =+(D208+D209)/2*B209 -> 0 | G209: =G208 -> 5 | H209: =H208 -> 0 | I209: =+G209+2*H209 -> 5 | J209: =IF(I209=0,0,I209+2*($I$3+I$4)/(1/$I$1)) -> 6.4 | K209: =IF(I209=0,0,I209+2*($I$2+$I$3+$I$4)/(1/$I$1)) -> 6.4 | L209: =(J209+K209)/2 -> 6.4 | M209: =L209*$I$2 -> 0 | N209: =IF(I209=0,0,I209+2*$I$4/(1/$I$1)) -> 5.6 | O209: =IF(I209=0,0,I209+2*($I$3+$I$4)/(1/$I$1)) -> 6.4 | P209: =+(N209+O209)/2 -> 6 | Q209: =+P209*$I$3 -> 1.2 | R209: =(2*ปร.4_1!$W$12)*B209 -> 0 | S209: =ปร.4_1!$Z$13*Soil!B209 -> 0 | T209: =IF(G209=0,0,(M209+M208)/2*B209) -> 0 | U209: =IF(G209=0,0,(Q209+Q208)/2*B209) -> 0 | V209: =+I209 -> 5 | W209: =N209 -> 5.6 | X209: =+(V209+W209)/2 -> 5.3 | Y209: =+X209*$I$4 -> 0.795 | Z209: =IF(G209=0,0,(Y209+Y208)/2*B209) -> 0 | AA209: =IF(G209=0,0,(G208+G209)/2*B209) -> 0 | AB209: =IF(G209=0,0,(2*H208+2*H209)/2*B209) -> 0 | AC209: =IF(G209>0,B209,0) -> 0
A210: รวม | E210: =INT(SUM(E9:E209)) -> 0 | F210: =INT(SUM(F9:F209)) -> 0 | R210: =SUM(R9:R209) -> 3360 | S210: =SUM(S10:S43) -> 4200 | T210: =INT(SUM(T9:T209)) -> 0 | U210: =INT(SUM(U9:U209)) -> 1008 | Z210: =INT(SUM(Z9:Z209)) -> 667 | AA210: =INT(SUM(AA9:AA209)) -> 4200 | AB210: =INT(SUM(AB9:AB209)) -> 0 | AC210: =SUM(AC10:AC209) -> 840 | AD210: =AC210/1000 -> 0.84 | AE210: =B1-AD210 -> 0 | AF210: =IF(AE210=0,"(OK)") -> (OK)
C212: หมายเหตุ
C213: 1 | D213: งานดินตัด | H213: =E210 -> 0 | I213: ลบ.ม.
C214: 2 | D214: งานดินถม | H214: =F210 -> 0 | I214: ลบ.ม.
C215: 3 | D215: งานดินถมจากดินตัด คิด | G215: 1 | H215: =IF(H214>INT((E210*1.25/1.6)),INT((E210*1.25/1.6)*G215),H214) -> 0 | I215: ลบ.ม.
C216: 4 | D216: งานดินถมจากแหล่งนอกโครงการ | H216: =IF(H214>H215,H214-H215,0) -> 0 | I216: ลบ.ม.
C217: (ปริมาณดินตัดธรรมชาติ x ส่วนขยาย 1.25 / 1.6) x เปอร์เซ็นต์ที่ใช้)
C218: กรณีที่งานดินตัดมากกว่างานดินถม จะเหลืองานดินตัดปริมาณ | H218: =IF(H213>H214,H213-H214,0) -> 0 | I218: ลบ.ม. | S218: CHECK | T218: รองพื้นทาง | U218: รองพื้นทาง | Y218: CHECK | Z218: รองพื้นทาง | AA218: ผิวทาง | AB218: ไหล่ทาง | AC218: สะพาน | AD218: 0
T219: =$AC$210-AD$218 -> 840 | U219: =$AC$210-AD$218 -> 840 | Z219: =$AC$210-$AD$218 -> 840 | AA219: =$AC$210-$AD$218 -> 840 | AB219: =$AC$210-$AD$218 -> 840
T220: =INT(T219*L9*0.2) -> 1075 | U220: =INT(U219*P9*0.2) -> 1008 | Z220: =Z219*X9*0.2 -> 890.4 | AA220: =AA219*G9 -> 4200 | AB220: =AB219*(H9*2) -> 0
T221: =INT(T210-T220) -> -1075 | U221: =INT(U210-U220) -> 0 | Z221: =INT(Z210-Z220) -> -224 | AA221: =INT(AA210-AA220) -> 0 | AB221: =INT(AB210-AB220) -> 0

Sheet ปร.5 ท
A1: แบบฟอร์มสรุปผลประมาณราคางานก่อสร้าง | T1: วันที่ | U1: เดือน | V1: ปี | Y1: รหัสสายทาง | Z1: ชื่อสายทาง | AB1: =IF(C5=Y2,X2,IF(C5=Y3,X3,IF(C5=Y4,X4,IF(C5=Y5,X5,IF(C5=Y6,X6,IF(C5=Y7,X7,IF(C5=Y8,X8,IF(C5=Y9,X9,IF(C5=Y10,X10,IF(C5=Y11,X11,IF(C5=Y12,X12,IF(C5=Y13,X13,IF(C5=Y14,X14,IF(C5=Y15,X15,IF(C5=Y16,X16,IF(C5=Y17,X17,IF(C5=Y18,X18,IF(C5=Y19,X19,IF(C5=Y20,X20,IF(C5=Y21,X21,IF(C5=Y22,X22,IF(C5=Y23,X23,IF(C5=Y24,X24,IF(C5=Y25,X25,IF(C5=Y26,X26,IF(C5=Y27,X27,IF(C5=Y28,X28,IF(C5=Y29,X29,IF(C5=Y30,X30,IF(C5=Y31,X31,IF(C5=Y32,X32,IF(C5=Y33,X33,IF(C5=Y34,X34,IF(C5=Y35,X35,IF(C5=Y36,X36,IF(C5=Y37,X37,IF(C5=Y38,X38,IF(C5=Y39,X39,IF(C5=Y40,X40,IF(C5=Y41,X41,IF(C5=Y42,X42,IF(C5=Y43,X43,IF(C5=Y44,X44,IF(C5=Y45,X45,IF(C5=Y46,X46,IF(C5=Y47,X47,IF(C5=Y48,X48,IF(C5=Y49,X49,X50)))))))))))))))))))))))))))))))))))))))))))))))) -> 48 | AC1: แยกทางหลวงหมายเลข 4047 - บ้านท่าช้าง | AE1: ระยะทาง
A2: ส่วนราชการ | C2: เทศบาลตำบลหนองพ้อ | I2: กองช่าง | T2: - | U2: - | V2: - | X2: 0 | Y2: ------------- | Z2: ------------- | AE2: 0
C3: กรมส่งเสริมปกครองท้องถิ่น | I3: กระทรวงมหาดไทย | T3: 1 | U3: มกราคม | V3: 2556 | X3: 1 | Y3: พท.4001 | Z3: แยกทางหลวงหมายเลข 4047 - บ้านท่าช้าง | AE3: 15.537
A4: ประเภทงาน | C4: บำรุงรักษาระบบโครงข่ายทาง | T4: 2 | U4: กุมภาพันธ์ | V4: 2557 | X4: 2 | Y4: พท.1002 | Z4: แยกทางหลวงหมายเลข 4 - บ้านคู | AE4: 12.892
A5: ชื่อสายทาง ป่าตอ-ใสขรบ | T5: 3 | U5: มีนาคม | V5: 2558 | X5: 3 | Y5: พท.1005 | Z5: แยกทางหลวงหมายเลข 4 - บ้านไสแตระ | AE5: 13.653
A6: สถานที่ก่อสร้าง | C6: ตำบลควนขนุน อำเภอควนขนุน จังหวัดพัทลุง | T6: 4 | U6: เมษายน | V6: 2559 | X6: 4 | Y6: พท.2006 | Z6: แยกทางหลวงหมายเลข 41 - บ้านสำนักปรางค์ | AE6: 12.749
A7: ลักษณะสายทางเดิม | C7: ชนิดผิวทาง | D7: 0 | G7: กว้าง | H7: 5 | I7: ม. ระยะทางตลอดสายทาง | K7: กม. | L7: กิจกรรมไฟฟ้าแสงสว่างและไฟสัญญาณจราจร | O7: ระยะห่างต่อต้น | T7: 5 | U7: พฤษภาคม | V7: 2560 | X7: 5 | Y7: พท.4007 | Z7: แยกทางหลวงหมายเลข 4047 - บ้านทะเลน้อย | AE7: 21.084
C8: ชนิดไหล่ทาง | D8: Asphaltic Concrete | G8: กว้าง | H8: 0 | I8: ม. | M8: =INT(N8/O8)+3 -> 3 | N8: =E14-C14 -> 0 | O8: 35 | T8: 6 | U8: มิถุนายน | V8: 2561 | X8: 6 | Y8: พท.2008 | Z8: แยกทางหลวงหมายเลข 41 - บ้านปากเหมือง | AE8: 14.84
G9: ผิวทางกว้าง | H9: 5 | I9: ม. | T9: 7 | U9: กรกฎาคม | V9: 2562 | X9: 7 | Y9: พท.4009 | Z9: แยกทางหลวงหมายเลข 4048 - บ้านท่าสำเภาใต้ | AE9: 13.321
A10: สรุปประมาณราคาตามแบบฟอร์ม | E10: ปร. 4/1 บร | G10: จำนวน | H10: 1 | I10: แผ่น | T10: 8 | U10: สิงหาคม | V10: 2563 | X10: 8 | Y10: พท.1010 | Z10: แยกทางหลวงหมายเลข 4 - บ้านควนปริง | AE10: 11.117
E11: ปร. 4/2 บร | G11: จำนวน | H11: 0 | I11: แผ่น | T11: 9 | U11: กันยายน | V11: 2564 | X11: 9 | Y11: พท.1011 | Z11: แยกทางหลวงหมายเลข 4 - บ้านควนกุฎ | AE11: 11.672
E12: ปร. 4/1 ท | G12: จำนวน | H12: 1 | I12: แผ่น | L12: =Soil!B1 -> 0.84 | M12: กม. | T12: 10 | U12: ตุลาคม | V12: 2565 | X12: 10 | Y12: พท.2013 | Z12: แยกทางหลวงหมายเลข 41 - บ้านใหม่ | AE12: 12.184
A13: ระยะทางดำเนินการ | D13: กม. | M13: =E14-C14 -> 0 | T13: 11 | U13: พฤศจิกายน | X13: 11 | Y13: พท.2016 | Z13: แยกทางหลวงหมายเลข 41 - บ้านหัสคุณ | AE13: 11.733
B14: ช่วงที่ 1 กม. | C14: =Soil!A9 -> 0 | D14: ถึง กม. | F14: ="(ซ่อมแซมผิวทางแบบเซอร์เฟซทรีตเมนต์ชั้นเดียว S.S.T. ) ระยะทาง "&FIXED((E14-C14)/1000,3)&" กม.) " -> (ซ่อมแซมผิวทางแบบเซอร์เฟซทรีตเมนต์ชั้นเดียว S.S.T. ) ระยะทาง 0.000 กม.) | T14: 12 | U14: ธันวาคม | X14: 12 | Y14: พท.4018 | Z14: แยกทางหลวงหมายเลข 4050 - บ้านลำปำ | AE14: 4.862
B15: ช่วงที่ 2 กม. | C15: 0 | D15: ถึง กม. | E15: 0 | F15: ="(ซ่อมสร้างผิวทางพาราแอสฟัลท์ติกคอนกรีต ระยะทาง "&FIXED((E15-C15)/1000,3)&" กม.) " -> (ซ่อมสร้างผิวทางพาราแอสฟัลท์ติกคอนกรีต ระยะทาง 0.000 กม.) | T15: 13 | X15: 13 | Y15: พท.4019 | Z15: แยกทางหลวงหมายเลข4048 - บ้านแหลมโตนด | AE15: 10.4
B16: ช่วงที่ 3 กม. | D16: ถึง กม. | F16: ="(ซ่อมสร้างผิวทางแอสฟัลท์ติกคอนกรีต ระยะทาง "&FIXED((E16-C16)/1000,3)&" กม.) " -> (ซ่อมสร้างผิวทางแอสฟัลท์ติกคอนกรีต ระยะทาง 0.000 กม.) | N16: =SUM(M13:M13) -> 0 | T16: 14 | X16: 14 | Y16: พท.1021 | Z16: แยกทางหลวงหมายเลข 4 - บ้านทุ่งนาชี | AE16: 23
A17: ประมาณราคาวันที่ | C17: 30 | D17: เดือน | E17: มิถุนายน | F17: พ.ศ. | G17: 2563 | M17: รวมค่างานต้นทุน | N17: =G20+G21 -> 518779.71 | O17: บาท | T17: 15 | X17: 15 | Y17: พท.2030 | Z17: แยกทางหลวงหมายเลข 41 - บ้านคลองใหญ่ | AE17: 12.443
T18: 16 | X18: 16 | Y18: พท.5036 | Z18: แยกทางหลวงชนบท พท.2030 - บ้านหนองอ้ายเล | AE18: 4.895
A19: ลำดับที่ | B19: รายการ | G19: รวมค่างานต้นทุน | H19: Factor F | I19: รวมค่าก่อสร้าง | J19: หมายเหตุ | M19: งบจัดสรร | N19: 4000000 | O19: บาท | T19: 17 | X19: 17 | Y19: พท.5037 | Z19: แยกทางหลวงชนบท พท.1010 - บ้านขัน | AE19: 5.62
A20: 1 | B20: ประเภทงานทาง | G20: =ปร.4_1!M171 -> 518779.71 | H20: =ปร.4_1!N172 -> 1.3795 | I20: =ปร.4_1!P173 -> 715574.66 | J20: Factor F ฝนตกชุก 1 | M20: งบประมาณที่ประเมินได้ | N20: =I25 -> 718000 | O20: บาท | T20: 18 | X20: 18 | Y20: พท.2038 | Z20: แยกทางหลวงหมายเลข 41 - วัดเต่า | AE20: 3
A21: 2 | B21: ประเภทงานสะพานและท่อเหลี่ยม | G21: =ปร.4_2!M89 -> 0 | H21: =ปร.4_2!N90 -> 0 | I21: =ปร.4_2!P91 -> 0 | J21: - เงินล่วงหน้าจ่าย | K21: % | M21: =IF(N19<N20,"ประเมินราคาสูงไป",IF(N19=N20,"ประเมินราคาพอดีตามงบ","ประเมินราคาต่ำไป")) -> ประเมินราคาต่ำไป | N21: =N19-N20 -> 3282000 | O21: =IF(N19=N20,"O.K.","บาท") -> บาท | T21: 19 | X21: 19 | Y21: พท.1040 | Z21: แยกทางหลวงหมายเลข 4 - บ้านท่ายูง | AE21: 8
A22: 3 | B22: ป้ายโครงการ | G22: 1 | H22: 3000 | I22: =SUM(G22*H22) -> 3000 | J22: - ดอกเบี้ยเงินกู้ | K22: 0.06 | T22: 20 | X22: 20 | Y22: พท.2041 | Z22: แยกทางหลวงหมายเลข 41 - บ้านทุ่งชุมพล | AE22: 15.59
J23: - เงินประกันผลงานหัก | K23: 0 | T23: 21 | X23: 21 | Y23: พท.4044 | Z23: แยกทางหลวงหมายเลข 4163 - บ้านหนองเสม็ด | AE23: 7.206
B24: รวมเป็นค่าก่อสร้าง | I24: =SUM(I20:I23) -> 718574.66 | T24: 22 | X24: 22 | Y24: พท.4048 | Z24: แยกทางหลวงหมายเลข 4122 - บ้านสมหวัง | AE24: 7.6
A25: สรุป | B25: คิดเป็นเงินค่าก่อสร้างประมาณ | I25: =ROUNDDOWN(I24,-3) -> 718000 | T25: 23 | X25: 23 | Y25: พท.5050 | Z25: ถนนเฉลิมพระเกียรติ ๘๐ พรรษา ๕ ธันวาคม ๒๕๕๐ | AE25: 17.547
B26: ตัวอักษร | C26: =CONCATENATE("(",BAHTTEXT(I25),")") -> (เจ็ดแสนหนึ่งหมื่นแปดพันบาทถ้วน) | T26: 24 | X26: 24 | Y26: พท.4052 | Z26: แยกทางหลวงหมายเลข 4164 - บ้านควนนายพุฒ | AE26: 5.556
T27: 25 | X27: 25 | Y27: พท.4053 | Z27: แยกทางหลวงหมายเลข 4163 - บ้านควนตะแบก | AE27: 8.4
B28: ระยะทางดำเนินการซ่อมสร้างฯ | E28: =ปร.4_1!T2 -> 0.84 | F28: กม. | G28: เฉลี่ยราคา กม. ละ | I28: =IF(G20=0,0,ROUNDDOWN(I20/E28,0)) -> 851874 | J28: บาท | T28: 26 | X28: 26 | Y28: พท.4055 | Z28: แยกทางหลวงหมายเลข 4285 - บ้านควนแร่ | AE28: 6.134
O29: คณะกรรมการกำหนดราคากลาง | Q29: ประธานกรรมการฯ | T29: 27 | X29: 27 | Y29: พท.5057 | Z29: แยกทางหลวงชนบท พท.1011 - บ้านทุ่งลาน | AE29: 5.66
Q30: กรรมการ | T30: 28 | X30: 28 | Y30: ------------- | Z30: -------------
A31: คณะกรรมการกำหนดราคากลาง | Q31: กรรมการ | T31: 29 | X31: 29 | Y31: พท.4003 | Z31: แยกทางหลวงหมายเลข 4050 - บ้านจงเก | AE31: 13.842
A32: ลงชื่อ | D32: ประธานกรรมการ | T32: 30 | X32: 30 | Y32: พท.4004 | Z32: แยกทางหลวงหมายเลข 4081 - บ้านฝาละมี | AE32: 26.558
B33: (นายบุญภาศ ทองฤทธิ์นุ่น ) | L33: 1 | M33: นางสาวพันธุ์ทิพย์ | N33: ทองเดช | O33: นายช่างเขียนแบบ อาวุโส | Q33: ประมาณราคา | T33: 31 | X33: 31 | Y33: พท.1014 | Z33: แยกทางหลวงหมายเลข 4 - บ้านควนอินนอโม | AE33: 9.364
A34: ลงชื่อ | D34: กรรมการ | L34: 2 | M34: นายบุญภาศ | N34: ทองฤทธิ์นุ่น | O34: ผู้อำนวยการกองช่าง | Q34: ตรวจ | X34: 32 | Y34: พท.1015 | Z34: แยกทางหลวงหมายเลข 4 - บ้านศาลาเม็ง | AE34: 9.155
B35: (น.ส.พันธุ์ทิพย์ ทองเดช ) | L35: 3 | M35: นางรุจิรา | N35: กลับแป้น | O35: รองปลัดเทศบาล | Q35: เห็นชอบ | X35: 33 | Y35: พท.1017 | Z35: แยกทางหลวงหมายเลข 4 - บ้านเขาชัยสน | AE35: 11.244
A36: ลงชื่อ | D36: กรรมการ | I36: ลงชื่อ……...…….......................เห็นชอบ | L36: 4 | M36: นายสุพัฒน์ | N36: หนูจีนเส้ง | O36: นายกเทศมนตรีตำบลหนองพ้อ | Q36: อนุมัติ | X36: 34 | Y36: พท.1020 | Z36: แยกทางหลวงหมายเลข 4 - บ้านป่าแก่ | AE36: 11.722
B37: (นายปรีชา มณีนิล ) | I37: (นางรุจิรา กลับแป้น ) | X37: 35 | Y37: พท.5022 | Z37: แยกทางหลวงชนบท พท.4004 - บ้านบางแก้ว | AE37: 11.764
I38: รองปลัดเทศบาล รักษาราชการแทน | X38: 36 | Y38: พท.1023 | Z38: แยกทางหลวงหมายเลข 4 - บ้านหารเทา | AE38: 12.216
I39: ปลัดเทศบาลตำบลหนองพ้อ | X39: 37 | Y39: พท.4025 | Z39: แยกทางหลวงหมายเลข 4121 - บ้านท่าเชียด | AE39: 12.659
X40: 38 | Y40: พท.4026 | Z40: แยกทางหลวงหมายเลข 4181 - บ้านชะแล้ | AE40: 16.574
I41: ลงชื่อ…....…….............……………อนุมัติ | X41: 39 | Y41: พท.1027 | Z41: แยกทางหลวงหมายเลข 4 - น้ำตกไพรวัลย์ | AE41: 16.876
I42: (นายสุพัฒน์ หนูจีนเส้ง ) | O42: วิศวกรโยธาชำนาญการพิเศษ รักษาราชการแทน | X42: 40 | Y42: พท.1028 | Z42: แยกทางหลวงหมายเลข 4 - บ้านต้นตอ | AE42: 4.5
I43: นายกเทศมนตรีตำบลหนองพ้อ | X43: 41 | Y43: พท.1029 | Z43: แยกทางหลวงหมายเลข 4 - บ้านเหมืองตะกั่ว | AE43: 14.405
X44: 42 | Y44: พท.4032 | Z44: แยกทางหลวงหมายเลข 4081 - บ้านควนโก | AE44: 5.5
X45: 43 | Y45: พท.4033 | Z45: แยกทางหลวงหมายเลข 4138 - บ้านเพ็งอาจ | AE45: 5.1
X46: 44 | Y46: พท.1042 | Z46: แยกทางหลวงหมายเลข 4 - บ.ถ้ำน้ำเย็น | AE46: 8.6
X47: 45 | Y47: พท.4046 | Z47: แยกทางหลวงหมายเลข 4049 - บ้านควนพระ | AE47: 14.507
X48: 46 | Y48: พท.5051 | Z48: แยกทางหลวงชนบท พท.4026 - บ้านเกาะยวน | AE48: 14.3
X49: 47 | Y49: พท.4054 | Z49: แยกทางหลวงหมายเลข4081 - แก่งหูแร่ | AE49: 1.8
X50: 48 | Y50: พท.5056 | Z50: แยกทางหลวงชนบท พท.1017 (กม.ที่ 1+775) - บ้านหูแร่ | AE50: 1

Sheet ปร.4_1
A1: แบบประเมินราคางานก่อสร้างทาง
A2: ชื่อโครงการ | C2: ซ่อมแซมผิวทางแบบเซอร์เฟซทรีตเมนต์ชั้นเดียว S.S.T. สายป่าตอ-ใสขรบ หมู่ที่ 5 | S2: ระยะทางก่อสร้างถนน | T2: =Soil!B1-V2 -> 0.84 | U2: กม.
A3: สถานที่ก่อสร้าง | C3: ='ปร.5 ท'!C6 -> ตำบลควนขนุน อำเภอควนขนุน จังหวัดพัทลุง | S3: ความกว้างผิวจราจร | T3: =I5+(2*I6) -> 5 | U3: ม.
A4: ='ปร.5 ท'!A13 -> ระยะทางดำเนินการ | D4: =T2 -> 0.84 | E4: กม. | S4: ผิวสะพานเดิม กว้าง | T4: 0 | U4: ม. ยาว | V4: 0 | W4: ม. จำนวน | X4: 0 | Y4: แห่ง พ.ท.ผิว | Z4: =ROUNDDOWN(T4*V4*X4,2) -> 0 | AA4: ตร.ม.
A5: ก่อสร้างผิวทาง | D5: 0 | H5: กว้าง | I5: ='ปร.5 ท'!H7 -> 5 | J5: เมตร | S5: ก่อสร้าง TAPER จาก | T5: 0 | U5: ม. เป็นกว้าง | V5: 0 | W5: ม. ยาว | X5: 0 | Y5: ม. จำนวน | Z5: 0 | AA5: แห่ง
A6: ซ่อมสร้างไหล่ทาง | C6: ='ปร.5 ท'!F14 -> (ซ่อมแซมผิวทางแบบเซอร์เฟซทรีตเมนต์ชั้นเดียว S.S.T. ) ระยะทาง 0.000 กม.) | D6: 0 | H6: กว้างข้างละ | I6: ='ปร.5 ท'!H8 -> 0 | J6: เมตร | W6: รวมความยาว Taper | X6: =X5*Z5 -> 0 | Y6: ม.
A7: ประมาณราคาวันที่ | D7: ='ปร.5 ท'!C17&" "&'ปร.5 ท'!E17&" "&'ปร.5 ท'!F17&" "&'ปร.5 ท'!G17 -> 30 มิถุนายน พ.ศ. 2563 | W7: พื้นที่ Taper | X7: =ROUNDDOWN(0.5*(T5+V5)*X5,2)*Z5 -> 0 | Y7: ตร.ม.
A8: ลำดับที่ | B8: รายการ | J8: หน่วย | K8: ปริมาณ | L8: ค่างานต้นทุน (บาท) | N8: Factor | O8: ราคากลาง (บาท) | Q8: หมาย | S8: ซ่อมสร้างผิวทาง | T8: ซ่อมสร้างผิวไหล่ทาง
L9: ราคาต่อหน่วย | M9: รวม | N9: F | O9: ราคาต่อหน่วย | P9: รวม | Q9: เหตุ | S9: เสริมผิวทาง | T9: เสริมผิวไหล่ทาง
B10: ประเภทงานทาง
A11: 1 | B11: งานปรับปรุงโครงสร้างทาง
B12: 1.1 | C12: งานถางป่าขุดตอ | J12: ตร.ม. | K12: =T12 -> 0 | L12: =IF(K12=0,0,ราคาต้นทุนงานทาง!G11) -> 0 | M12: =ROUNDDOWN(K12*L12,2) -> 0 | N12: =IF(K12=0,0,$N$172) -> 0 | O12: =ROUNDDOWN(L12*N12,2) -> 0 | P12: =ROUNDDOWN(K12*O12,2) -> 0 | R12: ถางป่าและขุดตอ | T12: =ROUNDDOWN(Soil!R210,0)*0 -> 0 | U12: ตร.ม. | V12: offset | W12: 2 | X12: m.
B13: 1.1 | C13: งานขุดรื้อผิวทางและไหล่ทางเดิม แล้วบดอัดแน่น | J13: ตร.ม. | K13: =T13 -> 4200 | L13: =IF(K13=0,0,ราคาต้นทุนงานทาง!I31)+ราคาต้นทุนงานทาง!J35 -> 24.7256 | M13: =ROUNDDOWN(K13*L13,2) -> 103847.52 | N13: =IF(K13=0,0,$N$172) -> 1.3795 | O13: =ROUNDDOWN(L13*N13,2) -> 34.1 | P13: =ROUNDDOWN(K13*O13,2) -> 143220 | R13: ขุดรื้อผิวทางและไหล่ทาง | T13: =ROUNDDOWN(Soil!S210+((0.5)*(Z13-V5)*(X6)),0)-(V2*T3*1000) -> 4200 | U13: ตร.ม. | V13: ความหนา | W13: 0 | X13: ซม. | Y13: คันเดิมกว้าง | Z13: 5 | AA13: m.
B14: 1.3 | C14: งานเกลี่ยปรับคันทางและไหล่ทางเดิมแล้วบดทับ | J14: ตร.ม. | K14: =T14 -> 0 | L14: =IF(K14=0,0,ราคาต้นทุนงานทาง!J35) -> 0 | M14: =K14*L14 -> 0 | N14: =IF(K14=0,0,$N$172) -> 0 | O14: =ROUND(L14*N14,2) -> 0 | P14: =ROUNDDOWN(K14*O14,2) -> 0 | R14: ปรับเกลี่ยและบดอัด | T14: =ROUNDDOWN(Soil!S210+((0.5)*(Z14-V6)*(X7)),0)*0 -> 0 | U14: ตร.ม.
B15: 1.4 | C15: งานตัดแต่งขั้นบันได | J15: ลบ.ม. | K15: 0 | L15: =IF(K15=0,0,ราคาต้นทุนงานทาง!I40) -> 0 | M15: =K15*L15 -> 0 | N15: =IF(K15=0,0,$N$172) -> 0 | O15: =ROUND(L15*N15,2) -> 0 | P15: =ROUNDDOWN(K15*O15,2) -> 0
B16: 1.5 | C16: งานดินตัด | J16: ลบ.ม. | K16: =T16 -> 0 | L16: =IF(K16=0,0,ราคาต้นทุนงานทาง!H49) -> 0 | M16: =ROUNDDOWN(K16*L16,2) -> 0 | N16: =IF(K16=0,0,$N$172) -> 0 | O16: =ROUNDDOWN(L16*N16,2) -> 0 | P16: =ROUNDDOWN(K16*O16,2) -> 0 | R16: ดินตัด | T16: =Soil!H213 -> 0 | U16: ลบ.ม.
B17: 1.6 | C17: งานดินถม (วัสดุจากดินตัด) | J17: ลบ.ม. | K17: =T17 -> 0 | L17: =IF(K17=0,0,ราคาต้นทุนงานทาง!H57) -> 0 | M17: =ROUNDDOWN(K17*L17,2) -> 0 | N17: =IF(K17=0,0,$N$172) -> 0 | O17: =ROUNDDOWN(L17*N17,2) -> 0 | P17: =ROUNDDOWN(K17*O17,2) -> 0 | R17: ดินถมจากดินตัด | T17: =Soil!H215 -> 0 | U17: ลบ.ม.
B18: 1.7 | C18: งานดินถม (วัสดุจากแหล่งนอกโครงการ) | J18: ลบ.ม. | K18: =T18 -> 0 | L18: =IF(K18=0,0,ราคาต้นทุนงานทาง!H66) -> 0 | M18: =K18*L18 -> 0 | N18: =IF(K18=0,0,$N$172) -> 0 | O18: =ROUND(L18*N18,2) -> 0 | P18: =ROUNDDOWN(K18*O18,2) -> 0 | R18: ดินถมจากแหล่ง | T18: =Soil!H216 -> 0 | U18: ลบ.ม.
B19: 1.8 | C19: งานทรายถม | J19: ลบ.ม. | K19: 0 | L19: =IF(K19=0,0,ราคาต้นทุนงานทาง!H74) -> 0 | M19: =K19*L19 -> 0 | N19: =IF(K19=0,0,$N$172) -> 0 | O19: =ROUND(L19*N19,2) -> 0 | P19: =ROUNDDOWN(K19*O19,2) -> 0
B20: 1.9 | C20: งานวัสดุคัดเลือกบดอัดแน่น | J20: ลบ.ม. | K20: 0 | L20: =IF(K20=0,0,ราคาต้นทุนงานทาง!H91) -> 0 | M20: =K20*L20 -> 0 | N20: =IF(K20=0,0,$N$172) -> 0 | O20: =ROUND(L20*N20,2) -> 0 | P20: =ROUNDDOWN(K20*O20,2) -> 0 | V20: WIDENING | X20: ทางเชื่อม
B21: 1.1 | C21: งานรองพื้นทาง (ลูกรังบดอัดแน่น) ( ลูกรังหนา | H21: 0 | I21: ซม. ) | J21: ลบ.ม. | K21: =T21+V21+X21 -> 0 | L21: =IF(K21=0,0,ราคาต้นทุนงานทาง!H100) -> 0 | M21: =ROUNDDOWN(K21*L21,2) -> 0 | N21: =IF(K21=0,0,$N$172) -> 0 | O21: =ROUNDDOWN(L21*N21,2) -> 0 | P21: =ROUNDDOWN(K21*O21,2) -> 0 | R21: งานรองพื้นทาง | T21: =ROUNDDOWN(Soil!U210-(((V4*X4)+(X5*Z5))*Soil!Q9)+((0.5)*(T5+V5)*(X5)*H21/100),0)*0 -> 0 | U21: ลบ.ม. | V21: ='ทางเชื่อม (AC)'!K26 -> 0 | W21: ลบ.ม. | X21: ='ทางเชื่อม (AC)'!M26 -> 0 | Y21: ลบ.ม.
B22: 1.2 | C22: หินคลุกบดอัดแน่นเสริมพื้นทาง 30% | G22: ( หินคลุกหนา | H22: 15 | I22: ซม. ) | J22: ลบ.ม. | K22: =SUM(D4*1000)*4*0.15*0.3 -> 151.2 | L22: =IF(K22=0,0,ราคาต้นทุนงานทาง!H109) -> 564.32 | M22: =ROUNDDOWN(K22*L22,2) -> 85325.18 | N22: =IF(K22=0,0,$N$172) -> 1.3795 | O22: =ROUNDDOWN(L22*N22,2) -> 778.47 | P22: =ROUNDDOWN(K22*O22,2) -> 117704.66 | R22: งานพื้นทาง | T22: =ROUNDDOWN(Soil!Z210-(((V4*X4)+(X5*Z5))*Soil!Y9)+(0.5*(T5+V5)*(X5)*H22/100),0)*0 -> 0 | U22: ลบ.ม. | V22: =V38*(H22/100) -> 0 | W22: ลบ.ม. | X22: ='ทางเชื่อม (AC)'!M26 -> 0 | Y22: ลบ.ม.
B23: 1.12 | C23: หินคลุกปรับระดับ (หลวม) | J23: ลบ.ม. | K23: =T23+V23 -> 0 | L23: =IF(K23=0,0,ราคาต้นทุนงานทาง!H115) -> 0 | M23: =ROUNDDOWN(K23*L23,2) -> 0 | N23: =IF(K23=0,0,$N$172) -> 0 | O23: =ROUNDDOWN(L23*N23,2) -> 0 | P23: =ROUNDDOWN(K23*O23,2) -> 0
B24: 1.13 | C24: งานทรายรองใต้ผิวจราจรคอนกรีต หนา | H24: 0 | I24: ซม. | J24: ลบ.ม. | K24: =T24 -> 0 | L24: =IF(K24=0,0,ราคาต้นทุนงานทาง!H123) -> 0 | M24: =K24*L24 -> 0 | N24: =IF(K24=0,0,$N$172) -> 0 | O24: =ROUND(L24*N24,2) -> 0 | P24: =ROUNDDOWN(K24*O24,2) -> 0 | R24: งานทรายรองใต้ผิวจราจร | T24: =IF(D5="Concrete",ROUNDDOWN(((T2*1000)*(H24/100)*T3)+((0.5)*(T5+V5)*(X5)*H24/100),0),0) -> 0 | U24: ลบ.ม.
B25: 1.14 | C25: Skin Patch | J25: ตร.ม. | K25: =T25 -> 0 | L25: =IF(K25=0,0,ราคาต้นทุนงานทาง!J130) -> 0 | M25: =K25*L25 -> 0 | N25: =IF(K25=0,0,$N$172) -> 0 | O25: =ROUND(L25*N25,2) -> 0 | P25: =ROUNDDOWN(K25*O25,2) -> 0 | T25: 0 | U25: ตร.ม.
B26: 1.15 | C26: Deep Patch | J26: ตร.ม. | K26: 0 | L26: =IF(K26=0,0,ราคาต้นทุนงานทาง!M140) -> 0 | M26: =K26*L26 -> 0 | N26: =IF(K26=0,0,$N$172) -> 0 | O26: =ROUND(L26*N26,2) -> 0 | P26: =ROUNDDOWN(K26*O26,2) -> 0 | T26: 0 | U26: ตร.ม.
B27: 1.16 | C27: งาน Pavement In-Place Recycling | J27: ตร.ม. | K27: 0 | L27: =IF(K27=0,0,ราคาต้นทุนงานทาง!J159) -> 0 | M27: =K27*L27 -> 0 | N27: =IF(K27=0,0,$N$172) -> 0 | O27: =ROUND(L27*N27,2) -> 0 | P27: =ROUNDDOWN(K27*O27,2) -> 0
B28: 1.17 | C28: งานอื่น ๆ (ระบุชนิด) | E28: หินคลุกงานซ่อมหลุม บดอัดแน่น | J28: ลบ.ม. | K28: 5
A30: 2 | B30: งานผิวทางและไหล่ทาง
B31: 2.1 | C31: PRIME COAT & TACK COAT สำหรับผิวทางและไหล่ทาง | R31: Asphaltic Concrete | V31: WIDENING | X31: ทางเชื่อม
C32: 2.1.1 | D32: PRIME COAT | J32: ตร.ม. | K32: =T32+V32+X32 -> 4200 | L32: =IF(K32=0,0,ราคาต้นทุนงานทาง!H173) -> 29.45 | M32: =ROUNDDOWN(K32*L32,2) -> 123690 | N32: =IF(K32=0,0,$N$172) -> 1.3795 | O32: =ROUNDDOWN(L32*N32,2) -> 40.62 | P32: =ROUNDDOWN(K32*O32,2) -> 170604 | R32: PRIME COAT | T32: =SUM(T2*1000)*T3 -> 4200 | U32: ตร.ม. | V32: 0 | W32: ตร.ม. | X32: ='ทางเชื่อม (AC)'!N26 -> 0 | Y32: ตร.ม.
C33: 2.1.2 | D33: TACK COAT | J33: ตร.ม. | K33: =T33+V33+X33 -> 0 | L33: =IF(K33=0,0,ราคาต้นทุนงานทาง!H179) -> 0 | M33: =ROUNDDOWN(K33*L33,2) -> 0 | N33: =IF(K33=0,0,$N$172) -> 0 | O33: =ROUNDDOWN(L33*N33,2) -> 0 | P33: =ROUNDDOWN(K33*O33,2) -> 0 | R33: TACK COAT | T33: =IF(D6=R32,((T3*1000)-X7)*T4,0)-Z5+X8 -> 0 | U33: ตร.ม. | V33: 0 | W33: ตร.ม. | X33: 0 | Y33: ตร.ม.
B34: 2.2 | C34: งานผิวทางแบบเซอร์เฟซทรีตเมนต์ชั้นเดียว (S.S.T. ) | J34: ตร.ม. | K34: =K32 -> 4200 | L34: =IF(K34=0,0,ราคาต้นทุนงานทาง!J225) -> 49.027861 | M34: =ROUNDDOWN(K34*L34,2) -> 205917.01 | N34: =IF(K34=0,0,$N$172) -> 1.3795 | O34: =ROUNDDOWN(L34*N34,2) -> 67.63 | P34: =ROUNDDOWN(K34*O34,2) -> 284046 | R34: Cape Seal | T34: =IF(D5=R34,(T2*1000)*T3,0) -> 0 | U34: ตร.ม.
B35: 2.3 | C35: งานผิวทางและไหล่ทาง Slurry Seal | J35: ตร.ม. | K35: =T35 -> 0 | L35: =IF(K35=0,0,ราคาต้นทุนงานทาง!J257) -> 0 | M35: =ROUNDDOWN(K35*L35,2) -> 0 | N35: =IF(K35=0,0,$N$172) -> 0 | O35: =ROUNDDOWN(L35*N35,2) -> 0 | P35: =ROUNDDOWN(K35*O35,2) -> 0 | R35: Slurry Seal | U35: ตร.ม.
B36: 2.4 | C36: งานผิวทางและไหล่ทาง Para Slurry Seal Type 3 | J36: ตร.ม. | K36: =T36 -> 0 | L36: =IF(K36=0,0,ราคาต้นทุนงานทาง!J261) -> 0 | M36: =ROUNDDOWN(K36*L36,2) -> 0 | N36: =IF(K36=0,0,$N$172) -> 0 | O36: =ROUNDDOWN(L36*N36,2) -> 0 | P36: =ROUNDDOWN(K36*O36,2) -> 0 | R36: Para Slurry Seal | U36: ตร.ม.
B37: 2.2 | C37: งานผิวทางและไหล่ทาง Para Asphaltic concrete | V37: WIDENING | X37: ทางเชื่อม
C38: 2.5.1 | D38: งานผิวทางและไหล่ทางพาราแอสฟัลติกคอนกรีตชั้น Wearing Course | J38: ตร.ม. | K38: =T38+V38+X38 -> 0 | L38: =IF(K38=0,0,ราคาต้นทุนงานทาง!J300) -> 0 | M38: =ROUNDDOWN(K38*L38,2) -> 0 | N38: =IF(K38=0,0,$N$172) -> 0 | O38: =ROUNDDOWN(L38*N38,2) -> 0 | P38: =ROUNDDOWN(K38*O38,2) -> 0 | R38: Asphaltic Concrete | T38: =IF(AND(D5=R38,E39>0),T32,0) -> 0 | U38: ตร.ม. | V38: 0 | W38: ตร.ม. | X38: ='ทางเชื่อม (AC)'!O26 -> 0 | Y38: ตร.ม.
D39: ความหนา | E39: 5 | F39: ซม. (ปูบน PRIME COAT)
C40: 2.5.2 | D40: งานผิวทางและไหล่ทางพาราแอสฟัลติกคอนกรีตชั้น Wearing Course | J40: ตร.ม. | K40: =T40+V40+X40 -> 0 | L40: =IF(K40=0,0,ราคาต้นทุนงานทาง!J329) -> 0 | M40: =K40*L40 -> 0 | N40: =IF(K40=0,0,$N$172) -> 0 | O40: =ROUND(L40*N40,2) -> 0 | P40: =ROUNDDOWN(K40*O40,2) -> 0 | R40: Asphaltic Concrete | T40: =IF(AND(D5=R40,E41>0),T33,0) -> 0 | U40: ตร.ม.
D41: ความหนา | E41: 5 | F41: ซม. (ปูบน TACK COAT)
B42: 2.6 | C42: งานผิวทางและไหล่ทางคอนกรีตเสริมเหล็ก | W42: 18472050
C43: 2.6.1 | D43: งานผิวทางและไหล่ทางคอนกรีตเสริมเหล็ก ความหนา | I43: ซม. | J43: ตร.ม. | K43: =T43 -> 0 | L43: =IF(K43=0,0,ราคาต้นทุนงานทาง!J363) -> 0 | M43: =K43*L43 -> 0 | N43: =IF(K43=0,0,$N$172) -> 0 | O43: =ROUND(L43*N43,2) -> 0 | P43: =ROUNDDOWN(K43*O43,2) -> 0 | R43: Concrete | T43: =IF(D5=R43,ROUNDDOWN((Soil!AA210+Soil!AB210)+((0.5)*(T5+V5)*(X5)),0),0) -> 0 | U43: ตร.ม.
C44: 2.6.2 | D44: Expansion Joint | J44: เมตร | K44: =T44 -> 0 | L44: =IF(K44=0,0,ราคาต้นทุนงานทาง!J406) -> 0 | M44: =K44*L44 -> 0 | N44: =IF(K44=0,0,$N$172) -> 0 | O44: =ROUND(L44*N44,2) -> 0 | P44: =ROUNDDOWN(K44*O44,2) -> 0 | R44: Expansion Joint | T44: =IF(D5=R43,(ROUNDUP(T2*1000/100,0)+1)*T3,0) -> 0 | U44: ม.
C45: 2.6.3 | D45: Contraction Joint | J45: เมตร | K45: =T45 -> 0 | L45: =IF(K45=0,0,ราคาต้นทุนงานทาง!J451) -> 0 | M45: =K45*L45 -> 0 | N45: =IF(K45=0,0,$N$172) -> 0 | O45: =ROUND(L45*N45,2) -> 0 | P45: =ROUNDDOWN(K45*O45,2) -> 0 | R45: Contraction Joint | T45: =IF(D5=R43,(INT(T2*1000/10)*T3)-T44,0) -> 0 | U45: ม.
C46: 2.6.4 | D46: Longitudinal Joint | J46: เมตร | K46: =T46 -> 0 | L46: =IF(K46=0,0,ราคาต้นทุนงานทาง!J490) -> 0 | M46: =K46*L46 -> 0 | N46: =IF(K46=0,0,$N$172) -> 0 | O46: =ROUND(L46*N46,2) -> 0 | P46: =ROUNDDOWN(K46*O46,2) -> 0 | R46: Longitudinal Joint | T46: =IF(D5=R43,T2*1000,0) -> 0 | U46: ม.
C47: 2.6.5 | D47: Dummy Joint | J47: เมตร | K47: 0 | M47: =K47*L47 -> 0 | N47: =IF(K47=0,0,$N$172) -> 0 | O47: =ROUND(L47*N47,2) -> 0 | P47: =M47*N47 -> 0
C48: 2.6.6 | D48: Edge Joint | J48: เมตร | K48: 0 | M48: =K48*L48 -> 0 | N48: =IF(K48=0,0,$N$172) -> 0 | O48: =ROUND(L48*N48,2) -> 0 | P48: =M48*N48 -> 0
B49: 2.7 | C49: งานผิวทางและไหล่ทาง ชนิดอื่น ๆ ( ระบุชนิด ) | J49: ตร.ม. | K49: 0 | L49: =IF(K49=0,0,0) -> 0 | M49: =K49*L49 -> 0 | N49: =IF(K49=0,0,$N$172) -> 0 | O49: =ROUND(L49*N49,2) -> 0 | P49: =ROUNDDOWN(K49*O49,2) -> 0
R50: งานสีเทอร์โมพลาติก | T50: =(T2*1000) -> 840 | U50: ม. | V50: แถบสีกว้าง (ม.)
A51: 3 | B51: งานตีเส้นจราจร | R51: สีเหลืองทึบ | S51: 0.5 | T51: =T50*S51*V51 -> 42 | U51: ตร.ม. | V51: 0.1 | W51: พท.รวม (ตร.ม.)
B52: 3.1 | C52: สีเทอร์โมพลาสติก | E52: ="(แถบสีขาวกว้าง "&FIXED(V53,2)&" ม. แถบสีเหลืองกว้าง "&FIXED(V51,2)&" ม.)" -> (แถบสีขาวกว้าง 0.10 ม. แถบสีเหลืองกว้าง 0.10 ม.) | J52: ตร.ม. | K52: =ROUNDDOWN(SUM(W52),0)*0 -> 0 | L52: =IF(K52=0,0,280) -> 0 | M52: =ROUNDDOWN(K52*L52,2) -> 0 | N52: =IF(K52=0,0,$N$172) -> 0 | O52: =ROUNDDOWN(L52*N52,2) -> 0 | P52: =ROUNDDOWN(K52*O52,2) -> 0 | R52: สีเหลืองประ | S52: =1-S51 -> 0.5 | T52: =T50*S52*V52*3/12 -> 10.5 | U52: ตร.ม. | V52: =V51 -> 0.1 | W52: =ROUNDDOWN(SUM(T51:T53),1) -> 220.5
B53: 3.2 | C53: สี Traffic Paint | J53: ตร.ม. | K53: 0 | L53: =IF(K53=0,0,412) -> 0 | M53: =ROUNDDOWN(K53*L53,2) -> 0 | N53: =IF(K53=0,0,$N$172) -> 0 | O53: =ROUNDDOWN(L53*N53,2) -> 0 | P53: =ROUNDDOWN(K53*O53,2) -> 0 | R53: สีขาว | S53: 2 | T53: =T50*S53*V53 -> 168 | U53: ตร.ม. | V53: 0.1
B54: 3.3 | C54: Rumble Strips | J54: ตร.ม. | K54: =ROUNDDOWN(T54*W54,2) -> 0 | L54: =IF(K54=0,0,400) -> 0 | M54: =ROUNDDOWN(K54*L54,2) -> 0 | N54: =IF(K54=0,0,$N$172) -> 0 | O54: =ROUNDDOWN(L54*N54,2) -> 0 | P54: =ROUNDDOWN(K54*O54,2) -> 0 | R54: จำนวน Rumble Strip | T54: 0 | U54: แห่ง พ.ท. Rumbel Sreip | W54: =IF(T54=0,0,IF(I5<=6,((I5/2)-0.4)*0.1*10*3,((7/2)-0.4)*0.1*10*3)) -> 0 | X54: ตร.ม./แห่ง
B55: 3.4 | C55: ทางม้าลาย | J55: ตร.ม. | K55: 0 | L55: =IF(K55=0,0,2659) -> 0 | M55: =K55*L55 -> 0 | N55: =IF(K55=0,0,$N$172) -> 0 | O55: =ROUND(L55*N55,2) -> 0 | P55: =ROUNDDOWN(K55*O55,2) -> 0
A57: 4 | B57: งานเบ็ดเตล็ด
B58: 4.1 | C58: งานระบบระบายน้ำ
C59: 4.1.1 | D59: งานท่อระบายน้ำ คสล. ชนิดกลม | R59: ความยาว | T59: ทางเชื่อม
C60: 4.1.1(1) | D60: ท่อลอดกลม คสล. ขนาด Ø 0.30 เมตร | J60: ท่อน | K60: =R60+T60 -> 0 | L60: =IF(K60=0,0,ราคาต้นทุนงานทาง!J547) -> 0 | R60: 0 | S60: ม.
C61: 4.1.1(1) | D61: ท่อลอดกลม คสล. ขนาด Ø 0.40 เมตร | J61: ท่อน | K61: =R61+T61 -> 0 | L61: =IF(K61=0,0,ราคาต้นทุนงานทาง!J532) -> 0 | M61: =K61*L61 -> 0 | N61: =IF(K61=0,0,$N$172) -> 0 | O61: =ROUND(L61*N61,2) -> 0 | P61: =ROUNDDOWN(K61*O61,2) -> 0 | R61: 0 | S61: ม. | T61: ='ทางเชื่อม (AC)'!C31 -> 0 | U61: ม.
C62: 4.1.1(2) | D62: ท่อลอดกลม คสล. ขนาด Ø 0.60 เมตร | J62: ท่อน | K62: =R62+T62 -> 0 | L62: =IF(K62=0,0,ราคาต้นทุนงานทาง!J549) -> 0 | M62: =K62*L62 -> 0 | N62: =IF(K62=0,0,$N$172) -> 0 | O62: =ROUND(L62*N62,2) -> 0 | P62: =ROUNDDOWN(K62*O62,2) -> 0 | R62: 0 | S62: ม. | T62: ='ทางเชื่อม (AC)'!C32 -> 0 | U62: ม.
C63: 4.1.1(3) | D63: ท่อลอดกลม คสล. ขนาด Ø 0.80 เมตร | J63: เมตร | K63: =R63+T63 -> 0 | L63: =IF(K63=0,0,ราคาต้นทุนงานทาง!J566) -> 0 | M63: =K63*L63 -> 0 | N63: =IF(K63=0,0,$N$172) -> 0 | O63: =ROUND(L63*N63,2) -> 0 | P63: =ROUNDDOWN(K63*O63,2) -> 0 | R63: 0 | S63: ม. | T63: ='ทางเชื่อม (AC)'!C33 -> 0 | U63: ม.
C64: 4.1.1(4) | D64: ท่อลอดกลม คสล. ขนาด Ø 1.00 เมตร +พร้อมเรียงหินยาแนวปากท่อ | J64: ท่อน | K64: 0 | L64: =IF(K64=0,0,ราคาต้นทุนงานทาง!J583)+ราคาต้นทุนงานทาง!K878 -> 533 | M64: =K64*L64 -> 0 | N64: =IF(K64=0,0,$N$172) -> 0 | O64: =ROUND(L64*N64,2) -> 0 | P64: =ROUNDDOWN(K64*O64,2) -> 0 | R64: 1 | S64: ม. | T64: ='ทางเชื่อม (AC)'!C34 -> 0 | U64: ม.
C65: 4.1.1(5) | D65: ท่อลอดกลม คสล. ขนาด Ø 1.20 เมตร | J65: ท่อน | K65: =R65+T65 -> 0 | L65: =IF(K65=0,0,ราคาต้นทุนงานทาง!J600) -> 0 | M65: =K65*L65 -> 0 | N65: =IF(K65=0,0,$N$172) -> 0 | O65: =ROUND(L65*N65,2) -> 0 | P65: =ROUNDDOWN(K65*O65,2) -> 0 | R65: 0 | S65: ม. | T65: ='ทางเชื่อม (AC)'!C35 -> 0 | U65: ม.
C66: 4.1.1(5) | D66: ท่อลอดกลม คสล. ขนาด Ø 1.50 เมตร | J66: เมตร | K66: =R66+T66 -> 0 | L66: =IF(K66=0,0,ราคาต้นทุนงานทาง!J553) -> 0 | R66: 0
C67: 4.1.2 | D67: งานกำแพง คสล. ปากท่อ
C68: 4.1.2(1) | D68: สำหรับท่อกลมขนาด | G68: 1 แถว - Ø 0.40 เมตร | J68: ท่อน | K68: 0 | L68: =IF(K68=0,0,ราคาต้นทุนงานทาง!K633) -> 0 | M68: =K68*L68 -> 0 | N68: =IF(K68=0,0,$N$172) -> 0 | O68: =ROUND(L68*N68,2) -> 0 | P68: =ROUNDDOWN(K68*O68,2) -> 0
C69: 4.1.2(2) | D69: สำหรับท่อกลมขนาด | G69: 1 แถว - Ø 0.40 เมตร | J69: ท่อน | K69: 0 | L69: =IF(K69=0,0,ราคาต้นทุนงานทาง!K645) -> 0 | M69: =K69*L69 -> 0 | N69: =IF(K69=0,0,$N$172) -> 0 | O69: =ROUND(L69*N69,2) -> 0 | P69: =ROUNDDOWN(K69*O69,2) -> 0
C70: 4.1.2(3) | D70: สำหรับท่อกลมขนาด | G70: 1 แถว - Ø 0.40 เมตร | J70: ท่อน | K70: 0 | L70: =IF(K70=0,0,ราคาต้นทุนงานทาง!K657) -> 0 | M70: =K70*L70 -> 0 | N70: =IF(K70=0,0,$N$172) -> 0 | O70: =ROUND(L70*N70,2) -> 0 | P70: =ROUNDDOWN(K70*O70,2) -> 0
C71: 4.1.3 | D71: รางระบายน้ำ คสล.
C72: 4.1.3(1) | D72: - แบบตัววี แบบ รน-303/56 | J72: เมตร | K72: 0 | M72: =K72*L72 -> 0 | N72: =IF(K72=0,0,$N$172) -> 0 | O72: =ROUND(L72*N72,2) -> 0 | P72: =ROUNDDOWN(K72*O72,2) -> 0
C73: 4.1.3(2) | D73: - แบบตัวยูพร้อมฝาปิด (แบบเลขที่ รน-301/56) ชนิด | H73: ค-50 | J73: เมตร | K73: 0 | L73: =IF(K73=0,0,ราคาต้นทุนงานทาง!K708) -> 0 | M73: =ROUNDDOWN(K73*L73,2) -> 0 | N73: =IF(K73=0,0,$N$172) -> 0 | O73: =ROUNDDOWN(L73*N73,0) -> 0 | P73: =ROUNDDOWN(K73*O73,0) -> 0
C74: 4.1.3(3) | D74: - แบบอื่น ๆ | J74: เมตร | K74: 0 | M74: =K74*L74 -> 0 | N74: =IF(K74=0,0,$N$172) -> 0 | O74: =ROUND(L74*N74,2) -> 0 | P74: =ROUNDDOWN(K74*O74,2) -> 0
C75: 4.1.4 | D75: งานบ่อรับน้ำ คสล.
C76: 4.1.4(1) | D76: สำหรับท่อกลมขนาด 1 แถว - Ø 0.60 เมตร | J76: บ่อ | K76: 0 | M76: =K76*L76 -> 0 | N76: =IF(K76=0,0,$N$172) -> 0 | O76: =ROUND(L76*N76,2) -> 0 | P76: =ROUNDDOWN(K76*O76,2) -> 0
C77: 4.1.4(2) | D77: สำหรับท่อกลมขนาด 2 แถว - Ø 0.60 เมตร | J77: บ่อ | K77: 0 | M77: =K77*L77 -> 0 | N77: =IF(K77=0,0,$N$172) -> 0 | O77: =ROUND(L77*N77,2) -> 0 | P77: =ROUNDDOWN(K77*O77,2) -> 0
C78: 4.1.5 | D78: โครงสร้างระบายน้ำ อื่น ๆ ( ระบุชนิด )
B79: 4.2 | C79: งานปลูกหญ้า
C80: 4.2.1 | D80: แบบ ปักแถว | J80: ตร.ม. | K80: 0 | M80: =K80*L80 -> 0 | N80: =IF(K80=0,0,$N$172) -> 0 | O80: =ROUND(L80*N80,2) -> 0 | P80: =ROUNDDOWN(K80*O80,2) -> 0
C81: 4.2.2 | D81: แบบ ปูแผ่น | J81: ตร.ม. | K81: 0 | M81: =K81*L81 -> 0 | N81: =IF(K81=0,0,$N$172) -> 0 | O81: =ROUND(L81*N81,2) -> 0 | P81: =ROUNDDOWN(K81*O81,2) -> 0
C82: 4.2.3 | D82: ชนิด.................... | J82: ตร.ม. | K82: 0 | M82: =K82*L82 -> 0 | N82: =IF(K82=0,0,$N$172) -> 0 | O82: =ROUND(L82*N82,2) -> 0 | P82: =ROUNDDOWN(K82*O82,2) -> 0
A84: 5 | B84: งานจราจรสงเคราะห์
B85: 5.1 | C85: งานปรับปรุง
C86: 5.1.1 | D86: หลักแนวโค้ง ค.ส.ล. | J86: หลัก | K86: 0 | L86: =IF(K86=0,0,110) -> 0 | M86: =ROUNDDOWN(K86*L86,2) -> 0 | N86: =IF(K86=0,0,$N$172) -> 0 | O86: =ROUNDDOWN(L86*N86,2) -> 0 | P86: =ROUNDDOWN(K86*O86,2) -> 0
C87: 5.1.2 | D87: หลักกิโลเมตร | J87: หลัก | K87: 0 | L87: =IF(K87=0,0,400) -> 0 | M87: =ROUNDDOWN(K87*L87,2) -> 0 | N87: =IF(K87=0,0,$N$172) -> 0 | O87: =ROUNDDOWN(L87*N87,2) -> 0 | P87: =ROUNDDOWN(K87*O87,2) -> 0
C88: 5.1.3 | D88: ป้ายจราจร | J88: ชุด | K88: 0 | L88: =IF(K88=0,0,200) -> 0 | M88: =ROUNDDOWN(K88*L88,2) -> 0 | N88: =IF(K88=0,0,$N$172) -> 0 | O88: =ROUNDDOWN(L88*N88,2) -> 0 | P88: =ROUNDDOWN(K88*O88,2) -> 0
C89: 5.1.4 | D89: GUARD RAIL | J89: เมตร | K89: 0 | L89: =IF(K89=0,0,100) -> 0 | M89: =ROUNDDOWN(K89*L89,2) -> 0 | N89: =IF(K89=0,0,$N$172) -> 0 | O89: =ROUNDDOWN(L89*N89,2) -> 0 | P89: =ROUNDDOWN(K89*O89,2) -> 0
B90: 5.2 | C90: งานติดตั้ง
D91: งานป้ายจราจร ใช้แผ่นสะท้อนแสงตาม มาตรฐาน มอก.606
C92: 5.2.1 | D92: ป้ายกำหนดน้ำหนักบรรทุก (จร-120/56) | J92: ชุด | K92: 0 | L92: =IF(K92=0,0,11740) -> 0 | M92: =ROUNDDOWN(K92*L92,2) -> 0 | N92: =IF(K92=0,0,$N$172) -> 0 | O92: =ROUNDDOWN(L92*N92,2) -> 0 | P92: =ROUNDDOWN(K92*O92,2) -> 0
C93: 5.2.2 | D93: แบบ บ.1 | J93: ชุด | K93: 0 | L93: =IF(K93=0,0,4330) -> 0 | M93: =ROUNDDOWN(K93*L93,2) -> 0 | N93: =IF(K93=0,0,$N$172) -> 0 | O93: =ROUNDDOWN(L93*N93,2) -> 0 | P93: =ROUNDDOWN(K93*O93,2) -> 0
C94: 5.2.3 | D94: แบบ บ.2 | J94: ชุด | K94: 0 | L94: =IF(K94=0,0,2580) -> 0 | M94: =ROUNDDOWN(K94*L94,2) -> 0 | N94: =IF(K94=0,0,$N$172) -> 0 | O94: =ROUNDDOWN(L94*N94,2) -> 0 | P94: =ROUNDDOWN(K94*O94,2) -> 0
C95: 5.2.4 | D95: แบบ บ.33 | J95: ชุด | K95: 0 | L95: =IF(K95=0,0,2940) -> 0 | M95: =ROUNDDOWN(K95*L95,2) -> 0 | N95: =IF(K95=0,0,$N$172) -> 0 | O95: =ROUNDDOWN(L95*N95,2) -> 0 | P95: =ROUNDDOWN(K95*O95,2) -> 0
C96: 5.2.5 | D96: แบบ บ.37 - บ.55 | J96: ชุด | K96: 0 | L96: =IF(K96=0,0,2940) -> 0 | M96: =ROUNDDOWN(K96*L96,2) -> 0 | N96: =IF(K96=0,0,$N$172) -> 0 | O96: =ROUNDDOWN(L96*N96,2) -> 0 | P96: =ROUNDDOWN(K96*O96,2) -> 0
C97: 5.2.6 | D97: แบบ ต.14 | J97: ชุด | K97: 0 | L97: =IF(K97=0,0,3170) -> 0 | M97: =ROUNDDOWN(K97*L97,2) -> 0 | N97: =IF(K97=0,0,$N$172) -> 0 | O97: =ROUNDDOWN(L97*N97,2) -> 0 | P97: =ROUNDDOWN(K97*O97,2) -> 0
C98: 5.2.7 | D98: แบบ ต.28 - ต.30 , ต.62 | J98: ชุด | K98: 0 | L98: =IF(K98=0,0,4330) -> 0 | M98: =ROUNDDOWN(K98*L98,2) -> 0 | N98: =IF(K98=0,0,$N$172) -> 0 | O98: =ROUNDDOWN(L98*N98,2) -> 0 | P98: =ROUNDDOWN(K98*O98,2) -> 0
C99: 5.2.8 | D99: แบบ ต.61 | J99: ชุด | K99: 0 | L99: =IF(K99=0,0,5200) -> 0 | M99: =ROUNDDOWN(K99*L99,2) -> 0 | N99: =IF(K99=0,0,$N$172) -> 0 | O99: =ROUNDDOWN(L99*N99,2) -> 0 | P99: =ROUNDDOWN(K99*O99,2) -> 0
C100: 5.2.9 | D100: แบบ ต.63 , ต.66 (1 แผ่นป้ายต่อชุด) | J100: ชุด | K100: 0 | L100: =IF(K100=0,0,4890) -> 0 | M100: =ROUNDDOWN(K100*L100,2) -> 0 | N100: =IF(K100=0,0,$N$172) -> 0 | O100: =ROUNDDOWN(L100*N100,2) -> 0 | P100: =ROUNDDOWN(K100*O100,2) -> 0
C101: 5.2.10 | D101: แบบ ต.63 , ต.66 (2 แผ่นป้ายต่อชุด) | J101: ชุด | K101: 0 | L101: =IF(K101=0,0,(2*2770)+2120) -> 0 | M101: =ROUNDDOWN(K101*L101,2) -> 0 | N101: =IF(K101=0,0,$N$172) -> 0 | O101: =ROUNDDOWN(L101*N101,2) -> 0 | P101: =ROUNDDOWN(K101*O101,2) -> 0
C102: 5.2.11 | D102: แบบ ต.64 , ต.67 | J102: ชุด | K102: 0 | L102: =IF(K102=0,0,4210) -> 0 | M102: =ROUNDDOWN(K102*L102,2) -> 0 | N102: =IF(K102=0,0,$N$172) -> 0 | O102: =ROUNDDOWN(L102*N102,2) -> 0 | P102: =ROUNDDOWN(K102*O102,2) -> 0
C103: 5.2.12 | D103: แบบ ต.65 , ต.68 , ต.70 | J103: ชุด | K103: 0 | L103: =IF(K103=0,0,6550) -> 0 | M103: =ROUNDDOWN(K103*L103,2) -> 0 | N103: =IF(K103=0,0,$N$172) -> 0 | O103: =ROUNDDOWN(L103*N103,2) -> 0 | P103: =ROUNDDOWN(K103*O103,2) -> 0
...

Sheet ปร.4_2
A1: แบบประเมินราคางานก่อสร้างสะพานและท่อลอดเหลี่ยม
A2: ชื่อโครงการ | C2: =ปร.4_1!C2 -> ซ่อมแซมผิวทางแบบเซอร์เฟซทรีตเมนต์ชั้นเดียว S.S.T. สายป่าตอ-ใสขรบ หมู่ที่ 5
A3: สถานที่ก่อสร้าง | D3: =ปร.4_1!C3 -> ตำบลควนขนุน อำเภอควนขนุน จังหวัดพัทลุง
A4: จำนวน | C4: 1 | E4: แห่ง
A5: ผิวทาง | C5: =ปร.4_1!D5 -> 0 | F5: กว้าง | G5: =ปร.4_1!I5 -> 5 | H5: เมตร
A6: ไหล่ทาง | C6: =ปร.4_1!D6 -> 0 | F6: กว้างข้างละ | G6: =ปร.4_1!I6 -> 0 | H6: เมตร
A7: ประมาณราคาวันที่ | D7: =ปร.4_1!D7 -> 30 มิถุนายน พ.ศ. 2563
A8: ลำดับที่ | B8: รายการ | J8: หน่วย | K8: ปริมาณ | L8: ค่างานต้นทุน (บาท) | N8: Factor F | O8: ราคากลาง (บาท) | Q8: หมายเหตุ
L9: ราคาต่อหน่วย | M9: รวม | O9: ราคาต่อหน่วย | P9: รวม | W9: P1 | X9: =11.75-0.24-0.6-0.7-0.8-8 -> 1.41
B10: ประเภทงานสะพานและท่อลอดเหลี่ยม | W10: P2 | X10: =12.5-0.24-0.6-1.9-1.8-6 -> 1.96
A11: 1 | B11: งานสะพาน คสล. | W11: P3 | X11: =12.979-0.24-0.6-1.9-1.8-6 -> 2.439
B12: 1.1 | C12: งานก่อสร้างสะพานที่ กม. | F12: - | G12: ถึง กม. | H12: - | W12: P4 | X12: =12.96-0.24-0.6-1.9-1.8-6 -> 2.42 | Y12: =(X11+X12+X15)/3 -> 2.3406667
C13: ความกว้าง | E13: 0 | F13: เมตร ความยาว | G13: 0 | H13: เมตร
C14: ทางเท้ากว้างข้างละ | F14: 0 | G14: เมตร
C15: 1.1.1 | D15: งานเสาเข็ม | W15: P5 | X15: =12.703-0.24-0.6-1.9-1.8-6 -> 2.163
D16: 1.1.1(1) เสาเข็ม ขนาด 0.40 ม. x 0.40 ม. ความยาว | H16: 10 | I16: เมตร | J16: ต้น | K16: 0 | L16: =IF(K16=0,0,ราคาต้นทุนงานทาง!K924) -> 0 | M16: =K16*L16 -> 0 | N16: =IF(K16=0,0,$N$90) -> 0 | O16: =ROUNDDOWN(L16*N16,0) -> 0 | P16: =ROUNDDOWN(M16*N16,0) -> 0 | W16: P6 | X16: =12.25-0.24-0.6-1.9-1.8-6 -> 1.71 | Y16: =(X10+X16)/2 -> 1.835
D17: 1.1.1(2) สกัดหัวเสาเข็ม ขนาด 0.40 x 0.40 ม. | J17: ต้น | K17: 0 | L17: =IF(K17=0,0,ราคาต้นทุนงานทาง!K933) -> 0 | M17: =K17*L17 -> 0 | N17: =IF(K17=0,0,$N$90) -> 0 | O17: =ROUNDDOWN(L17*N17,0) -> 0 | P17: =ROUNDDOWN(M17*N17,0) -> 0 | W17: P7 | X17: =11.7-0.24-0.6-0.7-0.8-8 -> 1.36 | Y17: =(X9+X17)/2 -> 1.385
D18: 1.1.1(3) ตอกเสาเข็ม ขนาด 0.40 x 0.40 ม. | J18: ต้น | K18: 0 | L18: =IF(K18=0,0,ราคาต้นทุนงานทาง!K929) -> 0 | M18: =K18*L18 -> 0 | N18: =IF(K18=0,0,$N$90) -> 0 | O18: =ROUNDDOWN(L18*N18,0) -> 0 | P18: =ROUNDDOWN(M18*N18,0) -> 0
D19: 1.1.1(4) นั่งร้านตอกเสาเข็ม | J19: ตร.ม. | K19: 0 | L19: =IF(K19=0,0,ราคาต้นทุนงานทาง!K947) -> 0 | M19: =K19*L19 -> 0 | N19: =IF(K19=0,0,$N$90) -> 0 | O19: =ROUNDDOWN(L19*N19,0) -> 0 | P19: =ROUNDDOWN(M19*N19,0) -> 0 | X19: =1.36*2 -> 2.72
C20: 1.1.2 | D20: งานตอม่อรับพื้นสะพาน | X20: =(2.72*2.72)+(1.36*1.36) -> 9.248 | Y20: =(2.66*2.66)+(5.32*5.32) -> 35.378
D21: 1.2.2(1) ตอม่อตับริมแบบ ช่วง 00.00 ม. และ ช่วง 24.00 ม.(P) | J21: ตับ | K21: 0 | L21: =IF(K21=0,0,ราคาต้นทุนงานทาง!K966) -> 0 | M21: =K21*L21 -> 0 | N21: =IF(K21=0,0,$N$90) -> 0 | O21: =ROUNDDOWN(L21*N21,0) -> 0 | P21: =ROUNDDOWN(M21*N21,0) -> 0 | X21: =1.7*2.5 -> 4.25 | Y21: =1.36+0.7+0.6 -> 2.66 | Z21: =Y21*2 -> 5.32
D22: 1.2.2(2) ตอม่อตับกลางแบบ ช่วง 8.00 + 16.00 ม.(P) | J22: ตับ | K22: 0 | L22: =IF(K22=0,0,ราคาต้นทุนงานทาง!K982) -> 0 | M22: =K22*L22 -> 0 | N22: =IF(K22=0,0,$N$90) -> 0 | O22: =ROUNDDOWN(L22*N22,0) -> 0 | P22: =ROUNDDOWN(M22*N22,0) -> 0
D23: 1.2.2(5) งานแผงปิดตอม่อ ช่วง 00.00 + 00.00 (P) | J23: ฐาน | K23: 0 | L23: 0 | M23: =K23*L23 -> 0 | N23: =IF(K23=0,0,$N$90) -> 0 | O23: =ROUNDDOWN(L23*N23,0) -> 0 | P23: =ROUNDDOWN(M23*N23,0) -> 0
C24: 1.1.3 | D24: งานพื้นสะพานหล่อในที่ | J24: ตร.ม. | K24: 0 | L24: =IF(K24=0,0,ราคาต้นทุนงานทาง!K996) -> 0 | M24: =K24*L24 -> 0 | N24: =IF(K24=0,0,$N$90) -> 0 | O24: =ROUNDDOWN(L24*N24,0) -> 0 | P24: =ROUNDDOWN(M24*N24,0) -> 0
C25: 1.1.4 | D25: งานพื้นสะพานหล่อสำเร็จ
D26: 1.1.4(1) หล่อคานอัดแรง Plank - Girder สำหรับช่วงความยาว 5.00 - 12.00 ม.(ตัวริม) | J26: คาน | K26: 0 | L26: =IF(K26=0,0,ราคาต้นทุนงานทาง!K1013) -> 0 | M26: =K26*L26 -> 0 | N26: =IF(K26=0,0,$N$90) -> 0 | O26: =ROUNDDOWN(L26*N26,0) -> 0 | P26: =ROUNDDOWN(M26*N26,0) -> 0
D27: 1.1.4(2) หล่อคานอัดแรง Plank - Girder สำหรับช่วงความยาว 5.00 - 12.00 ม.(ตัวใน) | J27: คาน | K27: 0 | L27: =IF(K27=0,0,ราคาต้นทุนงานทาง!K1029) -> 0 | M27: =K27*L27 -> 0 | N27: =IF(K27=0,0,$N$90) -> 0 | O27: =ROUNDDOWN(L27*N27,0) -> 0 | P27: =ROUNDDOWN(M27*N27,0) -> 0
D28: 1.1.4(3) ติดตั้งคานอัดแรง Plank - Girder สำหรับช่วงความยาว 5.00 - 12.00 ม. | J28: คาน | K28: 0 | L28: =IF(K28=0,0,ราคาต้นทุนงานทาง!K1030) -> 0 | M28: =K28*L28 -> 0 | N28: =IF(K28=0,0,$N$90) -> 0 | O28: =ROUNDDOWN(L28*N28,0) -> 0 | P28: =ROUNDDOWN(M28*N28,0) -> 0 | W28: 1.15 | X28: =(1.15*1.15)+(2.3*2.3) -> 6.6125
D29: 1.1.4(4) หล่อคานอัดแรง Box - Girder สำหรับช่วงความยาว 13.00 - 20.00 ม.(ตัวริม) | J29: คาน | K29: 0 | L29: =IF(K29=0,0,ราคาต้นทุนงานทาง!K1031) -> 0 | M29: =K29*L29 -> 0 | N29: =IF(K29=0,0,$N$90) -> 0 | O29: =ROUNDDOWN(L29*N29,0) -> 0 | P29: =ROUNDDOWN(M29*N29,0) -> 0
D30: 1.1.4(5) หล่อคานอัดแรง Box - Girder สำหรับช่วงความยาว 13.00 - 20.00 ม.(ตัวใน) | J30: คาน | K30: 0 | L30: =IF(K30=0,0,ราคาต้นทุนงานทาง!K1032) -> 0 | M30: =K30*L30 -> 0 | N30: =IF(K30=0,0,$N$90) -> 0 | O30: =ROUNDDOWN(L30*N30,0) -> 0 | P30: =ROUNDDOWN(M30*N30,0) -> 0
D31: 1.1.4(6) ติดตั้งคานอัดแรง Box - Girder สำหรับช่วงความยาว 13.00 - 20.00 ม. | J31: คาน | K31: 0 | L31: =IF(K31=0,0,ราคาต้นทุนงานทาง!K1033) -> 0 | M31: =K31*L31 -> 0 | N31: =IF(K31=0,0,$N$90) -> 0 | O31: =ROUNDDOWN(L31*N31,0) -> 0 | P31: =ROUNDDOWN(M31*N31,0) -> 0
D32: 1.1.4(7) หล่อคานอัดแรง I - Girder สำหรับช่วงความยาว 20.00 - 30.00 ม. | J32: คาน | K32: 0 | L32: =IF(K32=0,0,ราคาต้นทุนงานทาง!K1034) -> 0 | M32: =K32*L32 -> 0 | N32: =IF(K32=0,0,$N$90) -> 0 | O32: =ROUNDDOWN(L32*N32,0) -> 0 | P32: =ROUNDDOWN(M32*N32,0) -> 0
D33: 1.1.4(8) ติดตั้งคานอัดแรง I - Girder สำหรับช่วงความยาว 20.00 - 30.00 ม. | J33: คาน | K33: 0 | L33: =IF(K33=0,0,ราคาต้นทุนงานทาง!K1035) -> 0 | M33: =K33*L33 -> 0 | N33: =IF(K33=0,0,$N$90) -> 0 | O33: =ROUNDDOWN(L33*N33,0) -> 0 | P33: =ROUNDDOWN(M33*N33,0) -> 0
D34: 1.1.4(9) งานหล่อคานขวาง รับช่วงความยาว 20.00 - 30.00 ม. | J34: ช่วง | K34: 0 | L34: =IF(K34=0,0,ราคาต้นทุนงานทาง!K1036) -> 0 | M34: =K34*L34 -> 0 | N34: =IF(K34=0,0,$N$90) -> 0 | O34: =ROUNDDOWN(L34*N34,0) -> 0 | P34: =ROUNDDOWN(M34*N34,0) -> 0
D35: 1.1.4(10) งานคอนกรีต Topping | J35: ตร.ม. | K35: 0 | L35: =IF(K35=0,0,ราคาต้นทุนงานทาง!K1042) -> 0 | M35: =K35*L35 -> 0 | N35: =IF(K35=0,0,$N$90) -> 0 | O35: =ROUNDDOWN(L35*N35,0) -> 0 | P35: =ROUNDDOWN(M35*N35,0) -> 0 | W35: 2.3
C36: 1.1.5 | D36: งานทางเท้า ราวสะพาน และงาน เบ็ดเตล็ด อื่น ๆ | Y36: 2.57
D37: 1.1.5(1) งานราวสะพาน คสล. | J37: เมตร | K37: 0 | L37: =IF(K37=0,0,ราคาต้นทุนงานทาง!K1059) -> 0 | M37: =K37*L37 -> 0 | N37: =IF(K37=0,0,$N$90) -> 0 | O37: =ROUNDDOWN(L37*N37,0) -> 0 | P37: =ROUNDDOWN(M37*N37,0) -> 0 | V37: =(3.4*3.4)+(0.55*0.55) -> 11.8625 | Y37: =11.7*2.57*1.0642*2 -> 63.99886
D38: 1.1.5(2) งานทางเท้า คสล. | J38: เมตร | K38: 0 | L38: =IF(K38=0,0,ราคาต้นทุนงานทาง!K1072) -> 0 | M38: =K38*L38 -> 0 | N38: =IF(K38=0,0,$N$90) -> 0 | O38: =ROUNDDOWN(L38*N38,0) -> 0 | P38: =ROUNDDOWN(M38*N38,0) -> 0
D39: 1.1.5(3) งานป้ายชื่อสะพาน คสล. | J39: ป้าย | K39: 0 | L39: =IF(K39=0,0,ราคาต้นทุนงานทาง!K1087) -> 0 | M39: =K39*L39 -> 0 | N39: =IF(K39=0,0,$N$90) -> 0 | O39: =ROUNDDOWN(L39*N39,0) -> 0 | P39: =ROUNDDOWN(M39*N39,0) -> 0
D40: 1.1.4(4) ป้ายชื่อสะพาน ชนิดหินออ่นสีดำ ขนาด 0.25 x 0.85 เมตร | J40: ป้าย | K40: 0 | L40: =IF(K40=0,0,3500) -> 0 | M40: =K40*L40 -> 0 | N40: =IF(K40=0,0,$N$90) -> 0 | O40: =ROUNDDOWN(L40*N40,0) -> 0 | P40: =ROUNDDOWN(M40*N40,0) -> 0
D41: 1.1.5(5) ป้ายข้อมูลสะพานชนิด หินแกรนิตสีดำ ขนาด 0.18 x 0.38 ม. | J41: ป้าย | K41: 0 | L41: =IF(K41=0,0,3736) -> 0 | M41: =K41*L41 -> 0 | N41: =IF(K41=0,0,$N$90) -> 0 | O41: =ROUNDDOWN(L41*N41,0) -> 0 | P41: =ROUNDDOWN(M41*N41,0) -> 0 | W41: =2*3.142*0.5*3.3 -> 10.3686 | X41: =W41/2 -> 5.1843
D42: 1.1.5(6) รอยต่อเพื่อการขยายตัว | J42: เมตร | K42: 0 | L42: =IF(K42=0,0,290) -> 0 | M42: =K42*L42 -> 0 | N42: =IF(K42=0,0,$N$90) -> 0 | O42: =ROUNDDOWN(L42*N42,0) -> 0 | P42: =ROUNDDOWN(M42*N42,0) -> 0 | W42: =2*3.142*0.5*3.97 -> 12.47374 | X42: =W42 -> 12.47374
D43: 1.1.5(7) สีสะท้อนแสงคอสะพาน | J43: แห่ง | K43: 0 | L43: =IF(K43=0,0,500) -> 0 | M43: =K43*L43 -> 0 | N43: =IF(K43=0,0,$N$90) -> 0 | O43: =ROUNDDOWN(L43*N43,0) -> 0 | P43: =ROUNDDOWN(M43*N43,0) -> 0 | X43: 4.88
D44: 1.1.5(8) งานลาดทางเท้า | J44: ตร.ม. | K44: 0 | L44: =IF(K44=0,0,ราคาต้นทุนงานทาง!K1098) -> 0 | M44: =K44*L44 -> 0 | N44: =IF(K44=0,0,$N$90) -> 0 | O44: =ROUNDDOWN(L44*N44,0) -> 0 | P44: =ROUNDDOWN(M44*N44,0) -> 0
D45: 1.1.5(9) แท่นติดตั้งเสาไฟฟ้า (กรณีติดตั้งไฟฟ้าบนสะพาน) | J45: แท่น | K45: 0 | L45: =IF(K45=0,0,ราคาต้นทุนงานทาง!K1112) -> 0 | M45: =K45*L45 -> 0 | N45: =IF(K45=0,0,$N$90) -> 0 | O45: =ROUNDDOWN(L45*N45,0) -> 0 | P45: =ROUNDDOWN(M45*N45,0) -> 0
C46: 1.1.6 | D46: งานทางเบี่ยงชั่วคราว | J46: เงินจร | K46: 0 | L46: 0 | M46: =K46*L46 -> 0 | N46: =IF(K46=0,0,$N$90) -> 0 | O46: =ROUNDDOWN(L46*N46,0) -> 0 | P46: =ROUNDDOWN(M46*N46,0) -> 0
C47: 1.1.7 | D47: งานเสาไฟฟ้าและระบบไฟฟ้าแสงสว่างบนสะพาน
D48: 1.1.7(1) งานเสาไฟฟ้าแสงสว่างและอุปกรณ์ประกอบ
D49: - เสาไฟฟ้า สูง 9.00 เมตร กิ่งเดียวพร้อมอุปกรณ์ | J49: ชุด | K49: 0 | M49: =K49*L49 -> 0 | N49: =IF(K49=0,0,$N$90) -> 0 | O49: =ROUND(L49*N49,2) -> 0 | P49: =M49*N49 -> 0
D50: - เสาไฟฟ้า สูง 9.00 เมตร กิ่งคู่พร้อมอุปกรณ์ | J50: ชุด | K50: 0 | M50: =K50*L50 -> 0 | N50: =IF(K50=0,0,$N$90) -> 0 | O50: =ROUND(L50*N50,2) -> 0 | P50: =M50*N50 -> 0
D51: 1.1.7(2) ตู้ควบคุมไฟสะพานพร้อมอุปกรณ์ประกอบ | J51: ชุด | K51: 0 | M51: =K51*L51 -> 0 | N51: =IF(K51=0,0,$N$90) -> 0 | O51: =ROUND(L51*N51,2) -> 0 | P51: =M51*N51 -> 0
D52: 1.1.7(3) ท่อร้อยสายไฟฟ้า
D53: 1.1.7(3)(1) ท่อร้อยสายไฟฟ้า ชนิด HDPE และอุปกรณ์ประกอบ
D54: - ขนาดเส้นผ่านศูนย์กลาง...............มม. | J54: เมตร | K54: 0 | M54: =K54*L54 -> 0 | N54: =IF(K54=0,0,$N$90) -> 0 | O54: =ROUND(L54*N54,2) -> 0 | P54: =M54*N54 -> 0
D55: 1.1.7(3)(2)ท่อร้อยสายไฟฟ้า ชนิด RSC และอุปกรณ์ประกอบ
D56: - ขนาดเส้นผ่านศูนย์กลาง...............มม. | J56: เมตร | K56: 0 | M56: =K56*L56 -> 0 | N56: =IF(K56=0,0,$N$90) -> 0 | O56: =ROUND(L56*N56,2) -> 0 | P56: =M56*N56 -> 0
D57: 1.1.7(3)(3)ท่อร้อยสายไฟฟ้า ชนิด IMC และอุปกรณ์ประกอบ
D58: - ขนาดเส้นผ่านศูนย์กลาง...............มม. | J58: เมตร | K58: 0 | M58: =K58*L58 -> 0 | N58: =IF(K58=0,0,$N$90) -> 0 | O58: =ROUND(L58*N58,2) -> 0 | P58: =M58*N58 -> 0
D59: 1.1.7(3)(4)ท่อร้อยสายไฟฟ้า ชนิด PVC และอุปกรณ์ประกอบ
D60: - ขนาดเส้นผ่านศูนย์กลาง...............มม. | J60: เมตร | K60: 0 | M60: =K60*L60 -> 0 | N60: =IF(K60=0,0,$N$90) -> 0 | O60: =ROUND(L60*N60,2) -> 0 | P60: =M60*N60 -> 0
A61: 2 | B61: งานท่อลอดเหลี่ยม คสล.
B62: 2.1 | C62: งานท่อลอดเหลี่ยมที่ กม. | F62: 0 | S62: จำนวนช่อง (cell) | T62: ขนาดท่อลอดเหลี่ยม | Z62: จำนวนช่อง (cell) | AA62: ขนาดท่อลอดเหลี่ยม
C63: ขนาด | D63: =U63 -> 1.50 x 1.50 | F63: เมตร | G63: ความยาว | H63: 0 | I63: เมตร | S63: 1 | T63: 1.50 x 1.50 | U63: =IF(S63=0,0,IF(S63=1,T63,S63&" - "&T63)) -> 1.50 x 1.50 | Z63: 0 | AA63: -
C64: 2.1.1 | D64: งานขุดดิน | J64: ลบ.ม. | K64: 0 | L64: =IF(K64=0,0,ราคาต้นทุนงานทาง!H1117) -> 0 | M64: =K64*L64 -> 0 | N64: =IF(K64=0,0,$N$90) -> 0 | O64: =ROUNDDOWN(L64*N64,2) -> 0 | P64: =ROUNDDOWN(M64*N64,2) -> 0 | Z64: 1 | AA64: 1.20 x 1.20
C65: 2.1.2 | D65: งานคอนกรีตหยาบ | J65: ลบ.ม. | K65: 0 | L65: =IF(K65=0,0,ราคาต้นทุนงานทาง!H1118) -> 0 | M65: =K65*L65 -> 0 | N65: =IF(K65=0,0,$N$90) -> 0 | O65: =ROUNDDOWN(L65*N65,2) -> 0 | P65: =ROUNDDOWN(M65*N65,2) -> 0 | Z65: 2 | AA65: 1.50 x 1.50
C66: 2.1.3 | D66: ท่อลอดเหลี่ยมชนิดหล่อสำเร็จขนาด | H66: =D63 -> 1.50 x 1.50 | I66: เมตร | J66: เมตร | K66: =R66 -> 0 | L66: =IF(K66=0,0,ราคาต้นทุนงานทาง!H1119) -> 0 | M66: =K66*L66 -> 0 | N66: =IF(K66=0,0,$N$90) -> 0 | O66: =ROUNDDOWN(L66*N66,2) -> 0 | P66: =ROUNDDOWN(M66*N66,2) -> 0 | R66: =(H63-2)*0 -> 0
C67: 2.1.4 | D67: ค่ายกประกอบติดตั้งท่อลอดเหลี่ยมชนิดหล่อสำเร็จ | J67: เมตร | K67: =R67 -> 0 | L67: =IF(K67=0,0,ราคาต้นทุนงานทาง!H1120) -> 0 | M67: =K67*L67 -> 0 | N67: =IF(K67=0,0,$N$90) -> 0 | O67: =ROUNDDOWN(L67*N67,2) -> 0 | P67: =ROUNDDOWN(M67*N67,2) -> 0 | R67: =R66 -> 0
C68: 2.1.5 | D68: งานคอนกรีตโครงสร้าง | Z68: 3 | AA68: 1.80 x 1.80
D69: - คอนกรีต ค.2 สำหรับกำแพงปากท่อและทับหลัง | J69: ลบ.ม. | K69: 0 | L69: =IF(K69=0,0,ราคาต้นทุนงานทาง!H1122) -> 0 | M69: =K69*L69 -> 0 | N69: =IF(K69=0,0,$N$90) -> 0 | O69: =ROUNDDOWN(L69*N69,2) -> 0 | P69: =ROUNDDOWN(M69*N69,2) -> 0 | Z69: 4 | AA69: 2.10 x 2.10
D70: - คอนกรีต ค.3 สำหรับท่อลอดเหลี่ยมชนิดหล่อในที่ (ต่อเชื่อมกำแพงปากท่อ) | J70: ลบ.ม. | K70: 0 | L70: =IF(K70=0,0,ราคาต้นทุนงานทาง!H1123) -> 0 | M70: =K70*L70 -> 0 | N70: =IF(K70=0,0,$N$90) -> 0 | O70: =ROUNDDOWN(L70*N70,2) -> 0 | P70: =ROUNDDOWN(M70*N70,2) -> 0 | AA70: 2.40 x 2.40
C71: 2.1.6 | D71: งานไม้แบบ (3) | J71: ตร.ม. | K71: 0 | L71: =IF(K71=0,0,ราคาต้นทุนงานทาง!H1124) -> 0 | M71: =K71*L71 -> 0 | N71: =IF(K71=0,0,$N$90) -> 0 | O71: =ROUNDDOWN(L71*N71,2) -> 0 | P71: =ROUNDDOWN(M71*N71,2) -> 0
C72: 2.1.7 | D72: งานทรายถม | J72: ลบ.ม. | K72: 0 | L72: =IF(K72=0,0,ราคาต้นทุนงานทาง!H1125) -> 0 | M72: =K72*L72 -> 0 | N72: =IF(K72=0,0,$N$90) -> 0 | O72: =ROUNDDOWN(L72*N72,2) -> 0 | P72: =ROUNDDOWN(M72*N72,2) -> 0 | S72: เผื่อเศษความเสียหาย
C73: 2.1.8 | D73: งานเหล็กเสริม | R73: ปริมาณเหล็กเสริม | S73: 0.1 | T73: ปริมาณทั้งหมด
D74: - ขนาด RB 6 มม. ( SR24 ) | J74: กก. | K74: =T74 -> 0 | L74: =IF(K74=0,0,ราคาต้นทุนงานทาง!H1127) -> 0 | M74: =K74*L74 -> 0 | N74: =IF(K74=0,0,$N$90) -> 0 | O74: =ROUNDDOWN(L74*N74,2) -> 0 | P74: =ROUNDDOWN(M74*N74,2) -> 0 | R74: 0 | S74: =ROUNDDOWN(R74*$S$73,2) -> 0 | T74: =R74+S74 -> 0
D75: - ขนาด RB 9 มม. ( SR24 ) | J75: กก. | K75: =T75 -> 0 | L75: =IF(K75=0,0,ราคาต้นทุนงานทาง!H1128) -> 0 | M75: =K75*L75 -> 0 | N75: =IF(K75=0,0,$N$90) -> 0 | O75: =ROUNDDOWN(L75*N75,2) -> 0 | P75: =ROUNDDOWN(M75*N75,2) -> 0 | R75: 0 | S75: =ROUNDDOWN(R75*$S$73,2) -> 0 | T75: =R75+S75 -> 0
D76: - ขนาด RB 25 มม. ( SR24 ) : Dowel Bar | J76: กก. | K76: =T76 -> 0 | L76: =IF(K76=0,0,ราคาต้นทุนงานทาง!H1129) -> 0 | M76: =K76*L76 -> 0 | N76: =IF(K76=0,0,$N$90) -> 0 | O76: =ROUNDDOWN(L76*N76,2) -> 0 | P76: =ROUNDDOWN(M76*N76,2) -> 0 | R76: 0 | S76: =ROUNDDOWN(R76*$S$73,2) -> 0 | T76: =R76+S76 -> 0
D77: - ขนาด DB 12 มม. ( SD40 ) | J77: กก. | K77: =T77 -> 0 | L77: =IF(K77=0,0,ราคาต้นทุนงานทาง!H1130) -> 0 | M77: =K77*L77 -> 0 | N77: =IF(K77=0,0,$N$90) -> 0 | O77: =ROUNDDOWN(L77*N77,2) -> 0 | P77: =ROUNDDOWN(M77*N77,2) -> 0 | R77: 0 | S77: =ROUNDDOWN(R77*$S$73,2) -> 0 | T77: =R77+S77 -> 0
D78: - ขนาด DB 16 มม. ( SD40 ) | J78: กก. | K78: =T78 -> 0 | L78: =IF(K78=0,0,ราคาต้นทุนงานทาง!H1131) -> 0 | M78: =K78*L78 -> 0 | N78: =IF(K78=0,0,$N$90) -> 0 | O78: =ROUNDDOWN(L78*N78,2) -> 0 | P78: =ROUNDDOWN(M78*N78,2) -> 0 | R78: 0 | S78: =ROUNDDOWN(R78*$S$73,2) -> 0 | T78: =R78+S78 -> 0
D79: - ขนาด DB 20 มม. ( SD40 ) | J79: กก. | K79: =T79 -> 0 | L79: =IF(K79=0,0,ราคาต้นทุนงานทาง!H1132) -> 0 | M79: =K79*L79 -> 0 | N79: =IF(K79=0,0,$N$90) -> 0 | O79: =ROUNDDOWN(L79*N79,2) -> 0 | P79: =ROUNDDOWN(M79*N79,2) -> 0 | R79: 0 | S79: =ROUNDDOWN(R79*$S$73,2) -> 0 | T79: =R79+S79 -> 0
D80: - ขนาด DB 25 มม. ( SD40 ) | J80: กก. | K80: =T80 -> 0 | L80: =IF(K80=0,0,ราคาต้นทุนงานทาง!H1133) -> 0 | M80: =K80*L80 -> 0 | N80: =IF(K80=0,0,$N$90) -> 0 | O80: =ROUNDDOWN(L80*N80,2) -> 0 | P80: =ROUNDDOWN(M80*N80,2) -> 0 | R80: 0 | S80: =ROUNDDOWN(R80*$S$73,2) -> 0 | T80: =R80+S80 -> 0
D81: - ค่าแรงงานเหล็ก | J81: กก. | K81: =SUM(K74:K80) -> 0 | L81: =IF(K81=0,0,ราคาต้นทุนงานทาง!H1134) -> 0 | M81: =K81*L81 -> 0 | N81: =IF(K81=0,0,$N$90) -> 0 | O81: =ROUNDDOWN(L81*N81,2) -> 0 | P81: =ROUNDDOWN(M81*N81,2) -> 0
D82: - ลวดผูกเหล็กใช้ 2.5% | J82: กก. | K82: =K81*0.025 -> 0 | L82: =IF(K82=0,0,ราคาต้นทุนงานทาง!H1135) -> 0 | M82: =K82*L82 -> 0 | N82: =IF(K82=0,0,$N$90) -> 0 | O82: =ROUNDDOWN(L82*N82,2) -> 0 | P82: =ROUNDDOWN(M82*N82,2) -> 0 | R82: รวมราคาท่อเหลี่ยม | S82: ราคาท่อเหลี่ยม/เมตร
C83: 2.1.9 | D83: Joint Sealant | J83: ลิตร | K83: 0 | L83: =IF(K83=0,0,ราคาต้นทุนงานทาง!H1136) -> 0 | M83: =K83*L83 -> 0 | N83: =IF(K83=0,0,$N$90) -> 0 | O83: =ROUNDDOWN(L83*N83,2) -> 0 | P83: =ROUNDDOWN(M83*N83,2) -> 0 | R83: =SUM(P64:P83) -> 0 | S83: =ROUNDDOWN(R83/H63,0) -> #DIV/0!
C84: 2.1.10 | D84: งานดินถมหลังท่อ | J84: ลบ.ม. | M84: =K84*L84 -> 0 | N84: =IF(K84=0,0,$N$90) -> 0 | O84: =ROUNDDOWN(L84*N84,2) -> 0 | P84: =ROUNDDOWN(M84*N84,2) -> 0
B85: 2.2 | C85: งานทางเบี่ยงชั่วคราว (กรณีต้องก่อสร้างทางเบี่ยง)
C86: 2.2.1 | D86: งานทางเบี่ยงชั่วคราว | J86: เมตร | K86: 0 | L86: =IF(K86=0,0,ราคาต้นทุนงานทาง!K1150) -> 0 | M86: =K86*L86 -> 0 | N86: =IF(K86=0,0,$N$90) -> 0 | O86: =ROUNDDOWN(L86*N86,2) -> 0 | P86: =ROUNDDOWN(M86*N86,2) -> 0
C87: 2.2.2 | D87: ท่อกลม Ø 1.00 ม. สำหรับงานทางเบี่ยงชั่วคราว | J87: เมตร | K87: 0 | L87: =IF(K87=0,0,ราคาต้นทุนงานทาง!H1153) -> 0 | M87: =K87*L87 -> 0 | N87: =IF(K87=0,0,$N$90) -> 0 | O87: =ROUNDDOWN(L87*N87,2) -> 0 | P87: =ROUNDDOWN(M87*N87,2) -> 0
C89: รวมค่างานต้นทุนงานสะพานและท่อลอดเหลี่ยม | M89: =SUM(M11:M88) -> 0
C90: FACTOR F | N90: =IF(M89=0,0,'F สะพาน'!U14) -> 0
C91: เป็นเงินค่างานประเมิน | P91: =SUM(P11:P90) -> 0
D94: =ปร.4_1!C175 -> 0 | E94: =ปร.4_1!D175 -> 0 | H94: =ปร.4_1!H175 -> 0 | L94: =ปร.4_1!L175 -> 0 | M94: =ปร.4_1!M175 -> 0 | P94: =ปร.4_1!P175 -> 0
E95: =ปร.4_1!D176 -> 0 | M95: =ปร.4_1!M176 -> 0
D96: =ปร.4_1!C177 -> 0 | E96: =ปร.4_1!D177 -> 0 | L96: =ปร.4_1!L177 -> 0 | M96: =ปร.4_1!M177 -> 0

Sheet ปร.4_1 ท
A1: แบบประเมินราคางานก่อสร้างทาง
A2: ชื่อโครงการ | C2: =ปร.4_1!C2 -> ซ่อมแซมผิวทางแบบเซอร์เฟซทรีตเมนต์ชั้นเดียว S.S.T. สายป่าตอ-ใสขรบ หมู่ที่ 5
A3: สถานที่ | C3: =ปร.4_1!C3 -> ตำบลควนขนุน อำเภอควนขนุน จังหวัดพัทลุง
A4: =ปร.4_1!A4 -> ระยะทางดำเนินการ | E4: ='ปร.5 ท'!L12 -> 0.84 | F4: กม.
A5: ซ่อมสร้างผิวทาง | D5: =ปร.4_1!D5 -> 0 | E5: กว้าง | F5: =ปร.4_2!G5 -> 5 | G5: เมตร
A6: ซ่อมสร้างไหล่ทาง | D6: =ปร.4_1!D6 -> 0 | E6: กว้างข้างละ | F6: =ปร.4_2!G6 -> 0 | G6: เมตร
A7: ประมาณราคาวันที่ | D7: =ปร.4_2!D7 -> 30 มิถุนายน พ.ศ. 2563
A8: ลำดับที่ | B8: รายการ | H8: หน่วย | I8: ปริมาณ | J8: ค่างานต้นทุน (บาท) | L8: Factor F | M8: ราคากลาง (บาท) | O8: หมายเหตุ
J9: ราคาต่อหน่วย | K9: รวม | M9: ราคาต่อหน่วย | N9: รวม
B10: ประเภทงานอำนวยการ
A11: 1 | B11: จัดหาสำนักงาน พร้อมอุปกรณ์อำนวยความสะดวก
B12: 1.1 | C12: ค่าใช้จ่ายต่อเดือน | H12: เดือน | I12: =4-4 -> 0 | J12: =IF(I12=0,0,5900) -> 0 | K12: =J12*I12 -> 0 | L12: =IF(I12=0,0,$L$23) -> 0 | M12: =ROUND(J12*L12,2) -> 0 | N12: =K12*L12 -> 0
B13: 1.2 | C13: เหมาจ่ายตรง | H13: L.S. | I13: =1-1 -> 0 | J13: =IF(I13=0,0,47000) -> 0 | K13: =J13*I13 -> 0 | L13: =IF(I13=0,0,$L$23) -> 0 | M13: =ROUND(J13*L13,2) -> 0 | N13: =K13*L13 -> 0
A14: 2 | B14: การจัดหารถยนต์ พร้อมน้ำมันเชื้อเพลิง การบำรุงรักษาและประกันภัย | H14: เดือน | I14: 0 | J14: =IF(I14=0,0,14000) -> 0 | K14: =J14*I14 -> 0 | L14: =IF(I14=0,0,$L$23) -> 0 | M14: =ROUND(J14*L14,2) -> 0 | N14: =K14*L14 -> 0
A15: 3 | B15: เครื่องมือและอุปกรณ์ในการสำรวจ | H15: เดือน | I15: =I12 -> 0 | J15: =IF(I15=0,0,1900) -> 0 | K15: =J15*I15 -> 0 | L15: =IF(I15=0,0,$L$23) -> 0 | M15: =ROUND(J15*L15,2) -> 0 | N15: =K15*L15 -> 0
A16: 4 | B16: งานควบคุมและป้องกันมลภาวะในการก่อสร้าง | H16: เงินจร
A17: 5 | B17: งานบำรุงรักษาและป้องกันผลกระทบด้านการจราจร | H17: เงินจร | I17: =1-1 -> 0 | J17: =IF(I17=0,0,44000) -> 0 | K17: =J17*I17 -> 0 | L17: =IF(I17=0,0,$L$23) -> 0 | M17: =ROUND(J17*L17,2) -> 0 | N17: =K17*L17 -> 0
A18: 6 | B18: งานประชาสัมพันธ์โครงการเพื่อการสร้างความเข้าใจและการมีส่วนร่วมภาคประชาชน | H18: เงินจร | I18: =1-1 -> 0 | J18: =IF(I18=0,0,29000) -> 0 | K18: =J18*I18 -> 0 | L18: =IF(I18=0,0,$L$23) -> 0 | M18: =ROUND(J18*L18,2) -> 0 | N18: =K18*L18 -> 0
A19: 7 | B19: งานป้ายจราจรระหว่างการก่อสร้าง | H19: เหมาจ่าย | I19: 0 | J19: =IF(I19=0,0,งานป้ายจราจรระหว่างการก่อสร!K28) -> 0 | K19: =J19*I19 -> 0 | L19: =IF(I19=0,0,$L$23) -> 0 | M19: =ROUND(J19*L19,2) -> 0 | N19: =K19*L19 -> 0
C22: รวมค่างานอำนวยการ | K22: =SUM(K12:K20) -> 0
C23: FACTOR F | L23: =IF(K22=0,0,1) -> 0
C24: เป็นเงินค่างานประเมิน | N24: =SUM(N11:N20) -> 0
A27: หมายหตุ
B28: ="ค่าป้ายจราจรระหว่างการก่อสร้าง ตามแบบกำหนดราคาไว้ "&FIXED(งานป้ายจราจรระหว่างการก่อสร!K25,2)&" บาท/เดือน" -> ค่าป้ายจราจรระหว่างการก่อสร้าง ตามแบบกำหนดราคาไว้ 3,080.00 บาท/เดือน
B29: ="ระยะเวลาก่อสร้าง "&งานป้ายจราจรระหว่างการก่อสร!K27&" เดือน คิดเป็นเงิน "&FIXED(งานป้ายจราจรระหว่างการก่อสร!K25*งานป้ายจราจรระหว่างการก่อสร!K27,2)&" บาท แต่เนื่องจากงบประมาณจำกัด จึงคิดให้เพียง "&FIXED(N19,2)&" บาท" -> ระยะเวลาก่อสร้าง 3 เดือน คิดเป็นเงิน 9,240.00 บาท แต่เนื่องจากงบประมาณจำกัด จึงคิดให้เพียง 0.00 บาท
D32: ลงชื่อ | E32: ........................................................................... | H32: ='ปร.5 ท'!J32 -> 0 | J32: ลงชื่อ | K32: ........................................................................... | N32: ='ปร.5 ท'!#REF! -> #REF!
E33: ='ปร.5 ท'!G33 -> 0 | K33: =ปร.4_1!M176 -> 0
D34: ตำแหน่ง | E34: ='ปร.5 ท'!G34 -> 0 | J34: ตำแหน่ง | K34: =ปร.4_1!M177 -> 0

Sheet ทางเชื่อม (AC)
B1: SIDE SLOPE | D1: 1 | E1: : | F1: 1
B2: 1.) ชั้นรองพื้นทางหนา | F2: =Soil!I3 -> 0.2
B3: 2.) ชั้นพื้นทางหนา | F3: =Soil!I4 -> 0.15
A4: ='ปร.5 ท'!C5 -> 0 | H4: ='ปร.5 ท'!C6 -> ตำบลควนขนุน อำเภอควนขนุน จังหวัดพัทลุง
A5: ปริมาณงาน ทางเชื่อม ผิวทางลาดยาง | W5: ค่า R | X5: Area 1 ข้าง (ตร.ม.) | Y5: Area 2 ข้าง (ตร.ม.)
A6: STA. | B6: กว้าง | C6: ยาว | D6: รัศมี | E6: ท่อทางเชื่อม | G6: ชั้นรองพื้นทาง | I6: ชั้นพื้นทาง | K6: Area(2) ค่า R | L6: งานชั้นรองพื้นทาง | M6: งานชั้นพื้นทาง | N6: งาน Prime Coat | O6: งานผิวทาง AC
E7: ขนาด | F7: ความยาว | G7: SIDE SLOPE | H7: AREA (1) | I7: SIDE SLOPE | J7: AREA (1) | P7: Sta. | Q7: ขนาดท่อกลม บริเวณทางเชื่อม
B8: ม. | C8: ม. | D8: ม. | E8: ม. | F8: ม. | G8: 1 : 1 | H8: ตร.ม. | I8: 1 : 1 | J8: ตร.ม. | K8: ตร.ม. | L8: ลบ.ม. | M8: ลบ.ม. | N8: ตร.ม. | O8: ตร.ม. | Q8: Ø 0.40 | R8: Ø 0.60 | S8: Ø 0.80 | T8: Ø 1.00 | U8: Ø 1.20
A9: 0 | B9: 0 | C9: 0 | D9: 0 | E9: - | F9: 0 | G9: =B9+F$3*2+F$2 -> 0.5 | H9: =G9*C9 -> 0 | I9: =B9+F$3 -> 0.15 | J9: =I9*C9 -> 0 | K9: =IF(D9=0,0,IF(D9=2,Y$9,IF(D9=3,Y$10,IF(D9=4,Y$11,IF(D9=5,Y$12,IF(D9=6,Y$13,IF(D9=7,Y$14,IF(D9=8,Y$15,)))))))) -> 0 | L9: =(H9+K9)*F$2 -> 0 | M9: =(J9+K9)*F$3 -> 0 | N9: =(B9*C9)+K9 -> 0 | O9: =(B9*C9)+K9 -> 0 | P9: =A9 -> 0 | Q9: =IF($E9=Q$8,$F9,0) -> 0 | R9: =IF($E9=R$8,$F9,0) -> 0 | S9: =IF($E9=S$8,$F9,0) -> 0 | T9: =IF($E9=T$8,$F9,0) -> 0 | U9: =IF($E9=U$8,$F9,0) -> 0 | W9: 2 | X9: 0.85 | Y9: =X9*2 -> 1.7
A10: 0 | B10: 0 | C10: 0 | D10: 0 | E10: - | F10: 0 | G10: =B10+F$3*2+F$2 -> 0.5 | H10: =G10*C10 -> 0 | I10: =B10+F$3 -> 0.15 | J10: =I10*C10 -> 0 | K10: =IF(D10=0,0,IF(D10=2,Y$9,IF(D10=3,Y$10,IF(D10=4,Y$11,IF(D10=5,Y$12,IF(D10=6,Y$13,IF(D10=7,Y$14,IF(D10=8,Y$15,)))))))) -> 0 | L10: =(H10+K10)*F$2 -> 0 | M10: =(J10+K10)*F$3 -> 0 | N10: =(B10*C10)+K10 -> 0 | O10: =(B10*C10)+K10 -> 0 | P10: =A10 -> 0 | Q10: =IF($E10=Q$8,$F10,0) -> 0 | R10: =IF($E10=R$8,$F10,0) -> 0 | S10: =IF($E10=S$8,$F10,0) -> 0 | T10: =IF($E10=T$8,$F10,0) -> 0 | U10: =IF($E10=U$8,$F10,0) -> 0 | W10: 3 | X10: 1.93 | Y10: =X10*2 -> 3.86
A11: 0 | B11: 0 | C11: 0 | D11: 0 | E11: - | F11: 0 | G11: =B11+F$3*2+F$2 -> 0.5 | H11: =G11*C11 -> 0 | I11: =B11+F$3 -> 0.15 | J11: =I11*C11 -> 0 | K11: =IF(D11=0,0,IF(D11=2,Y$9,IF(D11=3,Y$10,IF(D11=4,Y$11,IF(D11=5,Y$12,IF(D11=6,Y$13,IF(D11=7,Y$14,IF(D11=8,Y$15,)))))))) -> 0 | L11: =(H11+K11)*F$2 -> 0 | M11: =(J11+K11)*F$3 -> 0 | N11: =(B11*C11)+K11 -> 0 | O11: =(B11*C11)+K11 -> 0 | P11: =A11 -> 0 | Q11: =IF($E11=Q$8,$F11,0) -> 0 | R11: =IF($E11=R$8,$F11,0) -> 0 | S11: =IF($E11=S$8,$F11,0) -> 0 | T11: =IF($E11=T$8,$F11,0) -> 0 | U11: =IF($E11=U$8,$F11,0) -> 0 | W11: 4 | X11: 3.43 | Y11: =X11*2 -> 6.86
A12: 0 | B12: 0 | C12: 0 | D12: 0 | E12: - | F12: 0 | G12: =B12+F$3*2+F$2 -> 0.5 | H12: =G12*C12 -> 0 | I12: =B12+F$3 -> 0.15 | J12: =I12*C12 -> 0 | K12: =IF(D12=0,0,IF(D12=2,Y$9,IF(D12=3,Y$10,IF(D12=4,Y$11,IF(D12=5,Y$12,IF(D12=6,Y$13,IF(D12=7,Y$14,IF(D12=8,Y$15,)))))))) -> 0 | L12: =(H12+K12)*F$2 -> 0 | M12: =(J12+K12)*F$3 -> 0 | N12: =(B12*C12)+K12 -> 0 | O12: =(B12*C12)+K12 -> 0 | P12: =A12 -> 0 | Q12: =IF($E12=Q$8,$F12,0) -> 0 | R12: =IF($E12=R$8,$F12,0) -> 0 | S12: =IF($E12=S$8,$F12,0) -> 0 | T12: =IF($E12=T$8,$F12,0) -> 0 | U12: =IF($E12=U$8,$F12,0) -> 0 | W12: 5 | X12: 5.36 | Y12: =X12*2 -> 10.72
A13: 0 | B13: 0 | C13: 0 | D13: 0 | E13: - | F13: 0 | G13: =B13+F$3*2+F$2 -> 0.5 | H13: =G13*C13 -> 0 | I13: =B13+F$3 -> 0.15 | J13: =I13*C13 -> 0 | K13: =IF(D13=0,0,IF(D13=2,Y$9,IF(D13=3,Y$10,IF(D13=4,Y$11,IF(D13=5,Y$12,IF(D13=6,Y$13,IF(D13=7,Y$14,IF(D13=8,Y$15,)))))))) -> 0 | L13: =(H13+K13)*F$2 -> 0 | M13: =(J13+K13)*F$3 -> 0 | N13: =(B13*C13)+K13 -> 0 | O13: =(B13*C13)+K13 -> 0 | P13: =A13 -> 0 | Q13: =IF($E13=Q$8,$F13,0) -> 0 | R13: =IF($E13=R$8,$F13,0) -> 0 | S13: =IF($E13=S$8,$F13,0) -> 0 | T13: =IF($E13=T$8,$F13,0) -> 0 | U13: =IF($E13=U$8,$F13,0) -> 0 | W13: 6 | X13: 7.72 | Y13: =X13*2 -> 15.44
A14: 0 | B14: 0 | C14: 0 | D14: 0 | E14: - | F14: 0 | G14: =B14+F$3*2+F$2 -> 0.5 | H14: =G14*C14 -> 0 | I14: =B14+F$3 -> 0.15 | J14: =I14*C14 -> 0 | K14: =IF(D14=0,0,IF(D14=2,Y$9,IF(D14=3,Y$10,IF(D14=4,Y$11,IF(D14=5,Y$12,IF(D14=6,Y$13,IF(D14=7,Y$14,IF(D14=8,Y$15,)))))))) -> 0 | L14: =(H14+K14)*F$2 -> 0 | M14: =(J14+K14)*F$3 -> 0 | N14: =(B14*C14)+K14 -> 0 | O14: =(B14*C14)+K14 -> 0 | P14: =A14 -> 0 | Q14: =IF($E14=Q$8,$F14,0) -> 0 | R14: =IF($E14=R$8,$F14,0) -> 0 | S14: =IF($E14=S$8,$F14,0) -> 0 | T14: =IF($E14=T$8,$F14,0) -> 0 | U14: =IF($E14=U$8,$F14,0) -> 0 | W14: 7 | X14: 10.51 | Y14: =X14*2 -> 21.02
A15: 0 | B15: 0 | C15: 0 | D15: 0 | E15: - | F15: 0 | G15: =B15+F$3*2+F$2 -> 0.5 | H15: =G15*C15 -> 0 | I15: =B15+F$3 -> 0.15 | J15: =I15*C15 -> 0 | K15: =IF(D15=0,0,IF(D15=2,Y$9,IF(D15=3,Y$10,IF(D15=4,Y$11,IF(D15=5,Y$12,IF(D15=6,Y$13,IF(D15=7,Y$14,IF(D15=8,Y$15,)))))))) -> 0 | L15: =(H15+K15)*F$2 -> 0 | M15: =(J15+K15)*F$3 -> 0 | N15: =(B15*C15)+K15 -> 0 | O15: =(B15*C15)+K15 -> 0 | P15: =A15 -> 0 | Q15: =IF($E15=Q$8,$F15,0) -> 0 | R15: =IF($E15=R$8,$F15,0) -> 0 | S15: =IF($E15=S$8,$F15,0) -> 0 | T15: =IF($E15=T$8,$F15,0) -> 0 | U15: =IF($E15=U$8,$F15,0) -> 0 | W15: 8 | X15: 13.73 | Y15: =X15*2 -> 27.46
B16: 0 | C16: 0 | D16: 0 | E16: - | F16: 0 | G16: =B16+F$3*2+F$2 -> 0.5 | H16: =G16*C16 -> 0 | I16: =B16+F$3 -> 0.15 | J16: =I16*C16 -> 0 | K16: =IF(D16=0,0,IF(D16=2,Y$9,IF(D16=3,Y$10,IF(D16=4,Y$11,IF(D16=5,Y$12,IF(D16=6,Y$13,IF(D16=7,Y$14,IF(D16=8,Y$15,)))))))) -> 0 | L16: =(H16+K16)*F$2 -> 0 | M16: =(J16+K16)*F$3 -> 0 | N16: =(B16*C16)+K16 -> 0 | O16: =(B16*C16)+K16 -> 0 | P16: =A16 -> 0 | Q16: =IF($E16=Q$8,$F16,0) -> 0 | R16: =IF($E16=R$8,$F16,0) -> 0 | S16: =IF($E16=S$8,$F16,0) -> 0 | T16: =IF($E16=T$8,$F16,0) -> 0 | U16: =IF($E16=U$8,$F16,0) -> 0 | W16: 9 | X16: 17.38 | Y16: =X16*2 -> 34.76
B17: 0 | C17: 0 | D17: 0 | E17: - | F17: 0 | G17: =B17+F$3*2+F$2 -> 0.5 | H17: =G17*C17 -> 0 | I17: =B17+F$3 -> 0.15 | J17: =I17*C17 -> 0 | K17: =IF(D17=0,0,IF(D17=2,Y$9,IF(D17=3,Y$10,IF(D17=4,Y$11,IF(D17=5,Y$12,IF(D17=6,Y$13,IF(D17=7,Y$14,IF(D17=8,Y$15,)))))))) -> 0 | L17: =(H17+K17)*F$2 -> 0 | M17: =(J17+K17)*F$3 -> 0 | N17: =(B17*C17)+K17 -> 0 | O17: =(B17*C17)+K17 -> 0 | P17: =A17 -> 0 | Q17: =IF($E17=Q$8,$F17,0) -> 0 | R17: =IF($E17=R$8,$F17,0) -> 0 | S17: =IF($E17=S$8,$F17,0) -> 0 | T17: =IF($E17=T$8,$F17,0) -> 0 | U17: =IF($E17=U$8,$F17,0) -> 0 | W17: 10 | X17: 21.46 | Y17: =X17*2 -> 42.92
B18: 0 | C18: 0 | D18: 0 | E18: - | F18: 0 | G18: =B18+F$3*2+F$2 -> 0.5 | H18: =G18*C18 -> 0 | I18: =B18+F$3 -> 0.15 | J18: =I18*C18 -> 0 | K18: =IF(D18=0,0,IF(D18=2,Y$9,IF(D18=3,Y$10,IF(D18=4,Y$11,IF(D18=5,Y$12,IF(D18=6,Y$13,IF(D18=7,Y$14,IF(D18=8,Y$15,)))))))) -> 0 | L18: =(H18+K18)*F$2 -> 0 | M18: =(J18+K18)*F$3 -> 0 | N18: =(B18*C18)+K18 -> 0 | O18: =(B18*C18)+K18 -> 0 | P18: =A18 -> 0 | Q18: =IF($E18=Q$8,$F18,0) -> 0 | R18: =IF($E18=R$8,$F18,0) -> 0 | S18: =IF($E18=S$8,$F18,0) -> 0 | T18: =IF($E18=T$8,$F18,0) -> 0 | U18: =IF($E18=U$8,$F18,0) -> 0 | W18: 11 | X18: 25.96 | Y18: =X18*2 -> 51.92
P19: =A19 -> 0 | Q19: =IF($E19=Q$8,$F19,0) -> 0 | R19: =IF($E19=R$8,$F19,0) -> 0 | S19: =IF($E19=S$8,$F19,0) -> 0 | T19: =IF($E19=T$8,$F19,0) -> 0 | U19: =IF($E19=U$8,$F19,0) -> 0 | W19: 12 | X19: 30.9 | Y19: =X19*2 -> 61.8
P20: =A20 -> 0 | Q20: =IF($E20=Q$8,$F20,0) -> 0 | R20: =IF($E20=R$8,$F20,0) -> 0 | S20: =IF($E20=S$8,$F20,0) -> 0 | T20: =IF($E20=T$8,$F20,0) -> 0 | U20: =IF($E20=U$8,$F20,0) -> 0 | W20: 13 | X20: 36.26 | Y20: =X20*2 -> 72.52
P21: =A21 -> 0 | Q21: =IF($E21=Q$8,$F21,0) -> 0 | R21: =IF($E21=R$8,$F21,0) -> 0 | S21: =IF($E21=S$8,$F21,0) -> 0 | T21: =IF($E21=T$8,$F21,0) -> 0 | U21: =IF($E21=U$8,$F21,0) -> 0 | W21: 14 | X21: 42.06 | Y21: =X21*2 -> 84.12
P22: =A22 -> 0 | Q22: =IF($E22=Q$8,$F22,0) -> 0 | R22: =IF($E22=R$8,$F22,0) -> 0 | S22: =IF($E22=S$8,$F22,0) -> 0 | T22: =IF($E22=T$8,$F22,0) -> 0 | U22: =IF($E22=U$8,$F22,0) -> 0 | W22: 15 | X22: 48.28 | Y22: =X22*2 -> 96.56
P23: =A23 -> 0 | Q23: =IF($E23=Q$8,$F23,0) -> 0 | R23: =IF($E23=R$8,$F23,0) -> 0 | S23: =IF($E23=S$8,$F23,0) -> 0 | T23: =IF($E23=T$8,$F23,0) -> 0 | U23: =IF($E23=U$8,$F23,0) -> 0 | W23: 20 | X23: 85.84 | Y23: =X23*2 -> 171.68
P24: =A24 -> 0 | Q24: =IF($E24=Q$8,$F24,0) -> 0 | R24: =IF($E24=R$8,$F24,0) -> 0 | S24: =IF($E24=S$8,$F24,0) -> 0 | T24: =IF($E24=T$8,$F24,0) -> 0 | U24: =IF($E24=U$8,$F24,0) -> 0 | W24: 30 | X24: 193.14 | Y24: =X24*2 -> 386.28
P25: =A25 -> 0 | Q25: =IF($E25=Q$8,$F25,0) -> 0 | R25: =IF($E25=R$8,$F25,0) -> 0 | S25: =IF($E25=S$8,$F25,0) -> 0 | T25: =IF($E25=T$8,$F25,0) -> 0 | U25: =IF($E25=U$8,$F25,0) -> 0
A26: รวม | L26: =INT(SUM(L9:L25)) -> 0 | M26: =INT(SUM(M9:M25)) -> 0 | N26: =INT(SUM(N9:N25)) -> 0 | O26: =INT(SUM(O9:O25)) -> 0 | P26: รวม | Q26: =SUM(Q9:Q25) -> 0 | R26: =SUM(R9:R25) -> 0 | S26: =SUM(S9:S25) -> 0 | T26: =SUM(T9:T25) -> 0 | U26: =SUM(U9:U25) -> 0
B28: สรุปปริมาณท่อกลมสำหรับก่อสร้างทางเชื่อม
B29: ขนาด | C29: ความยาว
B30: (ม.) | C30: (ม.)
B31: Ø 0.40 | C31: =Q26 -> 0
B32: Ø 0.60 | C32: =R26 -> 0
B33: Ø 0.80 | C33: =S26 -> 0
B34: Ø 1.00 | C34: =T26 -> 0
B35: Ø 1.20 | C35: =U26 -> 0

Sheet เปรียบเทียบราคาวัสดุ
A1: การเปรียบเทียบราคาวัสดุ | Q1: ราคาน้ำมันเฉลี่ย
A2: ="เปรียบเทียบราคาวัสดุ ณ วันที่ "&'ปร.5 ท'!C17&" "&'ปร.5 ท'!E17&" "&'ปร.5 ท'!F17&" "&'ปร.5 ท'!G17 -> เปรียบเทียบราคาวัสดุ ณ วันที่ 30 มิถุนายน พ.ศ. 2563 | Q2: 0
A3: อัตราน้ำมันเชื้อเพลิงเฉลี่ย | C3: 22.5 | D3: บาท/ลิตร | Q3: 20.5
A4: หมายเหตุ | Q4: 21.5
B5: - ดินถม ทราย ลูกรัง วัสดุคัดเลือก หิน และท่อกลม คิดค่าขนส่งโดยใช้รถบรรทุกสิบล้อ | Q5: 22.5
B6: - เหล็ก ปูนซีเมนต์ และ ยางแอสฟัลต์ คิดค่าขนส่งโดยใช้รถบรรทุกสิบล้อลากพ่วง | Q6: 23.5
Q7: 24.5
A8: 1.ดินถม | Q8: 25.5
A9: ลำดับ | B9: แหล่งวัสดุ | F9: ราคาวัสดุ | G9: ระยะขนส่ง | H9: ค่าขนส่ง | I9: รวมราคา | Q9: 26.5
F10: บาท/ลบ.ม. | G10: กม. | H10: บาท/ลบ.ม. | I10: บาท/ลบ.ม. | Q10: 27.5
A11: 1 | B11: สำนักงานพาณิชย์ จังหวัดพัทลุง | F11: 0 | G11: 20 | H11: =IF(F11=0,0,IF(G11<=200,VLOOKUP(G11,บรรทุกสิบล้อ!$A$9:$C$208,3),(((G11-200)*บรรทุกสิบล้อ!$C$209)+บรรทุกสิบล้อ!$C$208))) -> 0 | I11: =IF(F11=0,"N/A",F11+H11) -> N/A | L11: =I11 -> N/A | M11: =A11 -> 1 | Q11: 28.5
A12: 2 | B12: บ้านห้วยศรีเกษร อ.ป่าพะยอม จ.พัทลุง | F12: 50 | G12: 23 | H12: =IF(F12=0,0,IF(G12<=200,VLOOKUP(G12,บรรทุกสิบล้อ!$A$9:$C$208,3),(((G12-200)*บรรทุกสิบล้อ!$C$209)+บรรทุกสิบล้อ!$C$208))) -> 72.68 | I12: =IF(F12=0,"N/A",F12+H12) -> 122.68 | L12: =I12 -> 122.68 | M12: =A12 -> 2 | Q12: 29.5
A13: 3 | B13: บ้านควนถบ อ.เมือง จ.พัทลุง | F13: 50 | G13: 40 | H13: =IF(F13=0,0,IF(G13<=200,VLOOKUP(G13,บรรทุกสิบล้อ!$A$9:$C$208,3),(((G13-200)*บรรทุกสิบล้อ!$C$209)+บรรทุกสิบล้อ!$C$208))) -> 125.11 | I13: =IF(F13=0,"N/A",F13+H13) -> 175.11 | L13: =I13 -> 175.11 | M13: =A13 -> 3 | Q13: 30.5
A14: 4 | B14: บ้านควนดินสอ อ.ศรีนครินทร์ จ.พัทลุง | F14: 50 | G14: 33 | H14: =IF(F14=0,0,IF(G14<=200,VLOOKUP(G14,บรรทุกสิบล้อ!$A$9:$C$208,3),(((G14-200)*บรรทุกสิบล้อ!$C$209)+บรรทุกสิบล้อ!$C$208))) -> 103.53 | I14: =IF(F14=0,"N/A",F14+H14) -> 153.53 | L14: =I14 -> 153.53 | M14: =A14 -> 4 | Q14: 31.5
A15: 5 | B15: บ้านชะรัด อ.กงหรา จ.พัทลุง | F15: 50 | G15: 49 | H15: =IF(F15=0,0,IF(G15<=200,VLOOKUP(G15,บรรทุกสิบล้อ!$A$9:$C$208,3),(((G15-200)*บรรทุกสิบล้อ!$C$209)+บรรทุกสิบล้อ!$C$208))) -> 152.85 | I15: =IF(F15=0,"N/A",F15+H15) -> 202.85 | L15: =I15 -> 202.85 | M15: =A15 -> 5 | Q15: 32.5
A16: 6 | B16: บ้านควนหัวช้าง อ.ป่าบอน จ.พัทลุง | F16: 50 | G16: 68 | H16: =IF(F16=0,0,IF(G16<=200,VLOOKUP(G16,บรรทุกสิบล้อ!$A$9:$C$208,3),(((G16-200)*บรรทุกสิบล้อ!$C$209)+บรรทุกสิบล้อ!$C$208))) -> 211.43 | I16: =IF(F16=0,"N/A",F16+H16) -> 261.43 | L16: =I16 -> 261.43 | M16: =A16 -> 6
A17: 7 | B17: บ้านควนน้อย อ.ควนขนุน จ.พัทลุง | F17: 50 | G17: 21 | H17: =IF(F17=0,0,IF(G17<=200,VLOOKUP(G17,บรรทุกสิบล้อ!$A$9:$C$208,3),(((G17-200)*บรรทุกสิบล้อ!$C$209)+บรรทุกสิบล้อ!$C$208))) -> 66.52 | I17: =IF(F17=0,"N/A",F17+H17) -> 116.52 | L17: =I17 -> 116.52 | M17: =A17 -> 7
A18: 8 | B18: เสริมศักดิ์บ่อดิน อ.เมือง จ.พัทลุง | F18: 80 | G18: 30 | H18: =IF(F18=0,0,IF(G18<=200,VLOOKUP(G18,บรรทุกสิบล้อ!$A$9:$C$208,3),(((G18-200)*บรรทุกสิบล้อ!$C$209)+บรรทุกสิบล้อ!$C$208))) -> 94.28 | I18: =IF(F18=0,"N/A",F18+H18) -> 174.28 | L18: =I18 -> 174.28 | M18: =A18 -> 8
A19: 9 | B19: หจก.เอเชียพัทลุงวิศวกรรม | F19: 100 | G19: 33 | H19: =IF(F19=0,0,IF(G19<=200,VLOOKUP(G19,บรรทุกสิบล้อ!$A$9:$C$208,3),(((G19-200)*บรรทุกสิบล้อ!$C$209)+บรรทุกสิบล้อ!$C$208))) -> 103.53 | I19: =IF(F19=0,"N/A",F19+H19) -> 203.53 | L19: =I19 -> 203.53 | M19: =A19 -> 9
H20: ราคาต่ำสุด | I20: =MIN(I11:I19) -> 116.52 | L20: =I20 -> 116.52 | M20: =IF(L20=L11,M11,IF(L20=L12,M12,IF(L20=L13,M13,IF(L20=L14,M14,IF(L20=L15,M15,IF(L20=L16,M16,IF(L20=L17,M17,IF(L20=L18,M18,M19)))))))) -> 7
B21: ใช้ราคาดินถม | C21: =VLOOKUP(M20,A11:I19,2) -> บ้านควนน้อย อ.ควนขนุน จ.พัทลุง
A22: ราคาวัสดุ | B22: =VLOOKUP(M20,A11:I19,6) -> 50 | C22: บาท/ลบ.ม. | D22: ระยะทาง | E22: =VLOOKUP(M20,A11:I19,7) -> 21 | F22: กม. | G22: ค่าขนส่ง | H22: =VLOOKUP(M20,A11:I19,8) -> 66.52 | I22: บาท/ลบ.ม.
A24: 2.ทรายถม
A25: ลำดับ | B25: แหล่งวัสดุ | F25: ราคาวัสดุ | G25: ระยะขนส่ง | H25: ค่าขนส่ง | I25: รวมราคา
F26: บาท/ลบ.ม. | G26: กม. | H26: บาท/ลบ.ม. | I26: บาท/ลบ.ม.
A27: 1 | B27: สำนักงานพาณิชย์ จังหวัดพัทลุง | F27: 0 | G27: =G11 -> 20 | H27: =IF(F27=0,0,IF(G27<=200,VLOOKUP(G27,บรรทุกสิบล้อ!$A$9:$C$208,3),(((G27-200)*บรรทุกสิบล้อ!$C$209)+บรรทุกสิบล้อ!$C$208))) -> 0 | I27: =IF(F27=0,"N/A",F27+H27) -> N/A | L27: =I27 -> N/A | M27: =A27 -> 1
A28: 2 | B28: บ้านโล๊ะจังกระ อ.ตะโหมด จ.พัทลุง | F28: 150 | G28: 64 | H28: =IF(F28=0,0,IF(G28<=200,VLOOKUP(G28,บรรทุกสิบล้อ!$A$9:$C$208,3),(((G28-200)*บรรทุกสิบล้อ!$C$209)+บรรทุกสิบล้อ!$C$208))) -> 199.11 | I28: =IF(F28=0,"N/A",F28+H28) -> 349.11 | L28: =I28 -> 349.11 | M28: =A28 -> 2
A29: 3 | B29: บ้านพูด อ.กงหรา จ.พัทลุง | F29: 150 | G29: 57 | H29: =IF(F29=0,0,IF(G29<=200,VLOOKUP(G29,บรรทุกสิบล้อ!$A$9:$C$208,3),(((G29-200)*บรรทุกสิบล้อ!$C$209)+บรรทุกสิบล้อ!$C$208))) -> 177.53 | I29: =IF(F29=0,"N/A",F29+H29) -> 327.53 | L29: =I29 -> 327.53 | M29: =A29 -> 3
A30: 4 | B30: คลองทรายขาว อ.กงหรา จ.พัทลุง | F30: 150 | G30: 53 | H30: =IF(F30=0,0,IF(G30<=200,VLOOKUP(G30,บรรทุกสิบล้อ!$A$9:$C$208,3),(((G30-200)*บรรทุกสิบล้อ!$C$209)+บรรทุกสิบล้อ!$C$208))) -> 165.19 | I30: =IF(F30=0,"N/A",F30+H30) -> 315.19 | L30: =I30 -> 315.19 | M30: =A30 -> 4
A31: 5 | B31: บ้านคู อ.กงหรา จ.พัทลุง | F31: 150 | G31: 53 | H31: =IF(F31=0,0,IF(G31<=200,VLOOKUP(G31,บรรทุกสิบล้อ!$A$9:$C$208,3),(((G31-200)*บรรทุกสิบล้อ!$C$209)+บรรทุกสิบล้อ!$C$208))) -> 165.19 | I31: =IF(F31=0,"N/A",F31+H31) -> 315.19 | L31: =I31 -> 315.19 | M31: =A31 -> 5
A32: 6 | B32: คลองลำ อ.เมือง จ.พัทลุง | F32: 150 | G32: 38 | H32: =IF(F32=0,0,IF(G32<=200,VLOOKUP(G32,บรรทุกสิบล้อ!$A$9:$C$208,3),(((G32-200)*บรรทุกสิบล้อ!$C$209)+บรรทุกสิบล้อ!$C$208))) -> 118.96 | I32: =IF(F32=0,"N/A",F32+H32) -> 268.96 | L32: =I32 -> 268.96 | M32: =A32 -> 6
H33: ราคาต่ำสุด | I33: =MIN(I27:I32) -> 268.96 | L33: =I33 -> 268.96 | M33: =IF(L33=L27,M27,IF(L33=L28,M28,IF(L33=L29,M29,IF(L33=L30,M30,IF(L33=L31,M31,M32))))) -> 6
B34: ใช้ราคาทรายถม | C34: =VLOOKUP(M33,A27:I32,2) -> คลองลำ อ.เมือง จ.พัทลุง
A35: ราคาวัสดุ | B35: =VLOOKUP(M33,A27:I32,6) -> 150 | C35: บาท/ลบ.ม. | D35: ระยะทาง | E35: =VLOOKUP(M33,A27:I32,7) -> 38 | F35: กม. | G35: ค่าขนส่ง | H35: =VLOOKUP(M33,A27:I32,8) -> 118.96 | I35: บาท/ลบ.ม.
A37: 3.ทรายหยาบ
A38: ลำดับ | B38: แหล่งวัสดุ | F38: ราคาวัสดุ | G38: ระยะขนส่ง | H38: ค่าขนส่ง | I38: รวมราคา
F39: บาท/ลบ.ม. | G39: กม. | H39: บาท/ลบ.ม. | I39: บาท/ลบ.ม.
A40: 1 | B40: สำนักงานพาณิชย์ จังหวัดพัทลุง | F40: 373.83 | G40: =G27 -> 20 | H40: =IF(F40=0,0,IF(G40<=200,VLOOKUP(G40,บรรทุกสิบล้อ!$A$9:$C$208,3),(((G40-200)*บรรทุกสิบล้อ!$C$209)+บรรทุกสิบล้อ!$C$208))) -> 63.44 | I40: =IF(F40=0,"N/A",F40+H40) -> 437.27 | L40: =I40 -> 437.27 | M40: =A40 -> 1
A41: 2 | B41: บ้านโล๊ะจังกระ อ.ตะโหมด จ.พัทลุง | F41: 420 | G41: =G28 -> 64 | H41: =IF(F41=0,0,IF(G41<=200,VLOOKUP(G41,บรรทุกสิบล้อ!$A$9:$C$208,3),(((G41-200)*บรรทุกสิบล้อ!$C$209)+บรรทุกสิบล้อ!$C$208))) -> 199.11 | I41: =IF(F41=0,"N/A",F41+H41) -> 619.11 | L41: =I41 -> 619.11 | M41: =A41 -> 2
A42: 3 | B42: บ้านพูด อ.กงหรา จ.พัทลุง | F42: 420 | G42: =G29 -> 57 | H42: =IF(F42=0,0,IF(G42<=200,VLOOKUP(G42,บรรทุกสิบล้อ!$A$9:$C$208,3),(((G42-200)*บรรทุกสิบล้อ!$C$209)+บรรทุกสิบล้อ!$C$208))) -> 177.53 | I42: =IF(F42=0,"N/A",F42+H42) -> 597.53 | L42: =I42 -> 597.53 | M42: =A42 -> 3
A43: 4 | B43: คลองทรายขาว อ.กงหรา จ.พัทลุง | F43: 420 | G43: =G30 -> 53 | H43: =IF(F43=0,0,IF(G43<=200,VLOOKUP(G43,บรรทุกสิบล้อ!$A$9:$C$208,3),(((G43-200)*บรรทุกสิบล้อ!$C$209)+บรรทุกสิบล้อ!$C$208))) -> 165.19 | I43: =IF(F43=0,"N/A",F43+H43) -> 585.19 | L43: =I43 -> 585.19 | M43: =A43 -> 4
A44: 5 | B44: บ้านคู อ.กงหรา จ.พัทลุง | F44: 420 | G44: =G31 -> 53 | H44: =IF(F44=0,0,IF(G44<=200,VLOOKUP(G44,บรรทุกสิบล้อ!$A$9:$C$208,3),(((G44-200)*บรรทุกสิบล้อ!$C$209)+บรรทุกสิบล้อ!$C$208))) -> 165.19 | I44: =IF(F44=0,"N/A",F44+H44) -> 585.19 | L44: =I44 -> 585.19 | M44: =A44 -> 5
A45: 6 | B45: คลองลำ อ.เมือง จ.พัทลุง | F45: 420 | G45: =G32 -> 38 | H45: =IF(F45=0,0,IF(G45<=200,VLOOKUP(G45,บรรทุกสิบล้อ!$A$9:$C$208,3),(((G45-200)*บรรทุกสิบล้อ!$C$209)+บรรทุกสิบล้อ!$C$208))) -> 118.96 | I45: =IF(F45=0,"N/A",F45+H45) -> 538.96 | L45: =I45 -> 538.96 | M45: =A45 -> 6
H46: ราคาต่ำสุด | I46: =MIN(I40:I45) -> 437.27 | L46: =I46 -> 437.27 | M46: =IF(L46=L40,M40,IF(L46=L41,M41,IF(L46=L42,M42,IF(L46=L43,M43,IF(L46=L44,M44,M45))))) -> 1
B47: ใช้ราคาทรายหยาบ | C47: =VLOOKUP(M46,A40:P45,2) -> สำนักงานพาณิชย์ จังหวัดพัทลุง
A48: ราคาวัสดุ | B48: =VLOOKUP(M46,A40:I45,6) -> 373.83 | C48: บาท/ลบ.ม. | D48: ระยะทาง | E48: =VLOOKUP(M46,A40:I45,7) -> 20 | F48: กม. | G48: ค่าขนส่ง | H48: =VLOOKUP(M46,A40:I45,8) -> 63.44 | I48: บาท/ลบ.ม.
A50: 4.ทรายละเอียด
A51: ลำดับ | B51: แหล่งวัสดุ | F51: ราคาวัสดุ | G51: ระยะขนส่ง | H51: ค่าขนส่ง | I51: รวมราคา
F52: บาท/ลบ.ม. | G52: กม. | H52: บาท/ลบ.ม. | I52: บาท/ลบ.ม.
A53: 1 | B53: สำนักงานพาณิชย์ จังหวัดพัทลุง | F53: 467.29 | G53: =G40 -> 20 | H53: =IF(F53=0,0,IF(G53<=200,VLOOKUP(G53,บรรทุกสิบล้อ!$A$9:$C$208,3),(((G53-200)*บรรทุกสิบล้อ!$C$209)+บรรทุกสิบล้อ!$C$208))) -> 63.44 | I53: =IF(F53=0,"N/A",F53+H53) -> 530.73 | L53: =I53 -> 530.73 | M53: =A53 -> 1
A54: 2 | B54: บ้านโล๊ะจังกระ อ.ตะโหมด จ.พัทลุง | F54: 420 | G54: =G41 -> 64 | H54: =IF(F54=0,0,IF(G54<=200,VLOOKUP(G54,บรรทุกสิบล้อ!$A$9:$C$208,3),(((G54-200)*บรรทุกสิบล้อ!$C$209)+บรรทุกสิบล้อ!$C$208))) -> 199.11 | I54: =IF(F54=0,"N/A",F54+H54) -> 619.11 | L54: =I54 -> 619.11 | M54: =A54 -> 2
A55: 3 | B55: บ้านพูด อ.ป่าบอน จ.พัทลุง | F55: 420 | G55: =G42 -> 57 | H55: =IF(F55=0,0,IF(G55<=200,VLOOKUP(G55,บรรทุกสิบล้อ!$A$9:$C$208,3),(((G55-200)*บรรทุกสิบล้อ!$C$209)+บรรทุกสิบล้อ!$C$208))) -> 177.53 | I55: =IF(F55=0,"N/A",F55+H55) -> 597.53 | L55: =I55 -> 597.53 | M55: =A55 -> 3
A56: 4 | B56: คลองทรายขาว อ.กงหรา จ.พัทลุง | F56: 420 | G56: =G43 -> 53 | H56: =IF(F56=0,0,IF(G56<=200,VLOOKUP(G56,บรรทุกสิบล้อ!$A$9:$C$208,3),(((G56-200)*บรรทุกสิบล้อ!$C$209)+บรรทุกสิบล้อ!$C$208))) -> 165.19 | I56: =IF(F56=0,"N/A",F56+H56) -> 585.19 | L56: =I56 -> 585.19 | M56: =A56 -> 4
A57: 5 | B57: บ้านคู อ.กงหรา จ.พัทลุง | F57: 420 | G57: =G44 -> 53 | H57: =IF(F57=0,0,IF(G57<=200,VLOOKUP(G57,บรรทุกสิบล้อ!$A$9:$C$208,3),(((G57-200)*บรรทุกสิบล้อ!$C$209)+บรรทุกสิบล้อ!$C$208))) -> 165.19 | I57: =IF(F57=0,"N/A",F57+H57) -> 585.19 | L57: =I57 -> 585.19 | M57: =A57 -> 5
A58: 6 | B58: คลองลำ อ.เมือง จ.พัทลุง | F58: 420 | G58: =G45 -> 38 | H58: =IF(F58=0,0,IF(G58<=200,VLOOKUP(G58,บรรทุกสิบล้อ!$A$9:$C$208,3),(((G58-200)*บรรทุกสิบล้อ!$C$209)+บรรทุกสิบล้อ!$C$208))) -> 118.96 | I58: =IF(F58=0,"N/A",F58+H58) -> 538.96 | L58: =I58 -> 538.96 | M58: =A58 -> 6
H59: ราคาต่ำสุด | I59: =MIN(I53:I58) -> 530.73 | L59: =I59 -> 530.73 | M59: =IF(L59=L53,M53,IF(L59=L54,M54,IF(L59=L55,M55,IF(L59=L56,M56,IF(L59=L57,M57,M58))))) -> 1
B60: ใช้ราคาทรายละเอียด | C60: =VLOOKUP(M59,A53:P58,2) -> สำนักงานพาณิชย์ จังหวัดพัทลุง
A61: ราคาวัสดุ | B61: =VLOOKUP(M59,A53:I58,6) -> 467.29 | C61: บาท/ลบ.ม. | D61: ระยะทาง | E61: =VLOOKUP(M59,A53:I58,7) -> 20 | F61: กม. | G61: ค่าขนส่ง | H61: =VLOOKUP(M59,A53:I58,8) -> 63.44 | I61: บาท/ลบ.ม.
A63: 5.ลูกรัง
A64: ลำดับ | B64: แหล่งวัสดุ | F64: ราคาวัสดุ | G64: ระยะขนส่ง | H64: ค่าขนส่ง | I64: รวมราคา
F65: บาท/ลบ.ม. | G65: กม. | H65: บาท/ลบ.ม. | I65: บาท/ลบ.ม.
A66: 1 | B66: สำนักงานพาณิชย์ จังหวัดพัทลุง | F66: 233.64 | G66: =G11 -> 20 | H66: =IF(F66=0,0,IF(G66<=200,VLOOKUP(G66,บรรทุกสิบล้อ!$A$9:$C$208,3),(((G66-200)*บรรทุกสิบล้อ!$C$209)+บรรทุกสิบล้อ!$C$208))) -> 63.44 | I66: =IF(F66=0,"N/A",F66+H66) -> 297.08 | L66: =I66 -> 297.08 | M66: =A66 -> 1
A67: 2 | B67: บ้านห้วยศรีเกษร อ.ป่าพะยอม จ.พัทลุง | F67: 55 | G67: 23 | H67: =IF(F67=0,0,IF(G67<=200,VLOOKUP(G67,บรรทุกสิบล้อ!$A$9:$C$208,3),(((G67-200)*บรรทุกสิบล้อ!$C$209)+บรรทุกสิบล้อ!$C$208))) -> 72.68 | I67: =IF(F67=0,"N/A",F67+H67) -> 127.68 | L67: =I67 -> 127.68 | M67: =A67 -> 2
A68: 3 | B68: บ้านดอนประดู่ อ.ปากพะยูน จ.พัทลุง | F68: 55 | G68: 104 | H68: =IF(F68=0,0,IF(G68<=200,VLOOKUP(G68,บรรทุกสิบล้อ!$A$9:$C$208,3),(((G68-200)*บรรทุกสิบล้อ!$C$209)+บรรทุกสิบล้อ!$C$208))) -> 322.5 | I68: =IF(F68=0,"N/A",F68+H68) -> 377.5 | L68: =I68 -> 377.5 | M68: =A68 -> 3
A69: 4 | B69: บ้านแหลมดินสอ อ.ปากพะยูน จ.พัทลุง | F69: 55 | G69: 108 | H69: =IF(F69=0,0,IF(G69<=200,VLOOKUP(G69,บรรทุกสิบล้อ!$A$9:$C$208,3),(((G69-200)*บรรทุกสิบล้อ!$C$209)+บรรทุกสิบล้อ!$C$208))) -> 334.76 | I69: =IF(F69=0,"N/A",F69+H69) -> 389.76 | L69: =I69 -> 389.76 | M69: =A69 -> 4
A70: 5 | B70: บ้านควนหัวช้าง อ.ป่าบอน จ.พัทลุง | F70: 55 | G70: 68 | H70: =IF(F70=0,0,IF(G70<=200,VLOOKUP(G70,บรรทุกสิบล้อ!$A$9:$C$208,3),(((G70-200)*บรรทุกสิบล้อ!$C$209)+บรรทุกสิบล้อ!$C$208))) -> 211.43 | I70: =IF(F70=0,"N/A",F70+H70) -> 266.43 | L70: =I70 -> 266.43 | M70: =A70 -> 5
A71: 6 | B71: บ้านเกาะหมาก อ.ปากพะยูน จ.พัทลุง | F71: 55 | G71: 95 | H71: =IF(F71=0,0,IF(G71<=200,VLOOKUP(G71,บรรทุกสิบล้อ!$A$9:$C$208,3),(((G71-200)*บรรทุกสิบล้อ!$C$209)+บรรทุกสิบล้อ!$C$208))) -> 294.66 | I71: =IF(F71=0,"N/A",F71+H71) -> 349.66 | L71: =I71 -> 349.66 | M71: =A71 -> 6
A72: 7 | B72: หจก.เอเชียพัทลุงวิศวกรรม | F72: 0 | G72: 33 | H72: =IF(F72=0,0,IF(G72<=200,VLOOKUP(G72,บรรทุกสิบล้อ!$A$9:$C$208,3),(((G72-200)*บรรทุกสิบล้อ!$C$209)+บรรทุกสิบล้อ!$C$208))) -> 0 | I72: =IF(F72=0,"N/A",F72+H72) -> N/A | L72: =I72 -> N/A | M72: =A72 -> 7
H73: ราคาต่ำสุด | I73: =MIN(I66:I72) -> 127.68 | L73: =I73 -> 127.68 | M73: =IF(L73=L66,M66,IF(L73=L67,M67,IF(L73=L68,M68,IF(L73=L69,M69,IF(L73=L70,M70,IF(L73=L71,M71,M72)))))) -> 2
B74: ใช้ราคาลูกรัง | C74: =VLOOKUP(M73,A66:N72,2) -> บ้านห้วยศรีเกษร อ.ป่าพะยอม จ.พัทลุง
A75: ราคาวัสดุ | B75: =VLOOKUP(M73,A66:I72,6) -> 55 | C75: บาท/ลบ.ม. | D75: ระยะทาง | E75: =VLOOKUP(M73,A66:I72,7) -> 23 | F75: กม. | G75: ค่าขนส่ง | H75: =VLOOKUP(M73,A66:I72,8) -> 72.68 | I75: บาท/ลบ.ม.
A77: 6.หิน
A78: 6.1 โรงโม่หิน | B78: สำนักงานพาณิชย์ จังหวัดพัทลุง | G78: ระยะทางขนส่งถึงหน้างาน | I78: =G11 -> 20 | J78: กม.
A79: - หินคลุก | B79: 242.99 | C79: บาท/ลบ.ม. | D79: ค่าขนส่ง | E79: =IF(B79=0,0,IF(I78<=200,VLOOKUP(I78,บรรทุกสิบล้อ!$A$9:$C$208,3),(((I78-200)*บรรทุกสิบล้อ!$C$209)+บรรทุกสิบล้อ!$C$208))) -> 63.44 | F79: บาท/ลบ.ม. | G79: รวม ค่าวัสดุ+ค่าขนส่ง | I79: =IF(B79=0,0,B79+E79) -> 306.43 | J79: บาท/ลบ.ม.
A80: - หินฝุ่น | B80: 242.99 | C80: บาท/ลบ.ม. | D80: ค่าขนส่ง | E80: =IF(B80=0,0,E79) -> 63.44 | F80: บาท/ลบ.ม. | G80: รวม ค่าวัสดุ+ค่าขนส่ง | I80: =IF(B80=0,0,B80+E80) -> 306.43 | J80: บาท/ลบ.ม.
A81: - หิน 3/4 | B81: 317.76 | C81: บาท/ลบ.ม. | D81: ค่าขนส่ง | E81: =IF(B81=0,0,E79) -> 63.44 | F81: บาท/ลบ.ม. | G81: รวม ค่าวัสดุ+ค่าขนส่ง | I81: =IF(B81=0,0,B81+E81) -> 381.2 | J81: บาท/ลบ.ม.
A82: - หิน 1/2 | B82: 420.56 | C82: บาท/ลบ.ม. | D82: ค่าขนส่ง | E82: =IF(B82=0,0,E79) -> 63.44 | F82: บาท/ลบ.ม. | G82: รวม ค่าวัสดุ+ค่าขนส่ง | I82: =IF(B82=0,0,B82+E82) -> 484 | J82: บาท/ลบ.ม.
A83: - หิน 3/8 | B83: 299.07 | C83: บาท/ลบ.ม. | D83: ค่าขนส่ง | E83: =IF(B83=0,0,E79) -> 63.44 | F83: บาท/ลบ.ม. | G83: รวม ค่าวัสดุ+ค่าขนส่ง | I83: =IF(B83=0,0,B83+E83) -> 362.51 | J83: บาท/ลบ.ม.
A84: - หินย่อย | B84: 420.56 | C84: บาท/ลบ.ม. | D84: ค่าขนส่ง | E84: =IF(B84=0,0,E79) -> 63.44 | F84: บาท/ลบ.ม. | G84: รวม ค่าวัสดุ+ค่าขนส่ง | I84: =IF(B84=0,0,B84+E84) -> 484 | J84: บาท/ลบ.ม.
A85: - หินใหญ่ | B85: 308.41 | C85: บาท/ลบ.ม. | D85: ค่าขนส่ง | E85: =IF(B85=0,0,E79) -> 63.44 | F85: บาท/ลบ.ม. | G85: รวม ค่าวัสดุ+ค่าขนส่ง | I85: =IF(B85=0,0,B85+E85) -> 371.85 | J85: บาท/ลบ.ม.
A87: 6.2 โรงโม่หิน | B87: หจก.เอเซียพัทลุงวิศวกรรม | G87: ระยะทางขนส่งถึงหน้างาน | I87: 20 | J87: กม.
A88: - หินคลุก | B88: 225 | C88: บาท/ลบ.ม. | D88: ค่าขนส่ง | E88: =IF(B88=0,0,IF(I87<=200,VLOOKUP(I87,บรรทุกสิบล้อ!$A$9:$C$208,3),(((I87-200)*บรรทุกสิบล้อ!$C$209)+บรรทุกสิบล้อ!$C$208))) -> 63.44 | F88: บาท/ลบ.ม. | G88: รวม ค่าวัสดุ+ค่าขนส่ง | I88: =IF(B88=0,0,B88+E88) -> 288.44 | J88: บาท/ลบ.ม. | K88: - หินคลุก | L88: =IF(AND(I79=0,I88=0),I97,IF(AND(I88=0,I97=0),I79,IF(AND(I79=0,I97=0),I88,IF(I79=0,MIN(I88,I97),IF(I88=0,MIN(I79,I97),IF(I97=0,MIN(I79,I88),MIN(I79,I88,I97))))))) -> 288.44 | M88: =IF(L88=0,0,IF(L88=I79,$B$78,IF(L88=I88,$B$87,$B$96))) -> หจก.เอเซียพัทลุงวิศวกรรม | Q88: =IF(L88=0,0,IF(L88=I79,B79,IF(L88=I88,B88,B97))) -> 225 | R88: =IF(L88=0,0,IF(L88=I79,$I$78,IF(L88=I88,$I$87,$I$96))) -> 20 | S88: =IF(L88=0,0,IF(L88=I79,E79,IF(L88=I88,E88,E97))) -> 63.44
A89: - หินฝุ่น | B89: 275 | C89: บาท/ลบ.ม. | D89: ค่าขนส่ง | E89: =IF(B89=0,0,E88) -> 63.44 | F89: บาท/ลบ.ม. | G89: รวม ค่าวัสดุ+ค่าขนส่ง | I89: =IF(B89=0,0,B89+E89) -> 338.44 | J89: บาท/ลบ.ม. | K89: - หินฝุ่น | L89: =IF(AND(I80=0,I89=0),I98,IF(AND(I89=0,I98=0),I80,IF(AND(I80=0,I98=0),I89,IF(I80=0,MIN(I89,I98),IF(I89=0,MIN(I80,I98),IF(I98=0,MIN(I80,I89),MIN(I80,I89,I98))))))) -> 306.43 | M89: =IF(L89=0,0,IF(L89=I80,$B$78,IF(L89=I89,$B$87,$B$96))) -> สำนักงานพาณิชย์ จังหวัดพัทลุง | Q89: =IF(L89=0,0,IF(L89=I80,B80,IF(L89=I89,B89,B98))) -> 242.99 | R89: =IF(L89=0,0,IF(L89=I80,$I$78,IF(L89=I89,$I$87,$I$96))) -> 20 | S89: =IF(L89=0,0,IF(L89=I80,E80,IF(L89=I89,E89,E98))) -> 63.44
A90: - หิน 3/4 | B90: 340 | C90: บาท/ลบ.ม. | D90: ค่าขนส่ง | E90: =IF(B90=0,0,E88) -> 63.44 | F90: บาท/ลบ.ม. | G90: รวม ค่าวัสดุ+ค่าขนส่ง | I90: =IF(B90=0,0,B90+E90) -> 403.44 | J90: บาท/ลบ.ม. | K90: - หิน 3/4 | L90: =IF(AND(I81=0,I90=0),I99,IF(AND(I90=0,I99=0),I81,IF(AND(I81=0,I99=0),I90,IF(I81=0,MIN(I90,I99),IF(I90=0,MIN(I81,I99),IF(I99=0,MIN(I81,I90),MIN(I81,I90,I99))))))) -> 381.2 | M90: =IF(L90=0,0,IF(L90=I81,$B$78,IF(L90=I90,$B$87,$B$96))) -> สำนักงานพาณิชย์ จังหวัดพัทลุง | Q90: =IF(L90=0,0,IF(L90=I81,B81,IF(L90=I90,B90,B99))) -> 317.76 | R90: =IF(L90=0,0,IF(L90=I81,$I$78,IF(L90=I90,$I$87,$I$96))) -> 20 | S90: =IF(L90=0,0,IF(L90=I81,E81,IF(L90=I90,E90,E99))) -> 63.44
A91: - หิน 1/2 | B91: 0 | C91: บาท/ลบ.ม. | D91: ค่าขนส่ง | E91: =IF(B91=0,0,E88) -> 0 | F91: บาท/ลบ.ม. | G91: รวม ค่าวัสดุ+ค่าขนส่ง | I91: =IF(B91=0,0,B91+E91) -> 0 | J91: บาท/ลบ.ม. | K91: - หิน 1/2 | L91: =IF(AND(I82=0,I91=0),I100,IF(AND(I91=0,I100=0),I82,IF(AND(I82=0,I100=0),I91,IF(I82=0,MIN(I91,I100),IF(I91=0,MIN(I82,I100),IF(I100=0,MIN(I82,I91),MIN(I82,I91,I100))))))) -> 443.44 | M91: =IF(L91=0,0,IF(L91=I82,$B$78,IF(L91=I91,$B$87,$B$96))) -> กฤษณ์ศิลาพร ม.5 ต.พนมวังก์ อ.ควนขนุน จ.พัทลุง | Q91: =IF(L91=0,0,IF(L91=I82,B82,IF(L91=I91,B91,B100))) -> 380 | R91: =IF(L91=0,0,IF(L91=I82,$I$78,IF(L91=I91,$I$87,$I$96))) -> 20 | S91: =IF(L91=0,0,IF(L91=I82,E82,IF(L91=I91,E91,E100))) -> 63.44
A92: - หิน 3/8 | B92: 300 | C92: บาท/ลบ.ม. | D92: ค่าขนส่ง | E92: =IF(B92=0,0,E88) -> 63.44 | F92: บาท/ลบ.ม. | G92: รวม ค่าวัสดุ+ค่าขนส่ง | I92: =IF(B92=0,0,B92+E92) -> 363.44 | J92: บาท/ลบ.ม. | K92: - หิน 3/8 | L92: =IF(AND(I83=0,I92=0),I101,IF(AND(I92=0,I101=0),I83,IF(AND(I83=0,I101=0),I92,IF(I83=0,MIN(I92,I101),IF(I92=0,MIN(I83,I101),IF(I101=0,MIN(I83,I92),MIN(I83,I92,I101))))))) -> 362.51 | M92: =IF(L92=0,0,IF(L92=I83,$B$78,IF(L92=I92,$B$87,$B$96))) -> สำนักงานพาณิชย์ จังหวัดพัทลุง | Q92: =IF(L92=0,0,IF(L92=I83,B83,IF(L92=I92,B92,B101))) -> 299.07 | R92: =IF(L92=0,0,IF(L92=I83,$I$78,IF(L92=I92,$I$87,$I$96))) -> 20 | S92: =IF(L92=0,0,IF(L92=I83,E83,IF(L92=I92,E92,E101))) -> 63.44
A93: - หินย่อย | B93: 0 | C93: บาท/ลบ.ม. | D93: ค่าขนส่ง | E93: =IF(B93=0,0,E88) -> 0 | F93: บาท/ลบ.ม. | G93: รวม ค่าวัสดุ+ค่าขนส่ง | I93: =IF(B93=0,0,B93+E93) -> 0 | J93: บาท/ลบ.ม. | K93: - หินย่อย | L93: =IF(AND(I84=0,I93=0),I102,IF(AND(I93=0,I102=0),I84,IF(AND(I84=0,I102=0),I93,IF(I84=0,MIN(I93,I102),IF(I93=0,MIN(I84,I102),IF(I102=0,MIN(I84,I93),MIN(I84,I93,I102))))))) -> 484 | M93: =IF(L93=0,0,IF(L93=I84,$B$78,IF(L93=I93,$B$87,$B$96))) -> สำนักงานพาณิชย์ จังหวัดพัทลุง | Q93: =IF(L93=0,0,IF(L93=I84,B84,IF(L93=I93,B93,B102))) -> 420.56 | R93: =IF(L93=0,0,IF(L93=I84,$I$78,IF(L93=I93,$I$87,$I$96))) -> 20 | S93: =IF(L93=0,0,IF(L93=I84,E84,IF(L93=I93,E93,E102))) -> 63.44
A94: - หินใหญ่ | B94: 0 | C94: บาท/ลบ.ม. | D94: ค่าขนส่ง | E94: =IF(B94=0,0,E88) -> 0 | F94: บาท/ลบ.ม. | G94: รวม ค่าวัสดุ+ค่าขนส่ง | I94: =IF(B94=0,0,B94+E94) -> 0 | J94: บาท/ลบ.ม. | K94: - หินใหญ่ | L94: =IF(AND(I85=0,I94=0),I103,IF(AND(I94=0,I103=0),I85,IF(AND(I85=0,I103=0),I94,IF(I85=0,MIN(I94,I103),IF(I94=0,MIN(I85,I103),IF(I103=0,MIN(I85,I94),MIN(I85,I94,I103))))))) -> 371.85 | M94: =IF(L94=0,0,IF(L94=I85,$B$78,IF(L94=I94,$B$87,$B$96))) -> สำนักงานพาณิชย์ จังหวัดพัทลุง | Q94: =IF(L94=0,0,IF(L94=I85,B85,IF(L94=I94,B94,B103))) -> 308.41 | R94: =IF(L94=0,0,IF(L94=I85,$I$78,IF(L94=I94,$I$87,$I$96))) -> 20 | S94: =IF(L94=0,0,IF(L94=I85,E85,IF(L94=I94,E94,E103))) -> 63.44
A96: 6.3 โรงโม่หิน | B96: กฤษณ์ศิลาพร ม.5 ต.พนมวังก์ อ.ควนขนุน จ.พัทลุง | G96: ระยะทางขนส่งถึงหน้างาน | I96: 20 | J96: กม.
A97: - หินคลุก | B97: 240 | C97: บาท/ลบ.ม. | D97: ค่าขนส่ง | E97: =IF(B97=0,0,IF(I96<=200,VLOOKUP(I96,บรรทุกสิบล้อ!$A$9:$C$208,3),(((I96-200)*บรรทุกสิบล้อ!$C$209)+บรรทุกสิบล้อ!$C$208))) -> 63.44 | F97: บาท/ลบ.ม. | G97: รวม ค่าวัสดุ+ค่าขนส่ง | I97: =IF(B97=0,0,B97+E97) -> 303.44 | J97: บาท/ลบ.ม.
A98: - หินฝุ่น | B98: 280 | C98: บาท/ลบ.ม. | D98: ค่าขนส่ง | E98: =IF(B98=0,0,E97) -> 63.44 | F98: บาท/ลบ.ม. | G98: รวม ค่าวัสดุ+ค่าขนส่ง | I98: =IF(B98=0,0,B98+E98) -> 343.44 | J98: บาท/ลบ.ม.
A99: - หิน 3/4 | B99: 360 | C99: บาท/ลบ.ม. | D99: ค่าขนส่ง | E99: =IF(B99=0,0,E98) -> 63.44 | F99: บาท/ลบ.ม. | G99: รวม ค่าวัสดุ+ค่าขนส่ง | I99: =IF(B99=0,0,B99+E99) -> 423.44 | J99: บาท/ลบ.ม.
A100: - หิน 1/2 | B100: 380 | C100: บาท/ลบ.ม. | D100: ค่าขนส่ง | E100: =IF(B100=0,0,E99) -> 63.44 | F100: บาท/ลบ.ม. | G100: รวม ค่าวัสดุ+ค่าขนส่ง | I100: =IF(B100=0,0,B100+E100) -> 443.44 | J100: บาท/ลบ.ม.
A101: - หิน 3/8 | B101: 350 | C101: บาท/ลบ.ม. | D101: ค่าขนส่ง | E101: =IF(B101=0,0,E97) -> 63.44 | F101: บาท/ลบ.ม. | G101: รวม ค่าวัสดุ+ค่าขนส่ง | I101: =IF(B101=0,0,B101+E101) -> 413.44 | J101: บาท/ลบ.ม.
A102: - หินย่อย | B102: 0 | C102: บาท/ลบ.ม. | D102: ค่าขนส่ง | E102: =IF(B102=0,0,E101) -> 0 | F102: บาท/ลบ.ม. | G102: รวม ค่าวัสดุ+ค่าขนส่ง | I102: =IF(B102=0,0,B102+E102) -> 0 | J102: บาท/ลบ.ม.
A103: - หินใหญ่ | B103: 350 | C103: บาท/ลบ.ม. | D103: ค่าขนส่ง | E103: =IF(B103=0,0,E97) -> 63.44 | F103: บาท/ลบ.ม. | G103: รวม ค่าวัสดุ+ค่าขนส่ง | I103: =IF(B103=0,0,B103+E103) -> 413.44 | J103: บาท/ลบ.ม.
A105: 7.เหล็กเสริม
A106: 7.1.สำนักดัชนีเศรษฐกิจการค้า กรุงเทพมหานคร | G106: ระยะทางขนส่งถึงหน้างาน | I106: 843 | J106: กม.
A107: เหล็กกลม SR 24 | K107: เหล็กกลม SR 24
A108: - 6 มม. | B108: 16630 | C108: บาท/ตัน | D108: ค่าขนส่ง | E108: =IF(B108=0,0,IF(I106<=200,VLOOKUP(I106,'บรรทุกสิบล้อ+ลากพ่วง'!$A$9:$C$208,2),(((I106-200)*'บรรทุกสิบล้อ+ลากพ่วง'!$B$209)+'บรรทุกสิบล้อ+ลากพ่วง'!$B$208))) -> 1138.7 | F108: บาท/ตัน | G108: รวม ค่าวัสดุ+ค่าขนส่ง | I108: =IF(B108=0,0,B108+E108) -> 17768.7 | J108: บาท/ตัน | K108: - 6 มม. | L108: =IF(B128>0,I128,IF(B128=0,I108,MIN(I108,I128))) -> 22327.01 | M108: =IF(L108=I108,"สำนักดัชนีเศรษฐกิจการค้า กรุงเทพมหานคร",IF(L108=I128,"สำนักดัชนีเศรษฐกิจการค้า จังหวัดพัทลุง",0)) -> สำนักดัชนีเศรษฐกิจการค้า จังหวัดพัทลุง | Q108: =IF(L108=I108,B108,IF(L108=I128,B128,0)) -> 22299.4 | R108: =IF(L108=I108,$I$106,IF(L108=I128,$I$126,0)) -> 20 | S108: =IF(L108=I108,$E$108,IF(L108=I128,$E$128,0)) -> 27.61
...

Sheet ข้อมูลแหล่งราคาวัสดุ
A1: แบบฟอร์ม ข้อมูลราคาและแหล่งวัสดุก่อสร้าง
A2: ="(ใช้ราคาเฉลี่ยน้ำมันที่อำเภอเมือง ลิตรละ .."&FIXED(เปรียบเทียบราคาวัสดุ!C3,2)&"..บาท หาค่าขนส่ง,ค่าดำเนินการและค่าเสื่อมราคา)" -> (ใช้ราคาเฉลี่ยน้ำมันที่อำเภอเมือง ลิตรละ ..22.50..บาท หาค่าขนส่ง,ค่าดำเนินการและค่าเสื่อมราคา)
A3: =ราคาต้นทุนงานทาง!A3&" "&ราคาต้นทุนงานทาง!C3
A4: =ราคาต้นทุนงานทาง!A4&" "&ราคาต้นทุนงานทาง!C4 -> สถานที่ก่อสร้าง ตำบลควนขนุน อำเภอควนขนุน จังหวัดพัทลุง
A5: =ราคาต้นทุนงานทาง!A5 -> ประมาณราคาวันที่ 30 เดือนมิถุนายน พ.ศ. 2563
A7: ลำดับที่ | B7: ประเภท วัสดุ | C7: หน่วย | D7: ราคาวัสดุ | K7: ข้อมูลที่ตั้งแหล่งวัสดุ
E8: ระยะขนส่ง (กม.)
D9: ราคา | E9: ทางราบ | F9: ทางลูกเนิน | G9: ทางภูเขา | H9: รวม | I9: ค่าขนส่ง | J9: รวม
D10: (บาท) | E10: (กม.) | F10: (กม.) | G10: (กม.) | H10: (กม.) | I10: (บาท) | J10: (บาท)
A11: 1 | B11: ดินถม | C11: ลบ.ม. | D11: =เปรียบเทียบราคาวัสดุ!B22 -> 50 | E11: =เปรียบเทียบราคาวัสดุ!E22 -> 21 | F11: 0 | G11: 0 | H11: =SUM(E11:G11) -> 21 | I11: =เปรียบเทียบราคาวัสดุ!H22 -> 66.52 | J11: =D11+I11 -> 116.52 | K11: =เปรียบเทียบราคาวัสดุ!C21 -> บ้านควนน้อย อ.ควนขนุน จ.พัทลุง
A12: 2 | B12: ทรายถม | C12: ลบ.ม. | D12: =เปรียบเทียบราคาวัสดุ!B35 -> 150 | E12: =เปรียบเทียบราคาวัสดุ!E35 -> 38 | F12: 0 | G12: 0 | H12: =SUM(E12:G12) -> 38 | I12: =เปรียบเทียบราคาวัสดุ!H35 -> 118.96 | J12: =D12+I12 -> 268.96 | K12: =เปรียบเทียบราคาวัสดุ!C34 -> คลองลำ อ.เมือง จ.พัทลุง
A13: 3 | B13: ทรายหยาบ | C13: ลบ.ม. | D13: =เปรียบเทียบราคาวัสดุ!B48 -> 373.83 | E13: =เปรียบเทียบราคาวัสดุ!E48 -> 20 | F13: 0 | G13: 0 | H13: =SUM(E13:G13) -> 20 | I13: =เปรียบเทียบราคาวัสดุ!H48 -> 63.44 | J13: =D13+I13 -> 437.27 | K13: =เปรียบเทียบราคาวัสดุ!C47 -> สำนักงานพาณิชย์ จังหวัดพัทลุง
A14: 4 | B14: ทรายละเอียด | C14: ลบ.ม. | D14: =เปรียบเทียบราคาวัสดุ!B61 -> 467.29 | E14: =เปรียบเทียบราคาวัสดุ!E61 -> 20 | F14: 0 | G14: 0 | H14: =SUM(E14:G14) -> 20 | I14: =เปรียบเทียบราคาวัสดุ!H61 -> 63.44 | J14: =D14+I14 -> 530.73 | K14: =เปรียบเทียบราคาวัสดุ!C60 -> สำนักงานพาณิชย์ จังหวัดพัทลุง
A15: 5 | B15: ลูกรัง | C15: ลบ.ม. | D15: =เปรียบเทียบราคาวัสดุ!B75 -> 55 | E15: =เปรียบเทียบราคาวัสดุ!E75 -> 23 | F15: 0 | G15: 0 | H15: =SUM(E15:G15) -> 23 | I15: =เปรียบเทียบราคาวัสดุ!H75 -> 72.68 | J15: =D15+I15 -> 127.68 | K15: =เปรียบเทียบราคาวัสดุ!C74 -> บ้านห้วยศรีเกษร อ.ป่าพะยอม จ.พัทลุง
A16: 6 | B16: หินขนาดต่าง ๆ
B17: - หินคลุก | C17: ลบ.ม. | D17: =เปรียบเทียบราคาวัสดุ!B97 -> 240 | E17: =เปรียบเทียบราคาวัสดุ!R88 -> 20 | F17: 0 | G17: 0 | H17: =SUM(E17:G17) -> 20 | I17: =เปรียบเทียบราคาวัสดุ!S88 -> 63.44 | J17: =D17+I17 -> 303.44 | K17: =เปรียบเทียบราคาวัสดุ!M91 -> กฤษณ์ศิลาพร ม.5 ต.พนมวังก์ อ.ควนขนุน จ.พัทลุง
B18: - หินฝุ่น | C18: ลบ.ม. | D18: =เปรียบเทียบราคาวัสดุ!Q89 -> 242.99 | E18: =เปรียบเทียบราคาวัสดุ!R89 -> 20 | F18: 0 | G18: 0 | H18: =SUM(E18:G18) -> 20 | I18: =เปรียบเทียบราคาวัสดุ!S89 -> 63.44 | J18: =D18+I18 -> 306.43 | K18: =เปรียบเทียบราคาวัสดุ!M89 -> สำนักงานพาณิชย์ จังหวัดพัทลุง
B19: - หิน 3/4 | C19: ลบ.ม. | D19: =เปรียบเทียบราคาวัสดุ!Q90 -> 317.76 | E19: =เปรียบเทียบราคาวัสดุ!R90 -> 20 | F19: 0 | G19: 0 | H19: =SUM(E19:G19) -> 20 | I19: =เปรียบเทียบราคาวัสดุ!S90 -> 63.44 | J19: =D19+I19 -> 381.2 | K19: =เปรียบเทียบราคาวัสดุ!M90 -> สำนักงานพาณิชย์ จังหวัดพัทลุง
B20: - หิน 1/2 | C20: ลบ.ม. | D20: =เปรียบเทียบราคาวัสดุ!Q91 -> 380 | E20: =เปรียบเทียบราคาวัสดุ!R91 -> 20 | F20: 0 | G20: 0 | H20: =SUM(E20:G20) -> 20 | I20: =เปรียบเทียบราคาวัสดุ!S91 -> 63.44 | J20: =D20+I20 -> 443.44 | K20: =เปรียบเทียบราคาวัสดุ!M91 -> กฤษณ์ศิลาพร ม.5 ต.พนมวังก์ อ.ควนขนุน จ.พัทลุง
B21: - หิน 3/8 | C21: ลบ.ม. | D21: =เปรียบเทียบราคาวัสดุ!Q92 -> 299.07 | E21: =เปรียบเทียบราคาวัสดุ!R92 -> 20 | F21: 0 | G21: 0 | H21: =SUM(E21:G21) -> 20 | I21: =เปรียบเทียบราคาวัสดุ!S92 -> 63.44 | J21: =D21+I21 -> 362.51 | K21: =เปรียบเทียบราคาวัสดุ!M92 -> สำนักงานพาณิชย์ จังหวัดพัทลุง
B22: - หินย่อย | C22: ลบ.ม. | D22: =เปรียบเทียบราคาวัสดุ!Q93 -> 420.56 | E22: =เปรียบเทียบราคาวัสดุ!R93 -> 20 | F22: 0 | G22: 0 | H22: =SUM(E22:G22) -> 20 | I22: =เปรียบเทียบราคาวัสดุ!S93 -> 63.44 | J22: =D22+I22 -> 484 | K22: =เปรียบเทียบราคาวัสดุ!M93 -> สำนักงานพาณิชย์ จังหวัดพัทลุง
B23: - หินใหญ่ | C23: ลบ.ม. | D23: =เปรียบเทียบราคาวัสดุ!Q94 -> 308.41 | E23: =เปรียบเทียบราคาวัสดุ!R94 -> 20 | F23: 0 | G23: 0 | H23: =SUM(E23:G23) -> 20 | I23: =เปรียบเทียบราคาวัสดุ!S94 -> 63.44 | J23: =D23+I23 -> 371.85 | K23: =เปรียบเทียบราคาวัสดุ!M94 -> สำนักงานพาณิชย์ จังหวัดพัทลุง
B24: - หินคละ | C24: ลบ.ม. | D24: =ROUND(0.5*D18+0.25*D19+0.1*D20+0.15*D21,0) -> 284 | E24: =E23 -> 20 | F24: 0 | G24: 0 | H24: =SUM(E24:G24) -> 20 | I24: =I23 -> 63.44 | J24: =D24+I24 -> 347.44 | K24: =K23 -> สำนักงานพาณิชย์ จังหวัดพัทลุง
B25: หินผสมคอนกรีต | C25: ลบ.ม. | D25: =D20 -> 380 | E25: =E20 -> 20 | F25: 0 | G25: 0 | H25: =SUM(E25:G25) -> 20 | I25: =I20 -> 63.44 | J25: =D25+I25 -> 443.44 | K25: =K20 -> กฤษณ์ศิลาพร ม.5 ต.พนมวังก์ อ.ควนขนุน จ.พัทลุง
A26: 7 | B26: เหล็กเสริม
B27: เหล็กกลม SR 24 ( รวมค่าขนขึ้น-ลง )
B28: - 6 มม. | C28: ตัน | D28: =เปรียบเทียบราคาวัสดุ!Q108 -> 22299.4 | E28: =เปรียบเทียบราคาวัสดุ!R108 -> 20 | F28: 0 | G28: 0 | H28: =SUM(E28:G28) -> 20 | I28: =เปรียบเทียบราคาวัสดุ!S108 -> 27.61 | J28: =D28+I28 -> 22327.01 | K28: =เปรียบเทียบราคาวัสดุ!M108 -> สำนักดัชนีเศรษฐกิจการค้า จังหวัดพัทลุง
B29: - 9 มม. | C29: ตัน | D29: =เปรียบเทียบราคาวัสดุ!Q109 -> 21326.77 | E29: =เปรียบเทียบราคาวัสดุ!R109 -> 20 | F29: 0 | G29: 0 | H29: =SUM(E29:G29) -> 20 | I29: =เปรียบเทียบราคาวัสดุ!S109 -> 27.61 | J29: =D29+I29 -> 21354.38 | K29: =เปรียบเทียบราคาวัสดุ!M109 -> สำนักดัชนีเศรษฐกิจการค้า จังหวัดพัทลุง
B30: - 12 มม. | C30: ตัน | D30: =เปรียบเทียบราคาวัสดุ!Q110 -> 21138.69 | E30: =เปรียบเทียบราคาวัสดุ!R110 -> 20 | F30: 0 | G30: 0 | H30: =SUM(E30:G30) -> 20 | I30: =เปรียบเทียบราคาวัสดุ!S110 -> 27.61 | J30: =D30+I30 -> 21166.3 | K30: =เปรียบเทียบราคาวัสดุ!M110 -> สำนักดัชนีเศรษฐกิจการค้า จังหวัดพัทลุง
B31: - 15 มม. | C31: ตัน | D31: =เปรียบเทียบราคาวัสดุ!Q111 -> 21670.08 | E31: =เปรียบเทียบราคาวัสดุ!R111 -> 20 | F31: 0 | G31: 0 | H31: =SUM(E31:G31) -> 20 | I31: =เปรียบเทียบราคาวัสดุ!S111 -> 27.61 | J31: =D31+I31 -> 21697.69 | K31: =เปรียบเทียบราคาวัสดุ!M111 -> สำนักดัชนีเศรษฐกิจการค้า จังหวัดพัทลุง
B32: - 19 มม. | C32: ตัน | D32: =เปรียบเทียบราคาวัสดุ!Q112 -> 24498.36 | E32: =เปรียบเทียบราคาวัสดุ!R112 -> 20 | F32: 0 | G32: 0 | H32: =SUM(E32:G32) -> 20 | I32: =เปรียบเทียบราคาวัสดุ!S112 -> 27.61 | J32: =D32+I32 -> 24525.97 | K32: =เปรียบเทียบราคาวัสดุ!M112 -> สำนักดัชนีเศรษฐกิจการค้า จังหวัดพัทลุง
B33: - 25 มม. | C33: ตัน | D33: =เปรียบเทียบราคาวัสดุ!Q113 -> 23576.17 | E33: =เปรียบเทียบราคาวัสดุ!R113 -> 20 | F33: 0 | G33: 0 | H33: =SUM(E33:G33) -> 20 | I33: =เปรียบเทียบราคาวัสดุ!S113 -> 27.61 | J33: =D33+I33 -> 23603.78 | K33: =เปรียบเทียบราคาวัสดุ!M113 -> สำนักดัชนีเศรษฐกิจการค้า จังหวัดพัทลุง
B34: เหล็กข้ออ้อย SD 30 ( รวมค่าขนขึ้น-ลง )
B35: - 12 มม. | C35: ตัน | D35: =เปรียบเทียบราคาวัสดุ!Q115 -> 20261.75 | E35: =เปรียบเทียบราคาวัสดุ!R115 -> 20 | F35: 0 | G35: 0 | H35: =SUM(E35:G35) -> 20 | I35: =เปรียบเทียบราคาวัสดุ!S115 -> 27.61 | J35: =D35+I35 -> 20289.36 | K35: =เปรียบเทียบราคาวัสดุ!M115 -> สำนักดัชนีเศรษฐกิจการค้า จังหวัดพัทลุง
B36: - 16 มม. | C36: ตัน | D36: =เปรียบเทียบราคาวัสดุ!Q116 -> 20972.32 | E36: =เปรียบเทียบราคาวัสดุ!R116 -> 20 | F36: 0 | G36: 0 | H36: =SUM(E36:G36) -> 20 | I36: =เปรียบเทียบราคาวัสดุ!S116 -> 27.61 | J36: =D36+I36 -> 20999.93 | K36: =เปรียบเทียบราคาวัสดุ!M116 -> สำนักดัชนีเศรษฐกิจการค้า จังหวัดพัทลุง
B37: - 20 มม. | C37: ตัน | D37: =เปรียบเทียบราคาวัสดุ!Q117 -> 20833.64 | E37: =เปรียบเทียบราคาวัสดุ!R117 -> 20 | F37: 0 | G37: 0 | H37: =SUM(E37:G37) -> 20 | I37: =เปรียบเทียบราคาวัสดุ!S117 -> 27.61 | J37: =D37+I37 -> 20861.25 | K37: =เปรียบเทียบราคาวัสดุ!M117 -> สำนักดัชนีเศรษฐกิจการค้า จังหวัดพัทลุง
B38: - 25 มม. | C38: ตัน | D38: =เปรียบเทียบราคาวัสดุ!Q118 -> 20811.21 | E38: =เปรียบเทียบราคาวัสดุ!R118 -> 20 | F38: 0 | G38: 0 | H38: =SUM(E38:G38) -> 20 | I38: =เปรียบเทียบราคาวัสดุ!S118 -> 27.61 | J38: =D38+I38 -> 20838.82 | K38: =เปรียบเทียบราคาวัสดุ!M118 -> สำนักดัชนีเศรษฐกิจการค้า จังหวัดพัทลุง
B39: เหล็กข้ออ้อย SD 40 ( รวมค่าขนขึ้น-ลง )
B40: - 12 มม. | C40: ตัน | D40: =เปรียบเทียบราคาวัสดุ!Q120 -> 14849.8 | E40: =เปรียบเทียบราคาวัสดุ!R120 -> 843 | F40: 0 | G40: 0 | H40: =SUM(E40:G40) -> 843 | I40: =เปรียบเทียบราคาวัสดุ!S120 -> 1138.7 | J40: =D40+I40 -> 15988.5 | K40: =เปรียบเทียบราคาวัสดุ!M120 -> สำนักดัชนีเศรษฐกิจการค้า กรุงเทพมหานคร
B41: - 16 มม. | C41: ตัน | D41: =เปรียบเทียบราคาวัสดุ!Q121 -> 14649.8 | E41: =เปรียบเทียบราคาวัสดุ!R121 -> 843 | F41: 0 | G41: 0 | H41: =SUM(E41:G41) -> 843 | I41: =เปรียบเทียบราคาวัสดุ!S121 -> 1138.7 | J41: =D41+I41 -> 15788.5 | K41: =เปรียบเทียบราคาวัสดุ!M121 -> สำนักดัชนีเศรษฐกิจการค้า กรุงเทพมหานคร
B42: - 20 มม. | C42: ตัน | D42: =เปรียบเทียบราคาวัสดุ!Q122 -> 14649.8 | E42: =เปรียบเทียบราคาวัสดุ!R122 -> 843 | F42: 0 | G42: 0 | H42: =SUM(E42:G42) -> 843 | I42: =เปรียบเทียบราคาวัสดุ!S122 -> 1138.7 | J42: =D42+I42 -> 15788.5 | K42: =เปรียบเทียบราคาวัสดุ!M122 -> สำนักดัชนีเศรษฐกิจการค้า กรุงเทพมหานคร
B43: - 25 มม. | C43: ตัน | D43: =เปรียบเทียบราคาวัสดุ!Q123 -> 14649.8 | E43: =เปรียบเทียบราคาวัสดุ!R123 -> 843 | F43: 0 | G43: 0 | H43: =SUM(E43:G43) -> 843 | I43: =เปรียบเทียบราคาวัสดุ!S123 -> 1138.7 | J43: =D43+I43 -> 15788.5 | K43: =เปรียบเทียบราคาวัสดุ!M123 -> สำนักดัชนีเศรษฐกิจการค้า กรุงเทพมหานคร
B44: - 28 มม. | C44: ตัน | D44: =เปรียบเทียบราคาวัสดุ!Q124 -> 14649.8 | E44: =เปรียบเทียบราคาวัสดุ!R124 -> 843 | F44: 0 | G44: 0 | H44: =SUM(E44:G44) -> 843 | I44: =เปรียบเทียบราคาวัสดุ!S124 -> 1138.7 | J44: =D44+I44 -> 15788.5 | K44: =เปรียบเทียบราคาวัสดุ!M124 -> สำนักดัชนีเศรษฐกิจการค้า กรุงเทพมหานคร
A45: 8 | B45: เหล็กตะแกรง WIRE MESH ศก. 4.0 มม. ( รวมค่าขนขึ้นลง )
B46: - ขนาดตาราง 0.20 x 0.20 ม. | C46: ตร.ม. | D46: =เปรียบเทียบราคาวัสดุ!Q149*(1000/0.98) -> 23 | E46: =เปรียบเทียบราคาวัสดุ!R149 -> 20 | F46: 0 | G46: 0 | H46: =SUM(E46:G46) -> 20 | I46: =เปรียบเทียบราคาวัสดุ!S149*(0.98/1000) -> 0.0270578 | J46: =D46+I46 -> 23.027058 | K46: =เปรียบเทียบราคาวัสดุ!M149 -> ห้างหุ้นส่วนจำกัด มังกรทองวัสดุก่อสร้าง
B47: - ขนาดตาราง 0.15 x 0.15 ม. | C47: ตร.ม. | D47: =เปรียบเทียบราคาวัสดุ!Q150*(1000/1.372) -> 33 | E47: =เปรียบเทียบราคาวัสดุ!R150 -> 843 | F47: 0 | G47: 0 | H47: =SUM(E47:G47) -> 843 | I47: =เปรียบเทียบราคาวัสดุ!S150*(1.372/1000) -> 1.5622964 | J47: =D47+I47 -> 34.562296 | K47: =เปรียบเทียบราคาวัสดุ!M150 -> สำนักดัชนีเศรษฐกิจการค้า กรุงเทพมหานคร
B48: เหล็กตะแกรง WIRE MESH ศก. 6.0 มม. ( รวมค่าขนขึ้นลง )
B49: - ขนาดตาราง 0.20 x 0.20 ม. | C49: ตร.ม. | D49: =เปรียบเทียบราคาวัสดุ!Q152*(1000/2.22) -> 55 | E49: =เปรียบเทียบราคาวัสดุ!R152 -> 843 | F49: 0 | G49: 0 | H49: =SUM(E49:G49) -> 843 | I49: =เปรียบเทียบราคาวัสดุ!S152*(2.22/1000) -> 2.527914 | J49: =D49+I49 -> 57.527914 | K49: =เปรียบเทียบราคาวัสดุ!M152 -> สำนักดัชนีเศรษฐกิจการค้า กรุงเทพมหานคร
B50: - ขนาดตาราง 0.15 x 0.15 ม. | C50: ตร.ม. | D50: =เปรียบเทียบราคาวัสดุ!Q153*(1000/3.108) -> 74 | E50: =เปรียบเทียบราคาวัสดุ!R153 -> 843 | F50: 0 | G50: 0 | H50: =SUM(E50:G50) -> 843 | I50: =เปรียบเทียบราคาวัสดุ!S153*(3.108/1000) -> 3.5390796 | J50: =D50+I50 -> 77.53908 | K50: =เปรียบเทียบราคาวัสดุ!M153 -> สำนักดัชนีเศรษฐกิจการค้า กรุงเทพมหานคร
A51: 9 | B51: ลวดอัดแรง ( รวมค่าขนขึ้น-ลง )
B52: - ชนิดเส้นเดี่ยว (PC WIRE) ศก. 4, 5, 7, 9 มม. | C52: ตัน | D52: =เปรียบเทียบราคาวัสดุ!Q165 -> 42166.67 | E52: =เปรียบเทียบราคาวัสดุ!R165 -> 843 | F52: 0 | G52: 0 | H52: =SUM(E52:G52) -> 843 | I52: =เปรียบเทียบราคาวัสดุ!S165 -> 1138.7 | J52: =D52+I52 -> 43305.37 | K52: =เปรียบเทียบราคาวัสดุ!M165 -> สำนักดัชนีเศรษฐกิจการค้า กรุงเทพมหานคร
B53: - ชนิดตีเกลียว (PC STRAND) 7 เส้น ศก. 3/8 นิ้ว และ 1/2 นิ้ว | C53: ตัน | D53: =เปรียบเทียบราคาวัสดุ!Q167 -> 42500 | E53: =เปรียบเทียบราคาวัสดุ!R167 -> 843 | F53: 0 | G53: 0 | H53: =SUM(E53:G53) -> 843 | I53: =เปรียบเทียบราคาวัสดุ!S167 -> 1138.7 | J53: =D53+I53 -> 43638.7 | K53: =เปรียบเทียบราคาวัสดุ!M167 -> สำนักดัชนีเศรษฐกิจการค้า กรุงเทพมหานคร
A54: 10 | B54: ลวดผูกเหล็ก | C54: กก. | D54: =เปรียบเทียบราคาวัสดุ!B185/1000 -> 19.74 | E54: =เปรียบเทียบราคาวัสดุ!E185 -> 843 | F54: 0 | G54: 0 | H54: =SUM(E54:G54) -> 843 | I54: =เปรียบเทียบราคาวัสดุ!H185/1000 -> 1.1387 | J54: =D54+I54 -> 20.8787 | K54: =เปรียบเทียบราคาวัสดุ!C184 -> สำนักดัชนีเศรษฐกิจการค้า กรุงเทพมหานคร
A55: 11 | B55: ตะปู ขนาด 3 นิ้ว | C55: กก. | D55: =เปรียบเทียบราคาวัสดุ!B197/1000 -> 29.11 | E55: =เปรียบเทียบราคาวัสดุ!E197 -> 20 | F55: 0 | G55: 0 | H55: =SUM(E55:G55) -> 20 | I55: =เปรียบเทียบราคาวัสดุ!H197/1000 -> 0.02761 | J55: =D55+I55 -> 29.13761 | K55: =เปรียบเทียบราคาวัสดุ!C196 -> หจก. มังกรทองวัสดุก่อสร้าง
A56: 12 | B56: ท่อกลม คสล. คุณภาพชั้น 3
B57: - dia. 0.30 ม. | C57: ท่อน | D57: =เปรียบเทียบราคาวัสดุ!Q208 -> 0 | E57: =เปรียบเทียบราคาวัสดุ!R208 -> 0 | F57: 0 | G57: 0 | H57: =SUM(E57:G57) -> 0 | I57: =เปรียบเทียบราคาวัสดุ!S208 -> 0 | J57: =IF(I57=0,0,D57+(((I57*13)+300)/48)) -> 0 | K57: =เปรียบเทียบราคาวัสดุ!M208 -> 0
B58: - dia. 0.40 ม. | C58: ท่อน | D58: =เปรียบเทียบราคาวัสดุ!Q209 -> 650 | E58: =เปรียบเทียบราคาวัสดุ!R209 -> 55 | F58: 0 | G58: 0 | H58: =SUM(E58:G58) -> 55 | I58: =เปรียบเทียบราคาวัสดุ!S209 -> 122.4 | J58: =IF(I58=0,0,D58+(((I58*13)+300)/32)) -> 709.1 | K58: =เปรียบเทียบราคาวัสดุ!M209 -> ห้างหุ้นส่วนจำกัด หัวหรั่งคอนกรีต
B59: - dia. 0.60 ม. | C59: ท่อน | D59: =เปรียบเทียบราคาวัสดุ!Q210 -> 850 | E59: =เปรียบเทียบราคาวัสดุ!R210 -> 55 | F59: 0 | G59: 0 | H59: =SUM(E59:G59) -> 55 | I59: =เปรียบเทียบราคาวัสดุ!S210 -> 122.4 | J59: =IF(I59=0,0,D59+(((I59*13)+300)/24)) -> 928.8 | K59: =เปรียบเทียบราคาวัสดุ!M210 -> ห้างหุ้นส่วนจำกัด หัวหรั่งคอนกรีต
B60: - dia. 0.80 ม. | C60: ท่อน | D60: =เปรียบเทียบราคาวัสดุ!Q211 -> 1250 | E60: =เปรียบเทียบราคาวัสดุ!R211 -> 55 | F60: 0 | G60: 0 | H60: =SUM(E60:G60) -> 55 | I60: =เปรียบเทียบราคาวัสดุ!S211 -> 122.4 | J60: =IF(I60=0,0,D60+(((I60*13)+300)/18)) -> 1355.0667 | K60: =เปรียบเทียบราคาวัสดุ!M211 -> ห้างหุ้นส่วนจำกัด หัวหรั่งคอนกรีต
B61: - dia. 1.00 ม. | C61: ท่อน | D61: =เปรียบเทียบราคาวัสดุ!Q212 -> 2100 | E61: =เปรียบเทียบราคาวัสดุ!R212 -> 55 | F61: 0 | G61: 0 | H61: =SUM(E61:G61) -> 55 | I61: =เปรียบเทียบราคาวัสดุ!S212 -> 122.4 | J61: =IF(I61=0,0,D61+(((I61*13)+300)/10)) -> 2289.12 | K61: =เปรียบเทียบราคาวัสดุ!M212 -> ห้างหุ้นส่วนจำกัด หัวหรั่งคอนกรีต
B62: - dia. 1.20 ม. | C62: ท่อน | D62: =เปรียบเทียบราคาวัสดุ!Q213 -> 3200 | E62: =เปรียบเทียบราคาวัสดุ!R213 -> 55 | F62: 0 | G62: 0 | H62: =SUM(E62:G62) -> 55 | I62: =เปรียบเทียบราคาวัสดุ!S213 -> 122.4 | J62: =IF(I62=0,0,D62+(((I62*13)+300)/8)) -> 3436.4 | K62: =เปรียบเทียบราคาวัสดุ!M213 -> ห้างหุ้นส่วนจำกัด หัวหรั่งคอนกรีต
A63: 13 | B63: ท่อสี่เหลี่ยมสำเร็จรูป มอก.1166-2536
B64: -Ø 1.20 x 1.20 x 1.00 ม. | C64: เมตร | D64: =เปรียบเทียบราคาวัสดุ!Q233 -> 7500 | E64: =เปรียบเทียบราคาวัสดุ!R233 -> 55 | F64: 0 | G64: 0 | H64: =SUM(E64:G64) -> 55 | I64: =เปรียบเทียบราคาวัสดุ!S233 -> 122.4 | J64: =IF(I64=0,0,D64+(((I64*13)+300)/8)) -> 7736.4 | K64: =เปรียบเทียบราคาวัสดุ!M233 -> บริษัท อาคเนย์ คอนกรีต จำกัด
B65: -Ø 1.50 x 1.50 x 1.00 ม. | C65: เมตร | D65: =เปรียบเทียบราคาวัสดุ!Q234 -> 10600 | E65: =เปรียบเทียบราคาวัสดุ!R234 -> 55 | F65: 0 | G65: 0 | H65: =SUM(E65:G65) -> 55 | I65: =เปรียบเทียบราคาวัสดุ!S234 -> 122.4 | J65: =IF(I65=0,0,D65+(((I65*13)+300)/6)) -> 10915.2 | K65: =เปรียบเทียบราคาวัสดุ!M234 -> บริษัท อาคเนย์ คอนกรีต จำกัด
B66: -Ø 1.80 x 1.50 x 1.00 ม. | C66: เมตร | D66: =เปรียบเทียบราคาวัสดุ!Q235 -> 15500 | E66: =เปรียบเทียบราคาวัสดุ!R235 -> 47 | F66: 0 | G66: 0 | H66: =SUM(E66:G66) -> 47 | I66: =เปรียบเทียบราคาวัสดุ!S235 -> 23.29 | J66: =IF(I66=0,0,D66+(((I66*13)+300)/6)) -> 15600.462 | K66: =เปรียบเทียบราคาวัสดุ!M235 -> ห้างหุ้นส่วนจำกัด ฉัตรชัยตรังคอนกรีต
B67: -Ø 1.80 x 1.80 x 1.00 ม. | C67: เมตร | D67: =เปรียบเทียบราคาวัสดุ!Q236 -> 16500 | E67: =เปรียบเทียบราคาวัสดุ!R236 -> 47 | F67: 0 | G67: 0 | H67: =SUM(E67:G67) -> 47 | I67: =เปรียบเทียบราคาวัสดุ!S236 -> 23.29 | J67: =IF(I67=0,0,D67+(((I67*13)+300)/6)) -> 16600.462 | K67: =เปรียบเทียบราคาวัสดุ!M236 -> ห้างหุ้นส่วนจำกัด ฉัตรชัยตรังคอนกรีต
B68: -Ø 2.10 x 1.80 x 1.00 ม. | C68: เมตร | D68: =เปรียบเทียบราคาวัสดุ!Q237 -> 18600 | E68: =เปรียบเทียบราคาวัสดุ!R237 -> 55 | F68: 0 | G68: 0 | H68: =SUM(E68:G68) -> 55 | I68: =เปรียบเทียบราคาวัสดุ!S237 -> 122.4 | J68: =IF(I68=0,0,D68+(((I68*13)+300)/4)) -> 19072.8 | K68: =เปรียบเทียบราคาวัสดุ!M237 -> บริษัท อาคเนย์ คอนกรีต จำกัด
B69: -Ø 2.10 x 2.10 x 1.00 ม. | C69: เมตร | D69: =เปรียบเทียบราคาวัสดุ!Q238 -> 21500 | E69: =เปรียบเทียบราคาวัสดุ!R238 -> 47 | F69: 0 | G69: 0 | H69: =SUM(E69:G69) -> 47 | I69: =เปรียบเทียบราคาวัสดุ!S238 -> 23.29 | J69: =IF(I69=0,0,D69+(((I69*13)+300)/4)) -> 21650.693 | K69: =เปรียบเทียบราคาวัสดุ!M238 -> ห้างหุ้นส่วนจำกัด ฉัตรชัยตรังคอนกรีต
A70: 14 | B70: ปูนซีเมนต์ปอร์ตแลนด์ ( รวมค่าขนขึ้นลง )
B71: 12.1 ปูนซีเมนต์ปอร์ตแลนด์ | C71: ตัน | D71: =เปรียบเทียบราคาวัสดุ!Q253 -> 2816.2 | E71: =เปรียบเทียบราคาวัสดุ!R253 -> 20 | F71: 0 | G71: 0 | H71: =SUM(E71:G71) -> 20 | I71: =เปรียบเทียบราคาวัสดุ!S253 -> 27.61 | J71: =D71+I71 -> 2843.81 | K71: =เปรียบเทียบราคาวัสดุ!M253 -> สำนักงานพาณิชย์ จังหวัดพัทลุง
B72: 12.1 ปูนซีเมนต์ผสม | C72: ตัน | D72: =เปรียบเทียบราคาวัสดุ!Q255 -> 2623.05 | E72: =E71 -> 20 | F72: 0 | G72: 0 | H72: =SUM(E72:G72) -> 20 | I72: =เปรียบเทียบราคาวัสดุ!S255 -> 27.61 | J72: =D72+I72 -> 2650.66 | K72: =เปรียบเทียบราคาวัสดุ!M255 -> สำนักงานพาณิชย์ จังหวัดพัทลุง
B73: 12.2 ปูนขาว | C73: ตัน | D73: 0 | E73: 0 | F73: 0 | G73: 0 | H73: =SUM(E73:G73) -> 0 | I73: 0 | J73: =D73+I73 -> 0 | K73: 0
A74: 15 | B74: คอนกรีตผสมเสร็จ
B75: - คอนกรีตผสมเสร็จ c 180 กก./ตร.ม. | C75: ลบ.ม. | D75: =เปรียบเทียบราคาวัสดุ!Q265 -> 2004.67 | E75: =เปรียบเทียบราคาวัสดุ!R265 -> 20 | F75: 0 | G75: 0 | H75: =SUM(E75:G75) -> 20 | I75: =เปรียบเทียบราคาวัสดุ!S265 -> 63.44 | J75: =D75+I75 -> 2068.11 | K75: =เปรียบเทียบราคาวัสดุ!M265 -> สำนักงานพาณิชย์ จังหวัดพัทลุง
B76: - คอนกรีตผสมเสร็จ c 210 กก./ตร.ม. | C76: ลบ.ม. | D76: =เปรียบเทียบราคาวัสดุ!Q266 -> 2054.68 | E76: =เปรียบเทียบราคาวัสดุ!R266 -> 20 | F76: 0 | G76: 0 | H76: =SUM(E76:G76) -> 20 | I76: =เปรียบเทียบราคาวัสดุ!S266 -> 63.44 | J76: =D76+I76 -> 2118.12 | K76: =เปรียบเทียบราคาวัสดุ!M266 -> สำนักงานพาณิชย์ จังหวัดพัทลุง
B77: - คอนกรีตผสมเสร็จ c 240 กก./ตร.ม. | C77: ลบ.ม. | D77: =เปรียบเทียบราคาวัสดุ!Q267 -> 2105.14 | E77: =เปรียบเทียบราคาวัสดุ!R267 -> 20 | F77: 0 | G77: 0 | H77: =SUM(E77:G77) -> 20 | I77: =เปรียบเทียบราคาวัสดุ!S267 -> 63.44 | J77: =D77+I77 -> 2168.58 | K77: =เปรียบเทียบราคาวัสดุ!M267 -> สำนักงานพาณิชย์ จังหวัดพัทลุง
B78: - คอนกรีตผสมเสร็จ c 280 กก./ตร.ม. | C78: ลบ.ม. | D78: =เปรียบเทียบราคาวัสดุ!Q268 -> 2155.14 | E78: =เปรียบเทียบราคาวัสดุ!R268 -> 20 | F78: 0 | G78: 0 | H78: =SUM(E78:G78) -> 20 | I78: =เปรียบเทียบราคาวัสดุ!S268 -> 63.44 | J78: =D78+I78 -> 2218.58 | K78: =เปรียบเทียบราคาวัสดุ!M268 -> สำนักงานพาณิชย์ จังหวัดพัทลุง
B79: - คอนกรีตผสมเสร็จ c 320 กก./ตร.ม. | C79: ลบ.ม. | D79: =เปรียบเทียบราคาวัสดุ!Q269 -> 2246.26 | E79: =เปรียบเทียบราคาวัสดุ!R269 -> 20 | F79: 0 | G79: 0 | H79: =SUM(E79:G79) -> 20 | I79: =เปรียบเทียบราคาวัสดุ!S269 -> 63.44 | J79: =D79+I79 -> 2309.7 | K79: =เปรียบเทียบราคาวัสดุ!M269 -> สำนักงานพาณิชย์ จังหวัดพัทลุง
B80: - คอนกรีตผสมเสร็จ c 350 กก./ตร.ม. | C80: ลบ.ม. | D80: =เปรียบเทียบราคาวัสดุ!Q270 -> 2314.49 | E80: =เปรียบเทียบราคาวัสดุ!R270 -> 20 | F80: 0 | G80: 0 | H80: =SUM(E80:G80) -> 20 | I80: =เปรียบเทียบราคาวัสดุ!S270 -> 63.44 | J80: =D80+I80 -> 2377.93 | K80: =เปรียบเทียบราคาวัสดุ!M270 -> สำนักงานพาณิชย์ จังหวัดพัทลุง
B81: - คอนกรีตผสมเสร็จ c 380 กก./ตร.ม. | C81: ลบ.ม. | D81: =เปรียบเทียบราคาวัสดุ!Q271 -> 2381.31 | E81: =เปรียบเทียบราคาวัสดุ!R271 -> 20 | F81: 0 | G81: 0 | H81: =SUM(E81:G81) -> 20 | I81: =เปรียบเทียบราคาวัสดุ!S271 -> 63.44 | J81: =D81+I81 -> 2444.75 | K81: =เปรียบเทียบราคาวัสดุ!M271 -> สำนักงานพาณิชย์ จังหวัดพัทลุง
B82: - คอนกรีตผสมเสร็จ c 400 กก./ตร.ม. | C82: ลบ.ม. | D82: =เปรียบเทียบราคาวัสดุ!Q272 -> 2456.54 | E82: =เปรียบเทียบราคาวัสดุ!R272 -> 20 | F82: 0 | G82: 0 | H82: =SUM(E82:G82) -> 20 | I82: =เปรียบเทียบราคาวัสดุ!S272 -> 63.44 | J82: =D82+I82 -> 2519.98 | K82: =เปรียบเทียบราคาวัสดุ!M272 -> สำนักงานพาณิชย์ จังหวัดพัทลุง
A83: 16 | B83: ไม้แบบ | C83: ลบ.ฟ. | D83: =เปรียบเทียบราคาวัสดุ!B293 -> 395 | E83: =เปรียบเทียบราคาวัสดุ!E293 -> 23 | F83: 0 | G83: 0 | H83: =SUM(E83:G83) -> 23 | I83: =เปรียบเทียบราคาวัสดุ!H293 -> 2.0589235 | J83: =D83+I83 -> 397.05892 | K83: =เปรียบเทียบราคาวัสดุ!C292 -> ร้านไม้ทุ่งคายโรงไม้
A84: 17 | B84: ยางแอสฟัลต์
B85: PARA AC | C85: ตัน | D85: =เปรียบเทียบราคาวัสดุ!Q306 -> 27100 | E85: =เปรียบเทียบราคาวัสดุ!R306 -> 250 | F85: 0 | G85: 0 | H85: =SUM(E85:G85) -> 250 | I85: =เปรียบเทียบราคาวัสดุ!S306 -> 338.15 | J85: =D85+I85 -> 27438.15 | K85: =เปรียบเทียบราคาวัสดุ!M306 -> สำนักดัชนีเศรษฐกิจการค้า กรุงเทพมหานคร
B86: MC-70 | C86: ตัน | D86: =เปรียบเทียบราคาวัสดุ!Q307 -> 36100 | E86: =เปรียบเทียบราคาวัสดุ!R307 -> 250 | F86: 0 | G86: 0 | H86: =SUM(E86:G86) -> 250 | I86: =เปรียบเทียบราคาวัสดุ!S307 -> 338.15 | J86: =D86+I86 -> 36438.15 | K86: =เปรียบเทียบราคาวัสดุ!M307 -> สำนักดัชนีเศรษฐกิจการค้า กรุงเทพมหานคร
B87: CSS-1 | C87: ตัน | D87: =เปรียบเทียบราคาวัสดุ!Q308 -> 22700 | E87: =เปรียบเทียบราคาวัสดุ!R308 -> 250 | F87: 0 | G87: 0 | H87: =SUM(E87:G87) -> 250 | I87: =เปรียบเทียบราคาวัสดุ!S308 -> 338.15 | J87: =D87+I87 -> 23038.15 | K87: =เปรียบเทียบราคาวัสดุ!M308 -> สำนักดัชนีเศรษฐกิจการค้า กรุงเทพมหานคร
B88: CRS-2 | C88: ตัน | D88: =เปรียบเทียบราคาวัสดุ!Q309 -> 22500 | E88: =เปรียบเทียบราคาวัสดุ!R309 -> 250 | F88: 0 | G88: 0 | H88: =SUM(E88:G88) -> 250 | I88: =เปรียบเทียบราคาวัสดุ!S309 -> 338.15 | J88: =D88+I88 -> 22838.15 | K88: =เปรียบเทียบราคาวัสดุ!M309 -> สำนักดัชนีเศรษฐกิจการค้า กรุงเทพมหานคร
B89: CMS-2h | C89: ตัน | D89: =เปรียบเทียบราคาวัสดุ!Q310 -> 22900 | E89: =เปรียบเทียบราคาวัสดุ!R310 -> 250 | F89: 0 | G89: 0 | H89: =SUM(E89:G89) -> 250 | I89: =เปรียบเทียบราคาวัสดุ!S310 -> 338.15 | J89: =D89+I89 -> 23238.15 | K89: =เปรียบเทียบราคาวัสดุ!M310 -> สำนักดัชนีเศรษฐกิจการค้า กรุงเทพมหานคร
B90: CSS-1h (EMA) | C90: ตัน | D90: =เปรียบเทียบราคาวัสดุ!Q311 -> 32400 | E90: =เปรียบเทียบราคาวัสดุ!R311 -> 250 | F90: 0 | G90: 0 | H90: =SUM(E90:G90) -> 250 | I90: =เปรียบเทียบราคาวัสดุ!S311 -> 338.15 | J90: =D90+I90 -> 32738.15 | K90: =เปรียบเทียบราคาวัสดุ!M311 -> สำนักดัชนีเศรษฐกิจการค้า กรุงเทพมหานคร
B91: CSS-1h | C91: ตัน | D91: =เปรียบเทียบราคาวัสดุ!Q312 -> 22900 | E91: =เปรียบเทียบราคาวัสดุ!R312 -> 250 | F91: 0 | G91: 0 | H91: =SUM(E91:G91) -> 250 | I91: =เปรียบเทียบราคาวัสดุ!S312 -> 338.15 | J91: =D91+I91 -> 23238.15 | K91: =เปรียบเทียบราคาวัสดุ!M312 -> สำนักดัชนีเศรษฐกิจการค้า กรุงเทพมหานคร
A92: 18 | B92: กล่องลวดบรรจุหินใหญ่ (GABION) และแผ่นใยสังเคราะห์ (Geotextile)
B93: Gabion 3.00x1.00x1.00 m. | C93: กล่อง | D93: =เปรียบเทียบราคาวัสดุ!Q325 -> 3737.2 | E93: =เปรียบเทียบราคาวัสดุ!R325 -> 73 | F93: 0 | G93: 0 | H93: =SUM(E93:G93) -> 73 | I93: =เปรียบเทียบราคาวัสดุ!S325 -> 162.07 | J93: =D93+I93 -> 3899.27 | K93: =เปรียบเทียบราคาวัสดุ!N325 -> อ.หาดใหญ่ จ.สงขลา
B94: Gabion 2.00x1.00x1.00 m. | C94: กล่อง | D94: =เปรียบเทียบราคาวัสดุ!Q326 -> 2140 | E94: =เปรียบเทียบราคาวัสดุ!R326 -> 73 | F94: 0 | G94: 0 | H94: =SUM(E94:G94) -> 73 | I94: =เปรียบเทียบราคาวัสดุ!S326 -> 162.07 | J94: =D94+I94 -> 2302.07 | K94: =เปรียบเทียบราคาวัสดุ!N326 -> อ.หาดใหญ่ จ.สงขลา
B95: Gabion 2.00x1.00x0.50 m. | C95: กล่อง | D95: =เปรียบเทียบราคาวัสดุ!Q327 -> 1600 | E95: =เปรียบเทียบราคาวัสดุ!R327 -> 73 | F95: 0 | G95: 0 | H95: =SUM(E95:G95) -> 73 | I95: =เปรียบเทียบราคาวัสดุ!S327 -> 162.07 | J95: =D95+I95 -> 1762.07 | K95: =เปรียบเทียบราคาวัสดุ!N327 -> อ.หาดใหญ่ จ.สงขลา
B96: แผ่นใยสังเคราะห์ | C96: ตร.ม. | D96: =เปรียบเทียบราคาวัสดุ!Q328 -> 50 | E96: =เปรียบเทียบราคาวัสดุ!R328 -> 73 | F96: 0 | G96: 0 | H96: =SUM(E96:G96) -> 73 | I96: =เปรียบเทียบราคาวัสดุ!S328 -> 162.07 | J96: =D96+I96 -> 212.07 | K96: =เปรียบเทียบราคาวัสดุ!N328 -> อ.หาดใหญ่ จ.สงขลา

Sheet ราคาต้นทุนงานทาง
A1: ราคาต้นทุนต่อหน่วยงานทาง สะพานและท่อลอดเหลี่ยม | P1: 0
A2: ="(ใช้ราคาเฉลี่ยน้ำมันที่อำเภอเมือง ลิตรละ .."&FIXED(เปรียบเทียบราคาวัสดุ!C3,2)&"..บาท หาค่าขนส่ง,ค่าดำเนินการและค่าเสื่อมราคา)" -> (ใช้ราคาเฉลี่ยน้ำมันที่อำเภอเมือง ลิตรละ ..22.50..บาท หาค่าขนส่ง,ค่าดำเนินการและค่าเสื่อมราคา) | P2: Asphaltic Concrete
B3: =ปร.4_1!C2 -> ซ่อมแซมผิวทางแบบเซอร์เฟซทรีตเมนต์ชั้นเดียว S.S.T. สายป่าตอ-ใสขรบ หมู่ที่ 5 | P3: Cape Seal
A4: สถานที่ก่อสร้าง | C4: ='ปร.5 ท'!C6 -> ตำบลควนขนุน อำเภอควนขนุน จังหวัดพัทลุง | P4: Concrete
A5: ='ปร.5 ท'!A17&" "&'ปร.5 ท'!C17&" "&'ปร.5 ท'!D17&'ปร.5 ท'!E17&" "&'ปร.5 ท'!F17&" "&'ปร.5 ท'!G17 -> ประมาณราคาวันที่ 30 เดือนมิถุนายน พ.ศ. 2563 | P5: ลูกรัง
B6: =ปร.4_1!B10 -> ประเภทงานทาง
A7: =ปร.4_1!A11 -> 1 | B7: =ปร.4_1!B11 -> งานปรับปรุงโครงสร้างทาง
B8: =ปร.4_1!B12 -> 1.1 | C8: =ปร.4_1!C12 -> งานถางป่าขุดตอ
C9: พิจารณาตามสภาพพื้นที่ | F9: เบา | P9: เบา | Q9: =ค่าดำเนินการ!H8 -> 1.69
C10: ค่าดำเนินการ + ค่าเสื่อมราคาเครื่องจักร | F10: = | G10: =IF(F9=P9,Q9,IF(F9=P10,Q10,Q11)) -> 1.69 | H10: บาท/ตร.ม. | I10: (จากตารางค่าดำเนินการฯ) | P10: กลาง | Q10: =ค่าดำเนินการ!H9 -> 3.55
C11: รวมค่างานต้นทุน | F11: = | G11: =G10 -> 1.69 | H11: บาท/ตร.ม. | P11: หนัก | Q11: =ค่าดำเนินการ!H10 -> 5.29
C13: หมายเหตุ
C14: งานถางป่าขุดตอขนาดเบา | F14: มีเฉพาะการถากถางวัชพืชเท่านั้น
C15: งานถางป่าขุดตอขนาดกลาง | F15: มีการถากถางวัชพืช และปาดหน้าดินเดิมออกด้วย
C16: งานถางป่าขุดตอขนาดหนัก | F16: มีการตัดโค่นต้นไม้ ขุดตอ ถากถางวัชพืช และปาดหน้าดินเดิมออกด้วย
C17: (ก) ให้อธิบายสภาพพื้นที่โดยรวมเพื่อพิจารณาขนาดของการกรุยทาง
B19: =ปร.4_1!B13 -> 1.1 | C19: =ปร.4_1!C13&" "&FIXED(ปร.4_1!W13,2)&" "&ปร.4_1!X13 -> งานขุดรื้อผิวทางและไหล่ทางเดิม แล้วบดอัดแน่น 0.00 ซม.
C20: คิดจากความหนาของผิวทางแอสฟัลท์คอนกรีต = 5 ซม.
C21: ค่าดำเนินการ + ค่าเสื่อม รื้อผิวทางเดิมหนา 15 ซม. | H21: = | I21: =ค่าดำเนินการ!H35 -> 11.02 | J21: บาท/ตร.ม. | K21: [1] (จากตารางค่าดำเนินการฯ)
C22: ความหนาจริงของผิวทางแอสฟัลท์คอนกรีต | F22: 5 | G22: ซม. | H22: = | I22: =ROUNDDOWN(F22*I21/5,2) -> 11.02 | J22: บาท/ตร.ม. | K22: ="[2] = "&FIXED(F22/100,2)&" x "&FIXED(I21,2)&" / 0.05" -> [2] = 0.05 x 11.02 / 0.05
C23: คิดจากพื้นที่ 1 ตร.ม.
C24: ปริมาตรวัสดุที่รื้อออก | F24: = | G24: 0.05 | H24: ลบ.ม.
C25: ส่วนขยาย = 0.05 x 1.60 | F25: = | G25: =G24*1.6 -> 0.08 | H25: ลบ.ม.
C26: ค่าดำเนินการ + ค่าเสื่อมดันและตัก (หิน ผุ) | H26: = | I26: =ค่าดำเนินการ!H18 -> 38.07 | J26: บาท/ตร.ม. | K26: [3] (จากตารางค่าดำเนินการฯ)
C27: ( พื้นที่ 1 ตร.ม. มีปริมาณ 0.08 ลบ.ม.) | H27: = | I27: =I26*G25 -> 3.0456 | J27: บาท/ตร.ม. | K27: [4] = [3] x 0.08
C28: ขนทิ้ง.…………………..กม. | H28: = | J28: บาท/ตร.ม. | K28: [5] (จากตารางค่าขนส่ง)
C29: ( พื้นที่ 1 ตร.ม. มีปริมาณ 0.08 ลบ.ม.) | H29: = | J29: บาท/ตร.ม. | K29: [6] = [5] x 0.08
G30: รวม | H30: = | I30: =I22+I27+I29 -> 14.0656 | J30: บาท/ตร.ม. | K30: [7] = [2] + [4] + [6]
I31: =I30 -> 14.0656 | J31: บาท/ตร.ม. | K31: [8] = [7]
B33: =ปร.4_1!B14 -> 1.3 | C33: =ปร.4_1!C14 -> งานเกลี่ยปรับคันทางและไหล่ทางเดิมแล้วบดทับ
C34: ค่าดำเนินการ+ค่าเสื่อมราคา รื้อคันทางเดิมชนิดลูกรัง หนา 10 ซม. แล้วบดทับ | I34: = | J34: =ค่าดำเนินการ!H33 -> 10.66 | K34: ซม. | L34: [1]
C35: ค่างานต้นทุน | I35: = | J35: =J34 -> 10.66 | K35: บาท/ตร.ม. | L35: [2] = [1]
B37: =ปร.4_1!B15 -> 1.4 | C37: =ปร.4_1!C15 -> งานตัดแต่งขั้นบันได
C38: ค่าดำเนินการ+ค่าเสื่อมราคา งานขุดตัดดิน | H38: = | I38: =ค่าดำเนินการ!H15 -> 20.73 | J38: ลบ.ม. | K38: [1] | L38: (จากตารางค่าดำเนินการฯ)
C39: ค่าดำเนินการ+ค่าเสื่อมราคา งานบดทับ | H39: = | I39: =ค่าดำเนินการ!H31 -> 7.89 | J39: บาท | K39: [2] | L39: (จากตารางค่าดำเนินการฯ)
C40: ค่างานต้นทุน | H40: = | I40: =SUM(I38:I39) -> 28.62 | J40: บาท | K40: [3] = [1]+[2]
B42: =ปร.4_1!B16 -> 1.5 | C42: =ปร.4_1!C16 -> งานดินตัด
C43: ค่าดำเนินการ + ค่าเสื่อมราคา (ตัก) | G43: = | H43: =ค่าดำเนินการ!H16 -> 8.06 | I43: บาท/ลบ.ม. | J43: [1] (จากตารางค่าดำเนินการฯ)
C44: ค่าขนทิ้ง | E44: กม. | G44: = | H44: 0 | I44: บาท/ลบ.ม. | J44: [2] (จากตารางค่าขนส่ง)
C45: (ระยะขนทิ้งให้คิดระยะทางตามความเป็นจริงพร้อมชี้แจงเหตุผลและแสดงหลักฐานประกอบ)
C46: รวม | G46: = | H46: =SUM(H43:H44) -> 8.06 | I46: บาท/ลบ.ม. | J46: [3] = [1] + [2]
C47: ส่วนขยายตัว | D47: =H46 -> 8.06 | E47: x | F47: 1.25 | G47: = | H47: =ROUND(D47*F47,2) -> 10.08 | I47: บาท/ลบ.ม. | J47: [4] = [3] x 1.25
C48: ค่าดำเนินการ + ค่าเสื่อมราคา (ขุดตัด) | G48: = | H48: =ค่าดำเนินการ!H15 -> 20.73 | I48: บาท/ลบ.ม. | J48: [5] (จากตารางค่าดำเนินการฯ)
C49: ค่างานต้นทุน | G49: = | H49: =SUM(H47:H48) -> 30.81 | I49: บาท/ลบ.ม. | J49: [6] = [4] + [5]
C51: หมายเหตุ
C52: ส่วนขยายตัวของทราย | G52: = | H52: 1.15
C53: ส่วนขยายตัวของดิน, ดินปนทราย | G53: = | H53: 1.25
B55: =ปร.4_1!B17 -> 1.6 | C55: =ปร.4_1!C17 -> งานดินถม (วัสดุจากดินตัด)
C56: ค่าดำเนินการและค่าเสื่อมราคา (บดทับ) | G56: = | H56: =ค่าดำเนินการ!H13 -> 45.03 | I56: บาท/ลบ.ม. | J56: [1] (จากตารางค่าดำเนินการฯ)
C57: ค่างานต้นทุน | G57: = | H57: =H56 -> 45.03 | I57: บาท/ลบ.ม. | J57: [2] = [1]
B59: =ปร.4_1!B18 -> 1.7 | C59: =ปร.4_1!C18 -> งานดินถม (วัสดุจากแหล่งนอกโครงการ)
C60: ค่าวัสดุจากแหล่ง | G60: = | H60: =ข้อมูลแหล่งราคาวัสดุ!D11 -> 50 | I60: บาท/ลบ.ม. | J60: [1]
C61: ค่าดำเนินการ + ค่าเสื่อมราคา (ขุด-ขน) | G61: = | H61: =ค่าดำเนินการ!H12 -> 20.92 | I61: บาท/ลบ.ม. | J61: [2] (จากตารางค่าดำเนินการฯ)
C62: ค่าขนส่ง | D62: =ข้อมูลแหล่งราคาวัสดุ!E11 -> 21 | E62: กม. | G62: = | H62: =ข้อมูลแหล่งราคาวัสดุ!I11 -> 66.52 | I62: บาท/ลบ.ม. | J62: [3] (จากตารางค่าขนส่ง)
C63: รวม | G63: = | H63: =SUM(H60:H62) -> 137.44 | I63: บาท/ลบ.ม. | J63: [4] = [1] + [2] + [3]
C64: ส่วนยุบตัว | D64: =H63 -> 137.44 | E64: x | F64: 1.6 | G64: = | H64: =ROUND(D64*F64,2) -> 219.9 | I64: บาท/ลบ.ม. | J64: [5] = [4] x 1.60
C65: ค่าดำเนินการ + ค่าเสื่อมราคา (บดทับ) | G65: = | H65: =ค่าดำเนินการ!H13 -> 45.03 | I65: บาท/ลบ.ม. | J65: [6] (จากตารางค่าดำเนินการฯ)
C66: ค่างานต้นทุน | G66: = | H66: =SUM(H64:H65) -> 264.93 | I66: บาท/ลบ.ม. | J66: [7] = [5] + [6]
B68: =ปร.4_1!B19 -> 1.8 | C68: =ปร.4_1!C19 -> งานทรายถม
C69: ค่าวัสดุจากแหล่ง | G69: = | H69: =ข้อมูลแหล่งราคาวัสดุ!D12 -> 150 | I69: บาท/ลบ.ม. | J69: [1]
C70: ค่าขนส่ง | D70: =ข้อมูลแหล่งราคาวัสดุ!E12 -> 38 | E70: กม. | G70: = | H70: =ข้อมูลแหล่งราคาวัสดุ!I12 -> 118.96 | I70: บาท/ลบ.ม. | J70: [3] (จากตารางค่าขนส่ง)
C71: รวม | G71: = | H71: =H69+H70 -> 268.96 | I71: บาท/ลบ.ม. | J71: [4] = [1] + [2] + [3]
C72: ส่วนยุบตัว | D72: =H71 -> 268.96 | E72: x | F72: 1.4 | G72: = | H72: =ROUND(D72*F72,2) -> 376.54 | I72: บาท/ลบ.ม. | J72: [5] = [4] x 1.40
C73: ค่าดำเนินการ + ค่าเสื่อมราคา (บดทับ) | G73: = | H73: =ค่าดำเนินการ!H13 -> 45.03 | I73: บาท/ลบ.ม. | J73: [6] (จากตารางค่าดำเนินการฯ)
C74: ค่างานต้นทุน | G74: = | H74: =SUM(H72:H73) -> 421.57 | I74: บาท/ลบ.ม. | J74: [7] = [5] + [6]
C76: หมายเหตุ | G76: แนวเก่า | J76: แนวใหม่
C77: ส่วนยุบตัวของทรายถมคันทาง | G77: 1.4 | J77: 1.45
C78: ดิน, ดินปนทราย ถมคันทาง | G78: 1.6 | J78: 1.7
C79: ดินเหนียว ถมคันทาง | G79: 1.85 | J79: 1.9
C80: (ดินเหนียวมีค่า CBR น้อยกว่า 2)
C81: ค่าดินที่แหล่ง = ราคาที่ดิน (บาท/ไร่) x 1 x 1 =…………………………….บาท/ลบ.ม.
D82: 2 1600 3
B84: =ปร.4_1!B20 -> 1.9 | C84: =ปร.4_1!C20 -> งานวัสดุคัดเลือกบดอัดแน่น
C85: ค่าวัสดุจากแหล่ง | G85: = | H85: =ข้อมูลแหล่งราคาวัสดุ!#REF! -> #REF! | I85: บาท/ลบ.ม. | J85: [1]
C86: ค่าดำเนินการ + ค่าเสื่อมราคา (ขุด-ขน) | G86: = | H86: =ค่าดำเนินการ!H22 -> 31.27 | I86: บาท/ลบ.ม. | J86: [2] | K86: (จากตารางค่าดำเนินการฯ)
C87: ค่าขนส่ง | D87: =ข้อมูลแหล่งราคาวัสดุ!#REF! -> #REF! | E87: กม. | G87: = | H87: =ข้อมูลแหล่งราคาวัสดุ!#REF! -> #REF! | I87: บาท/ลบ.ม. | J87: [3] | K87: (จากตารางค่าขนส่ง)
C88: รวม | G88: = | H88: =SUM(H85:H87) -> #REF! | I88: บาท/ลบ.ม. | J88: [4] = [1] + [2] + [3]
C89: ส่วนยุบตัว | D89: =H88 -> #REF! | E89: x | F89: 1.6 | G89: = | H89: =ROUND(D89*F89,2) -> #REF! | I89: บาท/ลบ.ม. | J89: [5] = [4] x 1.60
C90: ค่าดำเนินการ + ค่าเสื่อมราคา (บดทับ) | G90: = | H90: =ค่าดำเนินการ!H24 -> 54.04 | I90: บาท/ลบ.ม. | J90: [6] | K90: (จากตารางค่าดำเนินการฯ)
C91: ค่างานต้นทุน | G91: = | H91: =SUM(H89:H90) -> #REF! | I91: บาท/ลบ.ม. | J91: [7] = [5] + [6]
B93: =ปร.4_1!B21 -> 1.1 | C93: =ปร.4_1!C21&" "&FIXED(ปร.4_1!H21,2)&" "&ปร.4_1!I21 -> งานรองพื้นทาง (ลูกรังบดอัดแน่น) ( ลูกรังหนา 0.00 ซม. )
C94: ค่าวัสดุจากแหล่ง | G94: = | H94: =ข้อมูลแหล่งราคาวัสดุ!D15 -> 55 | I94: บาท/ลบ.ม. | J94: [1]
C95: ค่าดำเนินการ + ค่าเสื่อมราคา (ขุด-ขน) | G95: = | H95: =ค่าดำเนินการ!H22 -> 31.27 | I95: บาท/ลบ.ม. | J95: [2] (จากตารางค่าดำเนินการฯ)
C96: ค่าขนส่ง | D96: =ข้อมูลแหล่งราคาวัสดุ!E15 -> 23 | E96: กม. | G96: = | H96: =ข้อมูลแหล่งราคาวัสดุ!I15 -> 72.68 | I96: บาท/ลบ.ม. | J96: [3] (จากตารางค่าขนส่ง)
C97: รวม | G97: = | H97: =SUM(H94:H96) -> 158.95 | I97: บาท/ลบ.ม. | J97: [4] = [1] + [2] + [3]
C98: ส่วนยุบตัว | D98: =H97 -> 158.95 | E98: x | F98: 1.6 | G98: = | H98: =ROUND(D98*F98,2) -> 254.32 | I98: บาท/ลบ.ม. | J98: [5] = [4] x 1.60
C99: ค่าดำเนินการ + ค่าเสื่อมราคา (บดทับ) | G99: = | H99: =ค่าดำเนินการ!H24 -> 54.04 | I99: บาท/ลบ.ม. | J99: [6] (จากตารางค่าดำเนินการฯ)
C100: ค่างานต้นทุน | G100: = | H100: =SUM(H98:H99) -> 308.36 | I100: บาท/ลบ.ม. | J100: [7] = [5] + [6]
B102: =ปร.4_1!B22 -> 1.2 | C102: =ปร.4_1!C22&" "&ปร.4_1!G22&" "&FIXED(ปร.4_1!H22,2)&" "&ปร.4_1!I22 -> หินคลุกบดอัดแน่นเสริมพื้นทาง 30% ( หินคลุกหนา 15.00 ซม. )
C103: ค่าวัสดุจากปากโม่ (รวมค่าตัก) | G103: = | H103: =ข้อมูลแหล่งราคาวัสดุ!D17 -> 240 | I103: บาท/ลบ.ม. | J103: [1]
C104: ค่าขนส่ง | D104: =ข้อมูลแหล่งราคาวัสดุ!E17 -> 20 | E104: กม. | G104: = | H104: =ข้อมูลแหล่งราคาวัสดุ!I17 -> 63.44 | I104: บาท/ลบ.ม. | J104: [2] | K104: (จากตารางค่าขนส่ง)
C105: รวม | G105: = | H105: =SUM(H103:H104) -> 303.44 | I105: บาท/ลบ.ม. | J105: [3] = [1] + [2]
C106: ส่วนยุบตัว | D106: =H105 -> 303.44 | E106: x | F106: 1.5 | G106: = | H106: =ROUND(H105*F106,2) -> 455.16 | I106: บาท/ลบ.ม. | J106: [4] = [3] x 1.50
C107: ค่าดำเนินการ + ค่าเสื่อมราคา (ผสม) | G107: = | H107: =ค่าดำเนินการ!H29 -> 24.62 | I107: บาท/ลบ.ม. | J107: [5] | K107: (จากตารางค่าดำเนินการฯ)
C108: ค่าดำเนินการ + ค่าเสื่อมราคา (บดทับ) | G108: = | H108: =ค่าดำเนินการ!H30 -> 84.54 | I108: บาท/ลบ.ม. | J108: [6] | K108: (จากตารางค่าดำเนินการฯ)
C109: ค่างานต้นทุน | G109: = | H109: =SUM(H106:H108) -> 564.32 | I109: บาท/ลบ.ม. | J109: [7] = [4] + [5] + [6]
B111: =ปร.4_1!B23 -> 1.12 | C111: =ปร.4_1!C23 -> หินคลุกปรับระดับ (หลวม)
C112: ค่าวัสดุจากปากโม่ (รวมค่าตัก) | G112: = | H112: =ข้อมูลแหล่งราคาวัสดุ!D17 -> 240 | I112: บาท/ลบ.ม. | J112: [1]
C113: ค่าขนส่ง | D113: =ข้อมูลแหล่งราคาวัสดุ!E17 -> 20 | E113: กม. | G113: = | H113: =ข้อมูลแหล่งราคาวัสดุ!I17 -> 63.44 | I113: บาท/ลบ.ม. | J113: [2] | K113: (จากตารางค่าขนส่ง)
C114: ค่าใช้จ่ายรวม | G114: = | H114: =SUM(H112:H113) -> 303.44 | I114: บาท/ลบ.ม. | J114: [3] = [1] + [2]
...

Sheet งานป้ายจราจรระหว่างการก่อสร
A1: ใบแสดงราคาค่ายานพาหนะและงานป้ายจราจรระหว่างการก่อสร้าง
A3: 1. ค่ายานพาหนะ
B4: ค่าเช่ารถยนต์ปิคอัพทั่วไป ราคา 1,000 บาท/วัน | F4: = | G4: 30000 | H4: บาท/เดือน
B5: จากการสอบราคา มีผู้เสนอราคา 3 ราย คือ
B6: 1 | C6: นางสาววรรณริสา หนูจุ้ย | F6: เสนอราคา | G6: 30000 | H6: บาท/เดือน
B7: 2 | C7: นายอุทัย แสนบอโด | F7: เสนอราคา | G7: 29000 | H7: บาท/เดือน
B8: 3 | C8: นายวิสุทธิ์ แสงแก้ว | F8: เสนอราคา | G8: 28000 | H8: บาท/เดือน
G9: ราคาที่กำหนด | K9: 27000 | L9: บาท/เดือน
G10: ระยะเวลาก่อสร้าง | K10: 3 | L10: เดือน
G11: รวมเป็นเงินทั้งสิ้น | K11: =K9*K10 -> 81000 | L11: บาท/เดือน
A12: ใบแสดงราคางานป้ายจราจรระหว่างการก่อสร้าง
A14: 1. งานป้ายจราจรระหว่างการก่อสร้าง | E14: ( รูปแบบที่2 งานก่อสร้างที่มีการปิดช่องจราจร )
B15: ป้ายงานก่อสร้างทางข้างหน้า (ป้ายแบบที่ 2) | F15: = | G15: 2 | H15: ชุด @ | I15: 5656 | J15: บาท = | K15: =I15*G15 -> 11312 | L15: บาท
B16: ป้ายสิ้นสุดเขตก่อสร้าง (ป้ายแบบที่ 6) | F16: = | G16: 2 | H16: ชุด @ | I16: 4648 | J16: บาท = | K16: =I16*G16 -> 9296 | L16: บาท
B17: ป้ายเริ่มต้นเขตก่อสร้าง (ป้ายแบบที่ 7) | F17: = | G17: 2 | H17: ชุด @ | I17: 4648 | J17: บาท = | K17: =I17*G17 -> 9296 | L17: บาท
B18: ป้ายงานก่อสร้าง (ป้ายแบบที่ 19) | F18: = | G18: 2 | H18: ชุด @ | I18: 1241 | J18: บาท = | K18: =I18*G18 -> 2482 | L18: บาท
B19: ป้ายกำหนดความเร็ว 40 กม./ชม. (ป้ายแบบที่ 33) | F19: = | G19: 2 | H19: ชุด @ | I19: 1145 | J19: บาท = | K19: =I19*G19 -> 2290 | L19: บาท
B20: กรวยยาง | F20: = | G20: 20 | H20: ชุด @ | I20: 117 | J20: บาท = | K20: =I20*G20 -> 2340 | L20: บาท
I22: รวมค่างานต้นทุน | J22: = | K22: =SUM(K15:K21) -> 37016 | L22: บาท/12 เดือน
J23: = | K23: =K22/12 -> 3084.6667 | L23: บาท/เดือน
I25: ราคาที่กำหนด | J25: = | K25: =ROUNDDOWN(K23,-1) -> 3080 | L25: บาท/เดือน
I27: ระยะเวลาก่อสร้าง | J27: = | K27: 3 | L27: เดือน
I28: รวมเป็นเงินทั้งสิ้น | J28: = | K28: =K25*K27 -> 9240 | L28: บาท/เดือน

Sheet ค่าดำเนินการ
A1: สรุปตารางค่าดำเนินการและค่าเสื่อมราคา | J1: สรุปตารางค่าดำเนินการและค่าเสื่อมราคา
A2: =IF(G3=BT2,BP2,IF(G3=BY2,BU2,0)) -> 0 | H2: (ราคาเครื่องจักร 2548) | M2: ราคาน้ำมันเชื้อเพลิงโซล่า ที่ อ.เมือง 18.00 - 18.99 บาท/ลิตร | Q2: 18.5 | R2: ราคาน้ำมันเชื้อเพลิงโซล่า ที่ อ.เมือง 19.00 - 19.99 บาท/ลิตร | V2: 19.5 | W2: ราคาน้ำมันเชื้อเพลิงโซล่า ที่ อ.เมือง 20.00 - 20.99 บาท/ลิตร | AA2: 20.5 | AB2: ราคาน้ำมันเชื้อเพลิงโซล่า ที่ อ.เมือง 21.00 - 21.99 บาท/ลิตร | AF2: 21.5 | AG2: ราคาน้ำมันเชื้อเพลิงโซล่า ที่ อ.เมือง 22.00 - 22.99 บาท/ลิตร | AK2: 22.5 | AL2: ราคาน้ำมันเชื้อเพลิงโซล่า ที่ อ.เมือง 23.00 - 23.99 บาท/ลิตร | AP2: 23.5 | AQ2: ราคาน้ำมันเชื้อเพลิงโซล่า ที่ อ.เมือง 24.00 - 24.99 บาท/ลิตร | AU2: 24.5 | AV2: ราคาน้ำมันเชื้อเพลิงโซล่า ที่ อ.เมือง 25.00 - 25.99 บาท/ลิตร | AZ2: 25.5 | BA2: ราคาน้ำมันเชื้อเพลิงโซล่า ที่ อ.เมือง 26.00 - 26.99 บาท/ลิตร | BE2: 26.5 | BF2: ราคาน้ำมันเชื้อเพลิงโซล่า ที่ อ.เมือง 27.00 - 27.99 บาท/ลิตร | BJ2: 27.5 | BK2: ราคาน้ำมันเชื้อเพลิงโซล่า ที่ อ.เมือง 28.00 - 28.99 บาท/ลิตร | BO2: 28.5 | BP2: ราคาน้ำมันเชื้อเพลิงโซล่า ที่ อ.เมือง 29.00 - 29.99 บาท/ลิตร | BT2: 29.5 | BU2: ราคาน้ำมันเชื้อเพลิงโซล่า ที่ อ.เมือง 30.00 - 30.99 บาท/ลิตร | BY2: 30.5 | BZ2: ราคาน้ำมันเชื้อเพลิงโซล่า ที่ อ.เมือง 31.00 - 31.99 บาท/ลิตร | CD2: 31.5 | CE2: ราคาน้ำมันเชื้อเพลิงโซล่า ที่ อ.เมือง 32.00 - 32.99 บาท/ลิตร | CI2: 32.5 | CJ2: ราคาน้ำมันเชื้อเพลิงโซล่า ที่ อ.เมือง 32.00 - 32.99 บาท/ลิตร | CN2: 33.5 | CO2: ราคาน้ำมันเชื้อเพลิงโซล่า ที่ อ.เมือง 32.00 - 32.99 บาท/ลิตร | CS2: 34.5 | CT2: ราคาน้ำมันเชื้อเพลิงโซล่า ที่ อ.เมือง 32.00 - 32.99 บาท/ลิตร | CX2: 35.5 | CY2: ราคาน้ำมันเชื้อเพลิงโซล่า ที่ อ.เมือง 32.00 - 32.99 บาท/ลิตร | DC2: 36.5 | DD2: ราคาน้ำมันเชื้อเพลิงโซล่า ที่ อ.เมือง 32.00 - 32.99 บาท/ลิตร | DH2: 37.5 | DI2: ราคาน้ำมันเชื้อเพลิงโซล่า ที่ อ.เมือง 32.00 - 32.99 บาท/ลิตร | DM2: 38.5 | DN2: ราคาน้ำมันเชื้อเพลิงโซล่า ที่ อ.เมือง 32.00 - 32.99 บาท/ลิตร | DR2: 39.5 | DS2: ราคาน้ำมันเชื้อเพลิงโซล่า ที่ อ.เมือง 32.00 - 32.99 บาท/ลิตร | DW2: 40.5
F3: ราคาน้ำมันเชื้อเพลิงโซล่าเฉลี่ย | G3: =เปรียบเทียบราคาวัสดุ!C3 -> 22.5 | H3: บาท/ลิตร
A4: ที่ | B4: ลักษณะงาน | C4: หน่วย | D4: ค่า ดำเนินการ บาท/หน่วย | E4: ค่าเสื่อมราคา (บาท) | G4: รวมค่างาน (บาท) | J4: ที่ | K4: ลักษณะงาน | L4: หน่วย | M4: ค่า ดำเนินการ บาท/หน่วย | N4: ค่าเสื่อมราคา (บาท) | P4: รวมค่างาน (บาท) | R4: ค่า ดำเนินการ บาท/หน่วย | S4: ค่าเสื่อมราคา (บาท) | U4: รวมค่างาน (บาท) | W4: ค่า ดำเนินการ บาท/หน่วย | X4: ค่าเสื่อมราคา (บาท) | Z4: รวมค่างาน (บาท) | AB4: ค่า ดำเนินการ บาท/หน่วย | AC4: ค่าเสื่อมราคา (บาท) | AE4: รวมค่างาน (บาท) | AG4: ค่า ดำเนินการ บาท/หน่วย | AH4: ค่าเสื่อมราคา (บาท) | AJ4: รวมค่างาน (บาท) | AL4: ค่า ดำเนินการ บาท/หน่วย | AM4: ค่าเสื่อมราคา (บาท) | AO4: รวมค่างาน (บาท) | AQ4: ค่า ดำเนินการ บาท/หน่วย | AR4: ค่าเสื่อมราคา (บาท) | AT4: รวมค่างาน (บาท) | AV4: ค่า ดำเนินการ บาท/หน่วย | AW4: ค่าเสื่อมราคา (บาท) | AY4: รวมค่างาน (บาท) | BA4: ค่า ดำเนินการ บาท/หน่วย | BB4: ค่าเสื่อมราคา (บาท) | BD4: รวมค่างาน (บาท) | BF4: ค่า ดำเนินการ บาท/หน่วย | BG4: ค่าเสื่อมราคา (บาท) | BI4: รวมค่างาน (บาท) | BK4: ค่า ดำเนินการ บาท/หน่วย | BL4: ค่าเสื่อมราคา (บาท) | BN4: รวมค่างาน (บาท) | BP4: ค่า ดำเนินการ บาท/หน่วย | BQ4: ค่าเสื่อมราคา (บาท) | BS4: รวมค่างาน (บาท) | BU4: ค่า ดำเนินการ บาท/หน่วย | BV4: ค่าเสื่อมราคา (บาท) | BX4: รวมค่างาน (บาท) | BZ4: ค่า ดำเนินการ บาท/หน่วย | CA4: ค่าเสื่อมราคา (บาท) | CC4: รวมค่างาน (บาท) | CE4: ค่า ดำเนินการ บาท/หน่วย | CF4: ค่าเสื่อมราคา (บาท) | CH4: รวมค่างาน (บาท) | CJ4: ค่า ดำเนินการ บาท/หน่วย | CK4: ค่าเสื่อมราคา (บาท) | CM4: รวมค่างาน (บาท) | CO4: ค่า ดำเนินการ บาท/หน่วย | CP4: ค่าเสื่อมราคา (บาท) | CR4: รวมค่างาน (บาท) | CT4: ค่า ดำเนินการ บาท/หน่วย | CU4: ค่าเสื่อมราคา (บาท) | CW4: รวมค่างาน (บาท) | CY4: ค่า ดำเนินการ บาท/หน่วย | CZ4: ค่าเสื่อมราคา (บาท) | DB4: รวมค่างาน (บาท) | DD4: ค่า ดำเนินการ บาท/หน่วย | DE4: ค่าเสื่อมราคา (บาท) | DG4: รวมค่างาน (บาท) | DI4: ค่า ดำเนินการ บาท/หน่วย | DJ4: ค่าเสื่อมราคา (บาท) | DL4: รวมค่างาน (บาท) | DN4: ค่า ดำเนินการ บาท/หน่วย | DO4: ค่าเสื่อมราคา (บาท) | DQ4: รวมค่างาน (บาท) | DS4: ค่า ดำเนินการ บาท/หน่วย | DT4: ค่าเสื่อมราคา (บาท) | DV4: รวมค่างาน (บาท)
E6: ปกติ | F6: ฝนชุก | G6: ปกติ | H6: ฝนชุก | N6: ปกติ | O6: ฝนชุก | P6: ปกติ | Q6: ฝนชุก | S6: ปกติ | T6: ฝนชุก | U6: ปกติ | V6: ฝนชุก | X6: ปกติ | Y6: ฝนชุก | Z6: ปกติ | AA6: ฝนชุก | AC6: ปกติ | AD6: ฝนชุก | AE6: ปกติ | AF6: ฝนชุก | AH6: ปกติ | AI6: ฝนชุก | AJ6: ปกติ | AK6: ฝนชุก | AM6: ปกติ | AN6: ฝนชุก | AO6: ปกติ | AP6: ฝนชุก | AR6: ปกติ | AS6: ฝนชุก | AT6: ปกติ | AU6: ฝนชุก | AW6: ปกติ | AX6: ฝนชุก | AY6: ปกติ | AZ6: ฝนชุก | BB6: ปกติ | BC6: ฝนชุก | BD6: ปกติ | BE6: ฝนชุก | BG6: ปกติ | BH6: ฝนชุก | BI6: ปกติ | BJ6: ฝนชุก | BL6: ปกติ | BM6: ฝนชุก | BN6: ปกติ | BO6: ฝนชุก | BQ6: ปกติ | BR6: ฝนชุก | BS6: ปกติ | BT6: ฝนชุก | BV6: ปกติ | BW6: ฝนชุก | BX6: ปกติ | BY6: ฝนชุก | CA6: ปกติ | CB6: ฝนชุก | CC6: ปกติ | CD6: ฝนชุก | CF6: ปกติ | CG6: ฝนชุก | CH6: ปกติ | CI6: ฝนชุก | CK6: ปกติ | CL6: ฝนชุก | CM6: ปกติ | CN6: ฝนชุก | CP6: ปกติ | CQ6: ฝนชุก | CR6: ปกติ | CS6: ฝนชุก | CU6: ปกติ | CV6: ฝนชุก | CW6: ปกติ | CX6: ฝนชุก | CZ6: ปกติ | DA6: ฝนชุก | DB6: ปกติ | DC6: ฝนชุก | DE6: ปกติ | DF6: ฝนชุก | DG6: ปกติ | DH6: ฝนชุก | DJ6: ปกติ | DK6: ฝนชุก | DL6: ปกติ | DM6: ฝนชุก | DO6: ปกติ | DP6: ฝนชุก | DQ6: ปกติ | DR6: ฝนชุก | DT6: ปกติ | DU6: ฝนชุก | DV6: ปกติ | DW6: ฝนชุก
A7: 1 | B7: งานถางป่าขุดตอ | J7: 1 | K7: งานถางป่าขุดตอ
B8: ขนาดเบา | C8: ตร.ม. | D8: =IF($G$3=$Q$2,M8,IF($G$3=$V$2,R8,IF($G$3=$AA$2,W8,IF($G$3=$AF$2,AB8,IF($G$3=$AK$2,AG8,IF($G$3=$AP$2,AL8,IF($G$3=$AU$2,AQ8,IF($G$3=$AZ$2,AV8,IF($G$3=$BE$2,BA8,IF($G$3=$BJ$2,BF8,IF($G$3=$BO$2,BK8,IF($G$3=$BT$2,BP8,IF($G$3=$BY$2,BU8,IF($G$3=$CD$2,BZ8,IF($G$3=$CI$2,CE8,0))))))))))))))) -> 1.41 | E8: =IF($G$3=$Q$2,N8,IF($G$3=$V$2,S8,IF($G$3=$AA$2,X8,IF($G$3=$AF$2,AC8,IF($G$3=$AK$2,AH8,IF($G$3=$AP$2,AM8,IF($G$3=$AU$2,AR8,IF($G$3=$AZ$2,AW8,IF($G$3=$BE$2,BB8,IF($G$3=$BJ$2,BG8,IF($G$3=$BO$2,BL8,IF($G$3=$BT$2,BQ8,IF($G$3=$BY$2,BV8,IF($G$3=$CD$2,CA8,IF($G$3=$CI$2,CF8,0))))))))))))))) -> 0.22 | F8: =IF($G$3=$Q$2,O8,IF($G$3=$V$2,T8,IF($G$3=$AA$2,Y8,IF($G$3=$AF$2,AD8,IF($G$3=$AK$2,AI8,IF($G$3=$AP$2,AN8,IF($G$3=$AU$2,AS8,IF($G$3=$AZ$2,AX8,IF($G$3=$BE$2,BC8,IF($G$3=$BJ$2,BH8,IF($G$3=$BO$2,BM8,IF($G$3=$BT$2,BR8,IF($G$3=$BY$2,BW8,IF($G$3=$CD$2,CB8,IF($G$3=$CI$2,CG8,0))))))))))))))) -> 0.28 | G8: =IF($G$3=$Q$2,P8,IF($G$3=$V$2,U8,IF($G$3=$AA$2,Z8,IF($G$3=$AF$2,AE8,IF($G$3=$AK$2,AJ8,IF($G$3=$AP$2,AO8,IF($G$3=$AU$2,AT8,IF($G$3=$AZ$2,AY8,IF($G$3=$BE$2,BD8,IF($G$3=$BJ$2,BI8,IF($G$3=$BO$2,BN8,IF($G$3=$BT$2,BS8,IF($G$3=$BY$2,BX8,IF($G$3=$CD$2,CC8,IF($G$3=$CI$2,CH8,0))))))))))))))) -> 1.63 | H8: =IF($G$3=$Q$2,Q8,IF($G$3=$V$2,V8,IF($G$3=$AA$2,AA8,IF($G$3=$AF$2,AF8,IF($G$3=$AK$2,AK8,IF($G$3=$AP$2,AP8,IF($G$3=$AU$2,AU8,IF($G$3=$AZ$2,AZ8,IF($G$3=$BE$2,BE8,IF($G$3=$BJ$2,BJ8,IF($G$3=$BO$2,BO8,IF($G$3=$BT$2,BT8,IF($G$3=$BY$2,BY8,IF($G$3=$CD$2,CD8,IF($G$3=$CI$2,CI8,0))))))))))))))) -> 1.69 | K8: ขนาดเบา | L8: ตร.ม. | R8: 1.37 | S8: 0.22 | T8: 0.28 | U8: =R8+S8 -> 1.59 | V8: =R8+T8 -> 1.65 | W8: 1.38 | X8: 0.22 | Y8: 0.28 | Z8: 1.6 | AA8: 1.66 | AB8: 1.4 | AC8: 0.22 | AD8: 0.28 | AE8: 1.62 | AF8: 1.68 | AG8: 1.41 | AH8: 0.22 | AI8: 0.28 | AJ8: 1.63 | AK8: 1.69 | AL8: 1.42 | AM8: 0.22 | AN8: 0.28 | AO8: 1.64 | AP8: 1.7 | AQ8: 1.43 | AR8: 0.22 | AS8: 0.28 | AT8: 1.65 | AU8: 1.71 | AV8: 1.45 | AW8: 0.22 | AX8: 0.28 | AY8: 1.67 | AZ8: 1.73 | BA8: 1.46 | BB8: 0.22 | BC8: 0.28 | BD8: 1.68 | BE8: 1.74 | BF8: 1.47 | BG8: 0.22 | BH8: 0.28 | BI8: 1.69 | BJ8: 1.75 | BK8: 1.48 | BL8: 0.22 | BM8: 0.28 | BN8: 1.7 | BO8: 1.76 | BP8: 1.5 | BQ8: 0.22 | BR8: 0.28 | BS8: 1.72 | BT8: 1.78 | BU8: 1.51 | BV8: 0.22 | BW8: 0.28 | BX8: 1.73 | BY8: 1.79 | BZ8: 1.52 | CA8: 0.22 | CB8: 0.28 | CC8: 1.74 | CD8: 1.8 | CE8: 1.54 | CF8: 0.22 | CG8: 0.28 | CH8: 1.76 | CI8: 1.82 | CJ8: 1.55 | CK8: 0.22 | CL8: 0.28 | CM8: 1.77 | CN8: 1.83 | CO8: 1.56 | CP8: 0.22 | CQ8: 0.28 | CR8: 1.78 | CS8: 1.84 | CT8: 1.57 | CU8: 0.22 | CV8: 0.28 | CW8: 1.79 | CX8: 1.85 | CY8: 1.59 | CZ8: 0.22 | DA8: 0.28 | DB8: 1.81 | DC8: 1.87 | DD8: 1.6 | DE8: 0.22 | DF8: 0.28 | DG8: 1.82 | DH8: 1.88 | DI8: 1.61 | DJ8: 0.22 | DK8: 0.28 | DL8: 1.83 | DM8: 1.89 | DN8: 1.62 | DO8: 0.22 | DP8: 0.28 | DQ8: 1.84 | DR8: 1.9 | DS8: 1.64 | DT8: 0.22 | DU8: 0.28 | DV8: 1.86 | DW8: 1.92
B9: ขนาดกลาง | C9: ตร.ม. | D9: =IF($G$3=$Q$2,M9,IF($G$3=$V$2,R9,IF($G$3=$AA$2,W9,IF($G$3=$AF$2,AB9,IF($G$3=$AK$2,AG9,IF($G$3=$AP$2,AL9,IF($G$3=$AU$2,AQ9,IF($G$3=$AZ$2,AV9,IF($G$3=$BE$2,BA9,IF($G$3=$BJ$2,BF9,IF($G$3=$BO$2,BK9,IF($G$3=$BT$2,BP9,IF($G$3=$BY$2,BU9,IF($G$3=$CD$2,BZ9,IF($G$3=$CI$2,CE9,0))))))))))))))) -> 2.86 | E9: =IF($G$3=$Q$2,N9,IF($G$3=$V$2,S9,IF($G$3=$AA$2,X9,IF($G$3=$AF$2,AC9,IF($G$3=$AK$2,AH9,IF($G$3=$AP$2,AM9,IF($G$3=$AU$2,AR9,IF($G$3=$AZ$2,AW9,IF($G$3=$BE$2,BB9,IF($G$3=$BJ$2,BG9,IF($G$3=$BO$2,BL9,IF($G$3=$BT$2,BQ9,IF($G$3=$BY$2,BV9,IF($G$3=$CD$2,CA9,IF($G$3=$CI$2,CF9,0))))))))))))))) -> 0.55 | F9: =IF($G$3=$Q$2,O9,IF($G$3=$V$2,T9,IF($G$3=$AA$2,Y9,IF($G$3=$AF$2,AD9,IF($G$3=$AK$2,AI9,IF($G$3=$AP$2,AN9,IF($G$3=$AU$2,AS9,IF($G$3=$AZ$2,AX9,IF($G$3=$BE$2,BC9,IF($G$3=$BJ$2,BH9,IF($G$3=$BO$2,BM9,IF($G$3=$BT$2,BR9,IF($G$3=$BY$2,BW9,IF($G$3=$CD$2,CB9,IF($G$3=$CI$2,CG9,0))))))))))))))) -> 0.69 | G9: =IF($G$3=$Q$2,P9,IF($G$3=$V$2,U9,IF($G$3=$AA$2,Z9,IF($G$3=$AF$2,AE9,IF($G$3=$AK$2,AJ9,IF($G$3=$AP$2,AO9,IF($G$3=$AU$2,AT9,IF($G$3=$AZ$2,AY9,IF($G$3=$BE$2,BD9,IF($G$3=$BJ$2,BI9,IF($G$3=$BO$2,BN9,IF($G$3=$BT$2,BS9,IF($G$3=$BY$2,BX9,IF($G$3=$CD$2,CC9,IF($G$3=$CI$2,CH9,0))))))))))))))) -> 3.41 | H9: =IF($G$3=$Q$2,Q9,IF($G$3=$V$2,V9,IF($G$3=$AA$2,AA9,IF($G$3=$AF$2,AF9,IF($G$3=$AK$2,AK9,IF($G$3=$AP$2,AP9,IF($G$3=$AU$2,AU9,IF($G$3=$AZ$2,AZ9,IF($G$3=$BE$2,BE9,IF($G$3=$BJ$2,BJ9,IF($G$3=$BO$2,BO9,IF($G$3=$BT$2,BT9,IF($G$3=$BY$2,BY9,IF($G$3=$CD$2,CD9,IF($G$3=$CI$2,CI9,0))))))))))))))) -> 3.55 | K9: ขนาดกลาง | L9: ตร.ม. | R9: 2.76 | S9: 0.55 | T9: 0.69 | U9: =R9+S9 -> 3.31 | V9: =R9+T9 -> 3.45 | W9: 2.79 | X9: 0.55 | Y9: 0.69 | Z9: 3.34 | AA9: 3.48 | AB9: 2.83 | AC9: 0.55 | AD9: 0.69 | AE9: 3.38 | AF9: 3.52 | AG9: 2.86 | AH9: 0.55 | AI9: 0.69 | AJ9: 3.41 | AK9: 3.55 | AL9: 2.89 | AM9: 0.55 | AN9: 0.69 | AO9: 3.44 | AP9: 3.58 | AQ9: 2.92 | AR9: 0.55 | AS9: 0.69 | AT9: 3.47 | AU9: 3.61 | AV9: 2.95 | AW9: 0.55 | AX9: 0.69 | AY9: 3.5 | AZ9: 3.64 | BA9: 2.99 | BB9: 0.55 | BC9: 0.69 | BD9: 3.54 | BE9: 3.68 | BF9: 3.02 | BG9: 0.55 | BH9: 0.69 | BI9: 3.57 | BJ9: 3.71 | BK9: 3.05 | BL9: 0.55 | BM9: 0.69 | BN9: 3.6 | BO9: 3.74 | BP9: 3.08 | BQ9: 0.55 | BR9: 0.69 | BS9: 3.63 | BT9: 3.77 | BU9: 3.12 | BV9: 0.55 | BW9: 0.69 | BX9: 3.67 | BY9: 3.81 | BZ9: 3.15 | CA9: 0.55 | CB9: 0.69 | CC9: 3.7 | CD9: 3.84 | CE9: 3.18 | CF9: 0.55 | CG9: 0.69 | CH9: 3.73 | CI9: 3.87 | CJ9: 3.21 | CK9: 0.55 | CL9: 0.69 | CM9: 3.76 | CN9: 3.9 | CO9: 3.24 | CP9: 0.55 | CQ9: 0.69 | CR9: 3.79 | CS9: 3.93 | CT9: 3.28 | CU9: 0.55 | CV9: 0.69 | CW9: 3.83 | CX9: 3.97 | CY9: 3.31 | CZ9: 0.55 | DA9: 0.69 | DB9: 3.86 | DC9: 4 | DD9: 3.34 | DE9: 0.55 | DF9: 0.69 | DG9: 3.89 | DH9: 4.03 | DI9: 3.37 | DJ9: 0.55 | DK9: 0.69 | DL9: 3.92 | DM9: 4.06 | DN9: 3.41 | DO9: 0.55 | DP9: 0.69 | DQ9: 3.96 | DR9: 4.1 | DS9: 3.44 | DT9: 0.55 | DU9: 0.69 | DV9: 3.99 | DW9: 4.13
B10: ขนาดหนัก | C10: ตร.ม. | D10: =IF($G$3=$Q$2,M10,IF($G$3=$V$2,R10,IF($G$3=$AA$2,W10,IF($G$3=$AF$2,AB10,IF($G$3=$AK$2,AG10,IF($G$3=$AP$2,AL10,IF($G$3=$AU$2,AQ10,IF($G$3=$AZ$2,AV10,IF($G$3=$BE$2,BA10,IF($G$3=$BJ$2,BF10,IF($G$3=$BO$2,BK10,IF($G$3=$BT$2,BP10,IF($G$3=$BY$2,BU10,IF($G$3=$CD$2,BZ10,IF($G$3=$CI$2,CE10,0))))))))))))))) -> 4.31 | E10: =IF($G$3=$Q$2,N10,IF($G$3=$V$2,S10,IF($G$3=$AA$2,X10,IF($G$3=$AF$2,AC10,IF($G$3=$AK$2,AH10,IF($G$3=$AP$2,AM10,IF($G$3=$AU$2,AR10,IF($G$3=$AZ$2,AW10,IF($G$3=$BE$2,BB10,IF($G$3=$BJ$2,BG10,IF($G$3=$BO$2,BL10,IF($G$3=$BT$2,BQ10,IF($G$3=$BY$2,BV10,IF($G$3=$CD$2,CA10,IF($G$3=$CI$2,CF10,0))))))))))))))) -> 0.78 | F10: =IF($G$3=$Q$2,O10,IF($G$3=$V$2,T10,IF($G$3=$AA$2,Y10,IF($G$3=$AF$2,AD10,IF($G$3=$AK$2,AI10,IF($G$3=$AP$2,AN10,IF($G$3=$AU$2,AS10,IF($G$3=$AZ$2,AX10,IF($G$3=$BE$2,BC10,IF($G$3=$BJ$2,BH10,IF($G$3=$BO$2,BM10,IF($G$3=$BT$2,BR10,IF($G$3=$BY$2,BW10,IF($G$3=$CD$2,CB10,IF($G$3=$CI$2,CG10,0))))))))))))))) -> 0.98 | G10: =IF($G$3=$Q$2,P10,IF($G$3=$V$2,U10,IF($G$3=$AA$2,Z10,IF($G$3=$AF$2,AE10,IF($G$3=$AK$2,AJ10,IF($G$3=$AP$2,AO10,IF($G$3=$AU$2,AT10,IF($G$3=$AZ$2,AY10,IF($G$3=$BE$2,BD10,IF($G$3=$BJ$2,BI10,IF($G$3=$BO$2,BN10,IF($G$3=$BT$2,BS10,IF($G$3=$BY$2,BX10,IF($G$3=$CD$2,CC10,IF($G$3=$CI$2,CH10,0))))))))))))))) -> 5.09 | H10: =IF($G$3=$Q$2,Q10,IF($G$3=$V$2,V10,IF($G$3=$AA$2,AA10,IF($G$3=$AF$2,AF10,IF($G$3=$AK$2,AK10,IF($G$3=$AP$2,AP10,IF($G$3=$AU$2,AU10,IF($G$3=$AZ$2,AZ10,IF($G$3=$BE$2,BE10,IF($G$3=$BJ$2,BJ10,IF($G$3=$BO$2,BO10,IF($G$3=$BT$2,BT10,IF($G$3=$BY$2,BY10,IF($G$3=$CD$2,CD10,IF($G$3=$CI$2,CI10,0))))))))))))))) -> 5.29 | K10: ขนาดหนัก | L10: ตร.ม. | R10: 4.16 | S10: 0.78 | T10: 0.98 | U10: =R10+S10 -> 4.94 | V10: =R10+T10 -> 5.14 | W10: 4.21 | X10: 0.78 | Y10: 0.98 | Z10: 4.99 | AA10: 5.19 | AB10: 4.26 | AC10: 0.78 | AD10: 0.98 | AE10: 5.04 | AF10: 5.24 | AG10: 4.31 | AH10: 0.78 | AI10: 0.98 | AJ10: 5.09 | AK10: 5.29 | AL10: 4.37 | AM10: 0.78 | AN10: 0.98 | AO10: 5.15 | AP10: 5.35 | AQ10: 4.42 | AR10: 0.78 | AS10: 0.98 | AT10: 5.2 | AU10: 5.4 | AV10: 4.47 | AW10: 0.78 | AX10: 0.98 | AY10: 5.25 | AZ10: 5.45 | BA10: 4.52 | BB10: 0.78 | BC10: 0.98 | BD10: 5.3 | BE10: 5.5 | BF10: 4.58 | BG10: 0.78 | BH10: 0.98 | BI10: 5.36 | BJ10: 5.56 | BK10: 4.63 | BL10: 0.78 | BM10: 0.98 | BN10: 5.41 | BO10: 5.61 | BP10: 4.68 | BQ10: 0.78 | BR10: 0.98 | BS10: 5.46 | BT10: 5.66 | BU10: 4.73 | BV10: 0.78 | BW10: 0.98 | BX10: 5.51 | BY10: 5.71 | BZ10: 4.78 | CA10: 0.78 | CB10: 0.98 | CC10: 5.56 | CD10: 5.76 | CE10: 4.84 | CF10: 0.78 | CG10: 0.98 | CH10: 5.62 | CI10: 5.82 | CJ10: 4.89 | CK10: 0.78 | CL10: 0.98 | CM10: 5.67 | CN10: 5.87 | CO10: 4.94 | CP10: 0.78 | CQ10: 0.98 | CR10: 5.72 | CS10: 5.92 | CT10: 4.99 | CU10: 0.78 | CV10: 0.98 | CW10: 5.77 | CX10: 5.97 | CY10: 5.04 | CZ10: 0.78 | DA10: 0.98 | DB10: 5.82 | DC10: 6.02 | DD10: 5.1 | DE10: 0.78 | DF10: 0.98 | DG10: 5.88 | DH10: 6.08 | DI10: 5.15 | DJ10: 0.78 | DK10: 0.98 | DL10: 5.93 | DM10: 6.13 | DN10: 5.2 | DO10: 0.78 | DP10: 0.98 | DQ10: 5.98 | DR10: 6.18 | DS10: 5.25 | DT10: 0.78 | DU10: 0.98 | DV10: 6.03 | DW10: 6.23
A11: 2 | B11: งานดินคันทาง | J11: 2 | K11: งานดินคันทาง
B12: ขุด - ขน | C12: ลบ.ม. หลวม | D12: =IF($G$3=$Q$2,M12,IF($G$3=$V$2,R12,IF($G$3=$AA$2,W12,IF($G$3=$AF$2,AB12,IF($G$3=$AK$2,AG12,IF($G$3=$AP$2,AL12,IF($G$3=$AU$2,AQ12,IF($G$3=$AZ$2,AV12,IF($G$3=$BE$2,BA12,IF($G$3=$BJ$2,BF12,IF($G$3=$BO$2,BK12,IF($G$3=$BT$2,BP12,IF($G$3=$BY$2,BU12,IF($G$3=$CD$2,BZ12,IF($G$3=$CI$2,CE12,0))))))))))))))) -> 16.53 | E12: =IF($G$3=$Q$2,N12,IF($G$3=$V$2,S12,IF($G$3=$AA$2,X12,IF($G$3=$AF$2,AC12,IF($G$3=$AK$2,AH12,IF($G$3=$AP$2,AM12,IF($G$3=$AU$2,AR12,IF($G$3=$AZ$2,AW12,IF($G$3=$BE$2,BB12,IF($G$3=$BJ$2,BG12,IF($G$3=$BO$2,BL12,IF($G$3=$BT$2,BQ12,IF($G$3=$BY$2,BV12,IF($G$3=$CD$2,CA12,IF($G$3=$CI$2,CF12,0))))))))))))))) -> 3.51 | F12: =IF($G$3=$Q$2,O12,IF($G$3=$V$2,T12,IF($G$3=$AA$2,Y12,IF($G$3=$AF$2,AD12,IF($G$3=$AK$2,AI12,IF($G$3=$AP$2,AN12,IF($G$3=$AU$2,AS12,IF($G$3=$AZ$2,AX12,IF($G$3=$BE$2,BC12,IF($G$3=$BJ$2,BH12,IF($G$3=$BO$2,BM12,IF($G$3=$BT$2,BR12,IF($G$3=$BY$2,BW12,IF($G$3=$CD$2,CB12,IF($G$3=$CI$2,CG12,0))))))))))))))) -> 4.39 | G12: =IF($G$3=$Q$2,P12,IF($G$3=$V$2,U12,IF($G$3=$AA$2,Z12,IF($G$3=$AF$2,AE12,IF($G$3=$AK$2,AJ12,IF($G$3=$AP$2,AO12,IF($G$3=$AU$2,AT12,IF($G$3=$AZ$2,AY12,IF($G$3=$BE$2,BD12,IF($G$3=$BJ$2,BI12,IF($G$3=$BO$2,BN12,IF($G$3=$BT$2,BS12,IF($G$3=$BY$2,BX12,IF($G$3=$CD$2,CC12,IF($G$3=$CI$2,CH12,0))))))))))))))) -> 20.04 | H12: =IF($G$3=$Q$2,Q12,IF($G$3=$V$2,V12,IF($G$3=$AA$2,AA12,IF($G$3=$AF$2,AF12,IF($G$3=$AK$2,AK12,IF($G$3=$AP$2,AP12,IF($G$3=$AU$2,AU12,IF($G$3=$AZ$2,AZ12,IF($G$3=$BE$2,BE12,IF($G$3=$BJ$2,BJ12,IF($G$3=$BO$2,BO12,IF($G$3=$BT$2,BT12,IF($G$3=$BY$2,BY12,IF($G$3=$CD$2,CD12,IF($G$3=$CI$2,CI12,0))))))))))))))) -> 20.92 | K12: ขุด - ขน | L12: ลบ.ม. หลวม | R12: 15.89 | S12: 3.51 | T12: 4.39 | U12: =R12+S12 -> 19.4 | V12: =R12+T12 -> 20.28 | W12: 16.1 | X12: 3.51 | Y12: 4.39 | Z12: 19.61 | AA12: 20.49 | AB12: 16.32 | AC12: 3.51 | AD12: 4.39 | AE12: 19.83 | AF12: 20.71 | AG12: 16.53 | AH12: 3.51 | AI12: 4.39 | AJ12: 20.04 | AK12: 20.92 | AL12: 16.75 | AM12: 3.51 | AN12: 4.39 | AO12: 20.26 | AP12: 21.14 | AQ12: 16.96 | AR12: 3.51 | AS12: 4.39 | AT12: 20.47 | AU12: 21.35 | AV12: 17.18 | AW12: 3.51 | AX12: 4.39 | AY12: 20.69 | AZ12: 21.57 | BA12: 17.39 | BB12: 3.51 | BC12: 4.39 | BD12: 20.9 | BE12: 21.78 | BF12: 17.61 | BG12: 3.51 | BH12: 4.39 | BI12: 21.12 | BJ12: 22 | BK12: 17.83 | BL12: 3.51 | BM12: 4.39 | BN12: 21.34 | BO12: 22.22 | BP12: 18.04 | BQ12: 3.51 | BR12: 4.39 | BS12: 21.55 | BT12: 22.43 | BU12: 18.26 | BV12: 3.51 | BW12: 4.39 | BX12: 21.77 | BY12: 22.65 | BZ12: 18.47 | CA12: 3.51 | CB12: 4.39 | CC12: 21.98 | CD12: 22.86 | CE12: 18.69 | CF12: 3.51 | CG12: 4.39 | CH12: 22.2 | CI12: 23.08 | CJ12: 18.9 | CK12: 3.51 | CL12: 4.39 | CM12: 22.41 | CN12: 23.29 | CO12: 19.12 | CP12: 3.51 | CQ12: 4.39 | CR12: 22.63 | CS12: 23.51 | CT12: 19.33 | CU12: 3.51 | CV12: 4.39 | CW12: 22.84 | CX12: 23.72 | CY12: 19.55 | CZ12: 3.51 | DA12: 4.39 | DB12: 23.06 | DC12: 23.94 | DD12: 19.77 | DE12: 3.51 | DF12: 4.39 | DG12: 23.28 | DH12: 24.16 | DI12: 19.98 | DJ12: 3.51 | DK12: 4.39 | DL12: 23.49 | DM12: 24.37 | DN12: 20.2 | DO12: 3.51 | DP12: 4.39 | DQ12: 23.71 | DR12: 24.59 | DS12: 20.41 | DT12: 3.51 | DU12: 4.39 | DV12: 23.92 | DW12: 24.8
B13: บดทับ | C13: ลบ.ม. แน่น | D13: =IF($G$3=$Q$2,M13,IF($G$3=$V$2,R13,IF($G$3=$AA$2,W13,IF($G$3=$AF$2,AB13,IF($G$3=$AK$2,AG13,IF($G$3=$AP$2,AL13,IF($G$3=$AU$2,AQ13,IF($G$3=$AZ$2,AV13,IF($G$3=$BE$2,BA13,IF($G$3=$BJ$2,BF13,IF($G$3=$BO$2,BK13,IF($G$3=$BT$2,BP13,IF($G$3=$BY$2,BU13,IF($G$3=$CD$2,BZ13,IF($G$3=$CI$2,CE13,0))))))))))))))) -> 31.53 | E13: =IF($G$3=$Q$2,N13,IF($G$3=$V$2,S13,IF($G$3=$AA$2,X13,IF($G$3=$AF$2,AC13,IF($G$3=$AK$2,AH13,IF($G$3=$AP$2,AM13,IF($G$3=$AU$2,AR13,IF($G$3=$AZ$2,AW13,IF($G$3=$BE$2,BB13,IF($G$3=$BJ$2,BG13,IF($G$3=$BO$2,BL13,IF($G$3=$BT$2,BQ13,IF($G$3=$BY$2,BV13,IF($G$3=$CD$2,CA13,IF($G$3=$CI$2,CF13,0))))))))))))))) -> 10.8 | F13: =IF($G$3=$Q$2,O13,IF($G$3=$V$2,T13,IF($G$3=$AA$2,Y13,IF($G$3=$AF$2,AD13,IF($G$3=$AK$2,AI13,IF($G$3=$AP$2,AN13,IF($G$3=$AU$2,AS13,IF($G$3=$AZ$2,AX13,IF($G$3=$BE$2,BC13,IF($G$3=$BJ$2,BH13,IF($G$3=$BO$2,BM13,IF($G$3=$BT$2,BR13,IF($G$3=$BY$2,BW13,IF($G$3=$CD$2,CB13,IF($G$3=$CI$2,CG13,0))))))))))))))) -> 13.5 | G13: =IF($G$3=$Q$2,P13,IF($G$3=$V$2,U13,IF($G$3=$AA$2,Z13,IF($G$3=$AF$2,AE13,IF($G$3=$AK$2,AJ13,IF($G$3=$AP$2,AO13,IF($G$3=$AU$2,AT13,IF($G$3=$AZ$2,AY13,IF($G$3=$BE$2,BD13,IF($G$3=$BJ$2,BI13,IF($G$3=$BO$2,BN13,IF($G$3=$BT$2,BS13,IF($G$3=$BY$2,BX13,IF($G$3=$CD$2,CC13,IF($G$3=$CI$2,CH13,0))))))))))))))) -> 42.33 | H13: =IF($G$3=$Q$2,Q13,IF($G$3=$V$2,V13,IF($G$3=$AA$2,AA13,IF($G$3=$AF$2,AF13,IF($G$3=$AK$2,AK13,IF($G$3=$AP$2,AP13,IF($G$3=$AU$2,AU13,IF($G$3=$AZ$2,AZ13,IF($G$3=$BE$2,BE13,IF($G$3=$BJ$2,BJ13,IF($G$3=$BO$2,BO13,IF($G$3=$BT$2,BT13,IF($G$3=$BY$2,BY13,IF($G$3=$CD$2,CD13,IF($G$3=$CI$2,CI13,0))))))))))))))) -> 45.03 | K13: บดทับ | L13: ลบ.ม. แน่น | R13: 30.18 | S13: 10.8 | T13: 13.5 | U13: =R13+S13 -> 40.98 | V13: =R13+T13 -> 43.68 | W13: 30.63 | X13: 10.8 | Y13: 13.5 | Z13: 41.43 | AA13: 44.13 | AB13: 31.08 | AC13: 10.8 | AD13: 13.5 | AE13: 41.88 | AF13: 44.58 | AG13: 31.53 | AH13: 10.8 | AI13: 13.5 | AJ13: 42.33 | AK13: 45.03 | AL13: 31.98 | AM13: 10.8 | AN13: 13.5 | AO13: 42.78 | AP13: 45.48 | AQ13: 32.43 | AR13: 10.8 | AS13: 13.5 | AT13: 43.23 | AU13: 45.93 | AV13: 32.88 | AW13: 10.8 | AX13: 13.5 | AY13: 43.68 | AZ13: 46.38 | BA13: 33.33 | BB13: 10.8 | BC13: 13.5 | BD13: 44.13 | BE13: 46.83 | BF13: 33.78 | BG13: 10.8 | BH13: 13.5 | BI13: 44.58 | BJ13: 47.28 | BK13: 34.23 | BL13: 10.8 | BM13: 13.5 | BN13: 45.03 | BO13: 47.73 | BP13: 34.69 | BQ13: 10.8 | BR13: 13.5 | BS13: 45.49 | BT13: 48.19 | BU13: 35.14 | BV13: 10.8 | BW13: 13.5 | BX13: 45.94 | BY13: 48.64 | BZ13: 35.59 | CA13: 10.8 | CB13: 13.5 | CC13: 46.39 | CD13: 49.09 | CE13: 36.04 | CF13: 10.8 | CG13: 13.5 | CH13: 46.84 | CI13: 49.54 | CJ13: 36.49 | CK13: 10.8 | CL13: 13.5 | CM13: 47.29 | CN13: 49.99 | CO13: 36.94 | CP13: 10.8 | CQ13: 13.5 | CR13: 47.74 | CS13: 50.44 | CT13: 37.39 | CU13: 10.8 | CV13: 13.5 | CW13: 48.19 | CX13: 50.89 | CY13: 37.84 | CZ13: 10.8 | DA13: 13.5 | DB13: 48.64 | DC13: 51.34 | DD13: 38.29 | DE13: 10.8 | DF13: 13.5 | DG13: 49.09 | DH13: 51.79 | DI13: 38.74 | DJ13: 10.8 | DK13: 13.5 | DL13: 49.54 | DM13: 52.24 | DN13: 39.19 | DO13: 10.8 | DP13: 13.5 | DQ13: 49.99 | DR13: 52.69 | DS13: 39.64 | DT13: 10.8 | DU13: 13.5 | DV13: 50.44 | DW13: 53.14
A14: 3 | B14: งานตัด - ขึ้นรูปคันทาง | J14: 3 | K14: งานตัด - ขึ้นรูปคันทาง
B15: ดิน - ขุดตัด | C15: ลบ.ม. ปกติ | D15: =IF($G$3=$Q$2,M15,IF($G$3=$V$2,R15,IF($G$3=$AA$2,W15,IF($G$3=$AF$2,AB15,IF($G$3=$AK$2,AG15,IF($G$3=$AP$2,AL15,IF($G$3=$AU$2,AQ15,IF($G$3=$AZ$2,AV15,IF($G$3=$BE$2,BA15,IF($G$3=$BJ$2,BF15,IF($G$3=$BO$2,BK15,IF($G$3=$BT$2,BP15,IF($G$3=$BY$2,BU15,IF($G$3=$CD$2,BZ15,IF($G$3=$CI$2,CE15,0))))))))))))))) -> 16.9 | E15: =IF($G$3=$Q$2,N15,IF($G$3=$V$2,S15,IF($G$3=$AA$2,X15,IF($G$3=$AF$2,AC15,IF($G$3=$AK$2,AH15,IF($G$3=$AP$2,AM15,IF($G$3=$AU$2,AR15,IF($G$3=$AZ$2,AW15,IF($G$3=$BE$2,BB15,IF($G$3=$BJ$2,BG15,IF($G$3=$BO$2,BL15,IF($G$3=$BT$2,BQ15,IF($G$3=$BY$2,BV15,IF($G$3=$CD$2,CA15,IF($G$3=$CI$2,CF15,0))))))))))))))) -> 3.06 | F15: =IF($G$3=$Q$2,O15,IF($G$3=$V$2,T15,IF($G$3=$AA$2,Y15,IF($G$3=$AF$2,AD15,IF($G$3=$AK$2,AI15,IF($G$3=$AP$2,AN15,IF($G$3=$AU$2,AS15,IF($G$3=$AZ$2,AX15,IF($G$3=$BE$2,BC15,IF($G$3=$BJ$2,BH15,IF($G$3=$BO$2,BM15,IF($G$3=$BT$2,BR15,IF($G$3=$BY$2,BW15,IF($G$3=$CD$2,CB15,IF($G$3=$CI$2,CG15,0))))))))))))))) -> 3.83 | G15: =IF($G$3=$Q$2,P15,IF($G$3=$V$2,U15,IF($G$3=$AA$2,Z15,IF($G$3=$AF$2,AE15,IF($G$3=$AK$2,AJ15,IF($G$3=$AP$2,AO15,IF($G$3=$AU$2,AT15,IF($G$3=$AZ$2,AY15,IF($G$3=$BE$2,BD15,IF($G$3=$BJ$2,BI15,IF($G$3=$BO$2,BN15,IF($G$3=$BT$2,BS15,IF($G$3=$BY$2,BX15,IF($G$3=$CD$2,CC15,IF($G$3=$CI$2,CH15,0))))))))))))))) -> 19.96 | H15: =IF($G$3=$Q$2,Q15,IF($G$3=$V$2,V15,IF($G$3=$AA$2,AA15,IF($G$3=$AF$2,AF15,IF($G$3=$AK$2,AK15,IF($G$3=$AP$2,AP15,IF($G$3=$AU$2,AU15,IF($G$3=$AZ$2,AZ15,IF($G$3=$BE$2,BE15,IF($G$3=$BJ$2,BJ15,IF($G$3=$BO$2,BO15,IF($G$3=$BT$2,BT15,IF($G$3=$BY$2,BY15,IF($G$3=$CD$2,CD15,IF($G$3=$CI$2,CI15,0))))))))))))))) -> 20.73 | K15: ดิน - ขุดตัด | L15: ลบ.ม. ปกติ | R15: 16.34 | S15: 3.06 | T15: 3.83 | U15: =R15+S15 -> 19.4 | V15: =R15+T15 -> 20.17 | W15: 16.53 | X15: 3.06 | Y15: 3.83 | Z15: 19.59 | AA15: 20.36 | AB15: 16.72 | AC15: 3.06 | AD15: 3.83 | AE15: 19.78 | AF15: 20.55 | AG15: 16.9 | AH15: 3.06 | AI15: 3.83 | AJ15: 19.96 | AK15: 20.73 | AL15: 17.09 | AM15: 3.06 | AN15: 3.83 | AO15: 20.15 | AP15: 20.92 | AQ15: 17.28 | AR15: 3.06 | AS15: 3.83 | AT15: 20.34 | AU15: 21.11 | AV15: 17.47 | AW15: 3.06 | AX15: 3.83 | AY15: 20.53 | AZ15: 21.3 | BA15: 17.65 | BB15: 3.06 | BC15: 3.83 | BD15: 20.71 | BE15: 21.48 | BF15: 17.84 | BG15: 3.06 | BH15: 3.83 | BI15: 20.9 | BJ15: 21.67 | BK15: 18.03 | BL15: 3.06 | BM15: 3.83 | BN15: 21.09 | BO15: 21.86 | BP15: 18.22 | BQ15: 3.06 | BR15: 3.83 | BS15: 21.28 | BT15: 22.05 | BU15: 18.41 | BV15: 3.06 | BW15: 3.83 | BX15: 21.47 | BY15: 22.24 | BZ15: 18.59 | CA15: 3.06 | CB15: 3.83 | CC15: 21.65 | CD15: 22.42 | CE15: 18.78 | CF15: 3.06 | CG15: 3.83 | CH15: 21.84 | CI15: 22.61 | CJ15: 18.97 | CK15: 3.06 | CL15: 3.83 | CM15: 22.03 | CN15: 22.8 | CO15: 19.16 | CP15: 3.06 | CQ15: 3.83 | CR15: 22.22 | CS15: 22.99 | CT15: 19.35 | CU15: 3.06 | CV15: 3.83 | CW15: 22.41 | CX15: 23.18 | CY15: 19.53 | CZ15: 3.06 | DA15: 3.83 | DB15: 22.59 | DC15: 23.36 | DD15: 19.72 | DE15: 3.06 | DF15: 3.83 | DG15: 22.78 | DH15: 23.55 | DI15: 19.91 | DJ15: 3.06 | DK15: 3.83 | DL15: 22.97 | DM15: 23.74 | DN15: 20.1 | DO15: 3.06 | DP15: 3.83 | DQ15: 23.16 | DR15: 23.93 | DS15: 20.28 | DT15: 3.06 | DU15: 3.83 | DV15: 23.34 | DW15: 24.11
B16: - ตัก | C16: ลบ.ม. หลวม | D16: =IF($G$3=$Q$2,M16,IF($G$3=$V$2,R16,IF($G$3=$AA$2,W16,IF($G$3=$AF$2,AB16,IF($G$3=$AK$2,AG16,IF($G$3=$AP$2,AL16,IF($G$3=$AU$2,AQ16,IF($G$3=$AZ$2,AV16,IF($G$3=$BE$2,BA16,IF($G$3=$BJ$2,BF16,IF($G$3=$BO$2,BK16,IF($G$3=$BT$2,BP16,IF($G$3=$BY$2,BU16,IF($G$3=$CD$2,BZ16,IF($G$3=$CI$2,CE16,0))))))))))))))) -> 5.93 | E16: =IF($G$3=$Q$2,N16,IF($G$3=$V$2,S16,IF($G$3=$AA$2,X16,IF($G$3=$AF$2,AC16,IF($G$3=$AK$2,AH16,IF($G$3=$AP$2,AM16,IF($G$3=$AU$2,AR16,IF($G$3=$AZ$2,AW16,IF($G$3=$BE$2,BB16,IF($G$3=$BJ$2,BG16,IF($G$3=$BO$2,BL16,IF($G$3=$BT$2,BQ16,IF($G$3=$BY$2,BV16,IF($G$3=$CD$2,CA16,IF($G$3=$CI$2,CF16,0))))))))))))))) -> 1.7 | F16: =IF($G$3=$Q$2,O16,IF($G$3=$V$2,T16,IF($G$3=$AA$2,Y16,IF($G$3=$AF$2,AD16,IF($G$3=$AK$2,AI16,IF($G$3=$AP$2,AN16,IF($G$3=$AU$2,AS16,IF($G$3=$AZ$2,AX16,IF($G$3=$BE$2,BC16,IF($G$3=$BJ$2,BH16,IF($G$3=$BO$2,BM16,IF($G$3=$BT$2,BR16,IF($G$3=$BY$2,BW16,IF($G$3=$CD$2,CB16,IF($G$3=$CI$2,CG16,0))))))))))))))) -> 2.13 | G16: =IF($G$3=$Q$2,P16,IF($G$3=$V$2,U16,IF($G$3=$AA$2,Z16,IF($G$3=$AF$2,AE16,IF($G$3=$AK$2,AJ16,IF($G$3=$AP$2,AO16,IF($G$3=$AU$2,AT16,IF($G$3=$AZ$2,AY16,IF($G$3=$BE$2,BD16,IF($G$3=$BJ$2,BI16,IF($G$3=$BO$2,BN16,IF($G$3=$BT$2,BS16,IF($G$3=$BY$2,BX16,IF($G$3=$CD$2,CC16,IF($G$3=$CI$2,CH16,0))))))))))))))) -> 7.63 | H16: =IF($G$3=$Q$2,Q16,IF($G$3=$V$2,V16,IF($G$3=$AA$2,AA16,IF($G$3=$AF$2,AF16,IF($G$3=$AK$2,AK16,IF($G$3=$AP$2,AP16,IF($G$3=$AU$2,AU16,IF($G$3=$AZ$2,AZ16,IF($G$3=$BE$2,BE16,IF($G$3=$BJ$2,BJ16,IF($G$3=$BO$2,BO16,IF($G$3=$BT$2,BT16,IF($G$3=$BY$2,BY16,IF($G$3=$CD$2,CD16,IF($G$3=$CI$2,CI16,0))))))))))))))) -> 8.06 | K16: - ตัก | L16: ลบ.ม. หลวม | R16: 5.69 | S16: 1.7 | T16: 2.13 | U16: =R16+S16 -> 7.39 | V16: =R16+T16 -> 7.82 | W16: 5.77 | X16: 1.7 | Y16: 2.13 | Z16: 7.47 | AA16: 7.9 | AB16: 5.85 | AC16: 1.7 | AD16: 2.13 | AE16: 7.55 | AF16: 7.98 | AG16: 5.93 | AH16: 1.7 | AI16: 2.13 | AJ16: 7.63 | AK16: 8.06 | AL16: 6.01 | AM16: 1.7 | AN16: 2.13 | AO16: 7.71 | AP16: 8.14 | AQ16: 6.1 | AR16: 1.7 | AS16: 2.13 | AT16: 7.8 | AU16: 8.23 | AV16: 6.18 | AW16: 1.7 | AX16: 2.13 | AY16: 7.88 | AZ16: 8.31 | BA16: 6.26 | BB16: 1.7 | BC16: 2.13 | BD16: 7.96 | BE16: 8.39 | BF16: 6.34 | BG16: 1.7 | BH16: 2.13 | BI16: 8.04 | BJ16: 8.47 | BK16: 6.42 | BL16: 1.7 | BM16: 2.13 | BN16: 8.12 | BO16: 8.55 | BP16: 6.5 | BQ16: 1.7 | BR16: 2.13 | BS16: 8.2 | BT16: 8.63 | BU16: 6.58 | BV16: 1.7 | BW16: 2.13 | BX16: 8.28 | BY16: 8.71 | BZ16: 6.66 | CA16: 1.7 | CB16: 2.13 | CC16: 8.36 | CD16: 8.79 | CE16: 6.74 | CF16: 1.7 | CG16: 2.13 | CH16: 8.44 | CI16: 8.87 | CJ16: 6.83 | CK16: 1.7 | CL16: 2.13 | CM16: 8.53 | CN16: 8.96 | CO16: 6.91 | CP16: 1.7 | CQ16: 2.13 | CR16: 8.61 | CS16: 9.04 | CT16: 6.99 | CU16: 1.7 | CV16: 2.13 | CW16: 8.69 | CX16: 9.12 | CY16: 7.07 | CZ16: 1.7 | DA16: 2.13 | DB16: 8.77 | DC16: 9.2 | DD16: 7.15 | DE16: 1.7 | DF16: 2.13 | DG16: 8.85 | DH16: 9.28 | DI16: 7.23 | DJ16: 1.7 | DK16: 2.13 | DL16: 8.93 | DM16: 9.36 | DN16: 7.31 | DO16: 1.7 | DP16: 2.13 | DQ16: 9.01 | DR16: 9.44 | DS16: 7.39 | DT16: 1.7 | DU16: 2.13 | DV16: 9.09 | DW16: 9.52
B17: หินผุ - ขุดตัด | C17: ลบ.ม. ปกติ | D17: =IF($G$3=$Q$2,M17,IF($G$3=$V$2,R17,IF($G$3=$AA$2,W17,IF($G$3=$AF$2,AB17,IF($G$3=$AK$2,AG17,IF($G$3=$AP$2,AL17,IF($G$3=$AU$2,AQ17,IF($G$3=$AZ$2,AV17,IF($G$3=$BE$2,BA17,IF($G$3=$BJ$2,BF17,IF($G$3=$BO$2,BK17,IF($G$3=$BT$2,BP17,IF($G$3=$BY$2,BU17,IF($G$3=$CD$2,BZ17,IF($G$3=$CI$2,CE17,0))))))))))))))) -> 26.24 | E17: =IF($G$3=$Q$2,N17,IF($G$3=$V$2,S17,IF($G$3=$AA$2,X17,IF($G$3=$AF$2,AC17,IF($G$3=$AK$2,AH17,IF($G$3=$AP$2,AM17,IF($G$3=$AU$2,AR17,IF($G$3=$AZ$2,AW17,IF($G$3=$BE$2,BB17,IF($G$3=$BJ$2,BG17,IF($G$3=$BO$2,BL17,IF($G$3=$BT$2,BQ17,IF($G$3=$BY$2,BV17,IF($G$3=$CD$2,CA17,IF($G$3=$CI$2,CF17,0))))))))))))))) -> 3.34 | F17: =IF($G$3=$Q$2,O17,IF($G$3=$V$2,T17,IF($G$3=$AA$2,Y17,IF($G$3=$AF$2,AD17,IF($G$3=$AK$2,AI17,IF($G$3=$AP$2,AN17,IF($G$3=$AU$2,AS17,IF($G$3=$AZ$2,AX17,IF($G$3=$BE$2,BC17,IF($G$3=$BJ$2,BH17,IF($G$3=$BO$2,BM17,IF($G$3=$BT$2,BR17,IF($G$3=$BY$2,BW17,IF($G$3=$CD$2,CB17,IF($G$3=$CI$2,CG17,0))))))))))))))) -> 4.18 | G17: =IF($G$3=$Q$2,P17,IF($G$3=$V$2,U17,IF($G$3=$AA$2,Z17,IF($G$3=$AF$2,AE17,IF($G$3=$AK$2,AJ17,IF($G$3=$AP$2,AO17,IF($G$3=$AU$2,AT17,IF($G$3=$AZ$2,AY17,IF($G$3=$BE$2,BD17,IF($G$3=$BJ$2,BI17,IF($G$3=$BO$2,BN17,IF($G$3=$BT$2,BS17,IF($G$3=$BY$2,BX17,IF($G$3=$CD$2,CC17,IF($G$3=$CI$2,CH17,0))))))))))))))) -> 29.58 | H17: =IF($G$3=$Q$2,Q17,IF($G$3=$V$2,V17,IF($G$3=$AA$2,AA17,IF($G$3=$AF$2,AF17,IF($G$3=$AK$2,AK17,IF($G$3=$AP$2,AP17,IF($G$3=$AU$2,AU17,IF($G$3=$AZ$2,AZ17,IF($G$3=$BE$2,BE17,IF($G$3=$BJ$2,BJ17,IF($G$3=$BO$2,BO17,IF($G$3=$BT$2,BT17,IF($G$3=$BY$2,BY17,IF($G$3=$CD$2,CD17,IF($G$3=$CI$2,CI17,0))))))))))))))) -> 30.42 | K17: หินผุ - ขุดตัด | L17: ลบ.ม. ปกติ | R17: 25.09 | S17: 3.34 | T17: 4.18 | U17: =R17+S17 -> 28.43 | V17: =R17+T17 -> 29.27 | W17: 25.47 | X17: 3.34 | Y17: 4.18 | Z17: 28.81 | AA17: 29.65 | AB17: 25.86 | AC17: 3.34 | AD17: 4.18 | AE17: 29.2 | AF17: 30.04 | AG17: 26.24 | AH17: 3.34 | AI17: 4.18 | AJ17: 29.58 | AK17: 30.42 | AL17: 26.63 | AM17: 3.34 | AN17: 4.18 | AO17: 29.97 | AP17: 30.81 | AQ17: 27.02 | AR17: 3.34 | AS17: 4.18 | AT17: 30.36 | AU17: 31.2 | AV17: 27.4 | AW17: 3.34 | AX17: 4.18 | AY17: 30.74 | AZ17: 31.58 | BA17: 27.79 | BB17: 3.34 | BC17: 4.18 | BD17: 31.13 | BE17: 31.97 | BF17: 28.18 | BG17: 3.34 | BH17: 4.18 | BI17: 31.52 | BJ17: 32.36 | BK17: 28.56 | BL17: 3.34 | BM17: 4.18 | BN17: 31.9 | BO17: 32.74 | BP17: 28.95 | BQ17: 3.34 | BR17: 4.18 | BS17: 32.29 | BT17: 33.13 | BU17: 29.34 | BV17: 3.34 | BW17: 4.18 | BX17: 32.68 | BY17: 33.52 | BZ17: 29.72 | CA17: 3.34 | CB17: 4.18 | CC17: 33.06 | CD17: 33.9 | CE17: 30.11 | CF17: 3.34 | CG17: 4.18 | CH17: 34.29 | CI17: 33.89 | CJ17: 30.49 | CK17: 3.34 | CL17: 4.18 | CM17: 33.83 | CN17: 34.67 | CO17: 30.88 | CP17: 3.34 | CQ17: 4.18 | CR17: 34.22 | CS17: 35.06 | CT17: 31.27 | CU17: 3.34 | CV17: 4.18 | CW17: 34.61 | CX17: 35.45 | CY17: 31.65 | CZ17: 3.34 | DA17: 4.18 | DB17: 34.99 | DC17: 35.83 | DD17: 32.04 | DE17: 3.34 | DF17: 4.18 | DG17: 35.38 | DH17: 63.22 | DI17: 32.43 | DJ17: 3.34 | DK17: 4.18 | DL17: 35.77 | DM17: 36.61 | DN17: 32.81 | DO17: 3.34 | DP17: 4.18 | DQ17: 36.15 | DR17: 36.99 | DS17: 33.2 | DT17: 3.34 | DU17: 4.18 | DV17: 36.54 | DW17: 37.38
B18: - ดันและตัก | C18: ลบ.ม. หลวม | D18: =IF($G$3=$Q$2,M18,IF($G$3=$V$2,R18,IF($G$3=$AA$2,W18,IF($G$3=$AF$2,AB18,IF($G$3=$AK$2,AG18,IF($G$3=$AP$2,AL18,IF($G$3=$AU$2,AQ18,IF($G$3=$AZ$2,AV18,IF($G$3=$BE$2,BA18,IF($G$3=$BJ$2,BF18,IF($G$3=$BO$2,BK18,IF($G$3=$BT$2,BP18,IF($G$3=$BY$2,BU18,IF($G$3=$CD$2,BZ18,IF($G$3=$CI$2,CE18,0))))))))))))))) -> 31.59 | E18: =IF($G$3=$Q$2,N18,IF($G$3=$V$2,S18,IF($G$3=$AA$2,X18,IF($G$3=$AF$2,AC18,IF($G$3=$AK$2,AH18,IF($G$3=$AP$2,AM18,IF($G$3=$AU$2,AR18,IF($G$3=$AZ$2,AW18,IF($G$3=$BE$2,BB18,IF($G$3=$BJ$2,BG18,IF($G$3=$BO$2,BL18,IF($G$3=$BT$2,BQ18,IF($G$3=$BY$2,BV18,IF($G$3=$CD$2,CA18,IF($G$3=$CI$2,CF18,0))))))))))))))) -> 5.18 | F18: =IF($G$3=$Q$2,O18,IF($G$3=$V$2,T18,IF($G$3=$AA$2,Y18,IF($G$3=$AF$2,AD18,IF($G$3=$AK$2,AI18,IF($G$3=$AP$2,AN18,IF($G$3=$AU$2,AS18,IF($G$3=$AZ$2,AX18,IF($G$3=$BE$2,BC18,IF($G$3=$BJ$2,BH18,IF($G$3=$BO$2,BM18,IF($G$3=$BT$2,BR18,IF($G$3=$BY$2,BW18,IF($G$3=$CD$2,CB18,IF($G$3=$CI$2,CG18,0))))))))))))))) -> 6.48 | G18: =IF($G$3=$Q$2,P18,IF($G$3=$V$2,U18,IF($G$3=$AA$2,Z18,IF($G$3=$AF$2,AE18,IF($G$3=$AK$2,AJ18,IF($G$3=$AP$2,AO18,IF($G$3=$AU$2,AT18,IF($G$3=$AZ$2,AY18,IF($G$3=$BE$2,BD18,IF($G$3=$BJ$2,BI18,IF($G$3=$BO$2,BN18,IF($G$3=$BT$2,BS18,IF($G$3=$BY$2,BX18,IF($G$3=$CD$2,CC18,IF($G$3=$CI$2,CH18,0))))))))))))))) -> 36.77 | H18: =IF($G$3=$Q$2,Q18,IF($G$3=$V$2,V18,IF($G$3=$AA$2,AA18,IF($G$3=$AF$2,AF18,IF($G$3=$AK$2,AK18,IF($G$3=$AP$2,AP18,IF($G$3=$AU$2,AU18,IF($G$3=$AZ$2,AZ18,IF($G$3=$BE$2,BE18,IF($G$3=$BJ$2,BJ18,IF($G$3=$BO$2,BO18,IF($G$3=$BT$2,BT18,IF($G$3=$BY$2,BY18,IF($G$3=$CD$2,CD18,IF($G$3=$CI$2,CI18,0))))))))))))))) -> 38.07 | K18: - ดันและตัก | L18: ลบ.ม. หลวม | R18: 30.25 | S18: 5.18 | T18: 6.48 | U18: =R18+S18 -> 35.43 | V18: =R18+T18 -> 36.73 | W18: 30.7 | X18: 5.18 | Y18: 6.48 | Z18: 35.88 | AA18: 37.18 | AB18: 31.15 | AC18: 5.18 | AD18: 6.48 | AE18: 36.33 | AF18: 37.63 | AG18: 31.59 | AH18: 5.18 | AI18: 6.48 | AJ18: 36.77 | AK18: 38.07 | AL18: 32.04 | AM18: 5.18 | AN18: 6.48 | AO18: 37.22 | AP18: 38.52 | AQ18: 32.49 | AR18: 5.18 | AS18: 6.48 | AT18: 37.67 | AU18: 38.97 | AV18: 32.94 | AW18: 5.18 | AX18: 6.48 | AY18: 38.12 | AZ18: 39.42 | BA18: 33.39 | BB18: 5.18 | BC18: 6.48 | BD18: 38.57 | BE18: 39.87 | BF18: 33.84 | BG18: 5.18 | BH18: 6.48 | BI18: 39.02 | BJ18: 40.32 | BK18: 34.28 | BL18: 5.18 | BM18: 6.48 | BN18: 39.46 | BO18: 40.76 | BP18: 34.73 | BQ18: 5.18 | BR18: 6.48 | BS18: 39.91 | BT18: 41.21 | BU18: 35.18 | BV18: 5.18 | BW18: 6.48 | BX18: 40.36 | BY18: 41.66 | BZ18: 36.63 | CA18: 5.18 | CB18: 6.48 | CC18: 40.81 | CD18: 42.11 | CE18: 36.08 | CF18: 5.18 | CG18: 6.48 | CH18: 41.26 | CI18: 42.56 | CJ18: 36.53 | CK18: 5.18 | CL18: 6.48 | CM18: 41.71 | CN18: 43.01 | CO18: 36.98 | CP18: 5.18 | CQ18: 6.48 | CR18: 42.16 | CS18: 43.46 | CT18: 37.42 | CU18: 5.18 | CV18: 6.48 | CW18: 42.6 | CX18: 43.9 | CY18: 37.87 | CZ18: 5.18 | DA18: 6.48 | DB18: 43.05 | DC18: 44.35 | DD18: 38.32 | DE18: 5.18 | DF18: 6.48 | DG18: 43.5 | DH18: 44.8 | DI18: 38.77 | DJ18: 5.18 | DK18: 6.48 | DL18: 43.95 | DM18: 45.25 | DN18: 39.22 | DO18: 5.18 | DP18: 6.48 | DQ18: 44.4 | DR18: 45.7 | DS18: 39.67 | DT18: 5.18 | DU18: 6.48 | DV18: 44.85 | DW18: 46.15
