Workbook
Name \a: #REF!
Name \a: #REF!
Name \a: #REF!
Name \z: #REF!
Name \z: #REF!
Name _: '[1]ราคาต่อหน่วย2-9'!#REF!
Name _: '[2]ราคาต่อหน่วย2-9'!#REF!
Name _: '[2]ราคาต่อหน่วย2-9'!#REF!
Name _: '[2]ราคาต่อหน่วย2-9'!#REF!
Name _con2: [3]แหล่งวัสดุ!$E$51
Name _con4: [3]แหล่งวัสดุ!$E$53
Name _cut1: [4]ค่างานต้นทุน!$H$18
Name _cut1: [4]ค่างานต้นทุน!$H$18
Name _cut1: [5]ค่างานต้นทุน!$H$18
Name _ftf2: '[6]หา FACTOR F'!$K$34
Name _ftf2: '[6]หา FACTOR F'!$K$34
Name _ftf3: '[6]หา FACTOR F'!$K$51
Name _ftf3: '[6]หา FACTOR F'!$K$51
Name _ml1: #REF!
Name _ml1: #REF!
Name _ml1: #REF!
Name _RB9: '[7]ต้นทุนcon,steel&แบบ'!$J$184
Name _sp1: #REF!
Name _sp1: #REF!
Name _sp1: #REF!
Name _tc1: #REF!
Name _tc1: #REF!
Name AT: #REF!
Name AT: #REF!
Name AV.SP: #REF!
Name av1.sp: #REF!
Name b1a: [8]unitcost!#REF!
Name b1a: [8]unitcost!#REF!
Name b1a: [8]unitcost!#REF!
Name b1d: [8]unitcost!#REF!
Name b1d: [8]unitcost!#REF!
Name b1l: [8]unitcost!#REF!
Name b1l: [8]unitcost!#REF!
Name b2a: [8]unitcost!#REF!
Name b2a: [8]unitcost!#REF!
Name b2d: [8]unitcost!#REF!
Name b2d: [8]unitcost!#REF!
Name b2l: [8]unitcost!#REF!
Name b2l: [8]unitcost!#REF!
Name b3a: [8]unitcost!#REF!
Name b3a: [8]unitcost!#REF!
Name b3d: [8]unitcost!#REF!
Name b3d: [8]unitcost!#REF!
Name b3l: [8]unitcost!#REF!
Name b3l: [8]unitcost!#REF!
Name b4a: [8]unitcost!#REF!
Name b4a: [8]unitcost!#REF!
Name b4d: [8]unitcost!#REF!
Name b4d: [8]unitcost!#REF!
Name b4l: [8]unitcost!#REF!
Name b4l: [8]unitcost!#REF!
Name b5a: [8]unitcost!#REF!
Name b5a: [8]unitcost!#REF!
Name b5d: [8]unitcost!#REF!
Name b5d: [8]unitcost!#REF!

Sheet สรุป ปปช.
A1: ตารางแสดงวงเงินงบประมาณที่ได้รับจัดสรรและราคากลางในงานจ้างก่อสร้าง
A2: 1. | B2: ="ชื่อโครงการ "&'ปร.5 ท'!C4 -> ชื่อโครงการ บำรุงรักษาระบบโครงข่ายทาง
B3: ="สาย "&'ปร.5 ท'!C5&" "&'ปร.5 ท'!D5 -> สาย
B4: ='ปร.5 ท'!C6&" จำนวน 1.000 แห่ง" -> ตำบลควนขนุน อำเภอควนขนุน จังหวัดพัทลุง จำนวน 1.000 แห่ง
B5: หน่วยงานเจ้าของโครงการ แขวงทางหลวงชนบทพัทลุง กรมทางหลวงชนบท
A6: 2. | B6: วงเงินงบประมาณที่ได้รับจัดสรร | E6: =FIXED('ปร.5 ท'!I25,2)&" บาท" -> 718,000.00 บาท
A7: 3. | B7: ลักษณะงานโดยสังเขป | D7: ประเภทงาน | E7: =ปก!A15 -> ซ่อมสร้างผิวทางพาราแอสฟัลท์ติกคอนกรีต
B8: =E7 -> ซ่อมสร้างผิวทางพาราแอสฟัลท์ติกคอนกรีต
B9: - | C9: วัสดุเคลือบผิวจราจร
B10: - | C10: ตีเส้นจราจรเทอร์โมพลาสติก
B11: - | C11: ป้ายจำกัดความเร็ว
B12: - | C12: ป้ายเตือนเขตโรงเรียน
B13: - | C13: ป้ายโครงการพร้อมชื่อโรงเรียน
B14: - | C14: MAST ARM พร้อมป้ายเตือนและไฟกระพริบ
B15: - | C15: งานหินคลุกบดอัดแน่น
B16: - | C16: งาน Prime coat
B17: - | C17: งานผิวทางแอสฟัลท์ติกคอนกรีต
B18: - | C18: ตีเส้นลานจอดรถ สีขาว
B19: - | C19: งานอำนวยการ
B20: - | C20: งานอื่นๆ
A21: 4. | B21: ราคากลางคำนวณ ณ วันที่ | D21: ='ปร.5 ท'!C17&" "&'ปร.5 ท'!E17&" "&'ปร.5 ท'!G17&" (วันที่อธิบดีเห็นชอบ)" -> 30 มิถุนายน 2563 (วันที่อธิบดีเห็นชอบ)
B22: ="เป็นเงิน "&FIXED('ปร.5 ท'!I25,2)&" บาท" -> เป็นเงิน 718,000.00 บาท
A23: 5. | B23: บัญชีประมาณการราคากลาง รายละเอียดตามไฟล์ที่แนบ
B24: ปร.๔/๑บร, ปร.๔/๑ท, ปร.๕
A25: 6. | B25: รายชื่อคณะกรรมการกำหนดราคากลาง
B26: 6.1 | C26: ='ปร.5 ท'!M35 -> นางรุจิรา | D26: ='ปร.5 ท'!N35 -> กลับแป้น | E26: ='ปร.5 ท'!O35 -> รองปลัดเทศบาล | F26: ='ปร.5 ท'!Q29 -> ประธานกรรมการฯ
B27: 6.2 | C27: ='ปร.5 ท'!M34 -> นายบุญภาศ | D27: ='ปร.5 ท'!N34 -> ทองฤทธิ์นุ่น | E27: ='ปร.5 ท'!O34 -> ผู้อำนวยการกองช่าง | F27: ='ปร.5 ท'!Q30 -> กรรมการ
B28: 6.3 | C28: ='ปร.5 ท'!M33 -> นางสาวพันธุ์ทิพย์ | D28: ='ปร.5 ท'!N33 -> ทองเดช | E28: ='ปร.5 ท'!O33 -> นายช่างเขียนแบบ อาวุโส | F28: ='ปร.5 ท'!Q31 -> กรรมการ

Sheet ปก
A9: ปีงบประมาณ 2560
A11: ประมาณราคางานก่อสร้าง
A13: ="โครงการ"&'ปร.5 ท'!C4 -> โครงการบำรุงรักษาระบบโครงข่ายทาง
A15: ซ่อมสร้างผิวทางพาราแอสฟัลท์ติกคอนกรีต
A17: ="รหัสสายทาง "&'ปร.5 ท'!C5 -> รหัสสายทาง
A19: ='ปร.5 ท'!D5 -> 0
A21: ='ปร.5 ท'!C6 -> ตำบลควนขนุน อำเภอควนขนุน จังหวัดพัทลุง
A23: จำนวน 1.000 แห่ง
A25: ="งบประมาณ "&FIXED('ปร.5 ท'!I25,0)&" บาท" -> งบประมาณ 718,000 บาท
A28: แขวงทางหลวงชนบทพัทลุง | I28: สำนักงานทางหลวงชนบทที่ 14 (กระบี่)
A29: กรมทางหลวงชนบท | I29: กระทรวงคมนาคม

Sheet Soil
A1: ระยะทางรวม | B1: =AC210/1000 -> 0.84 | C1: กม. | D1: SIDE SLOPE | G1: 1 | H1: : | I1: 2
D2: 1.) ชั้นวัสดุคัดเลือก หนา | H2: = | I2: 0
D3: 2.) ชั้นรองพื้นทาง หนา | H3: = | I3: 0.2
D4: 3.) ชั้นพื้นทาง หนา | H4: = | I4: 0.15
A5: ='ปร.5 ท'!C6 -> ตำบลควนขนุน อำเภอควนขนุน จังหวัดพัทลุง
A6: ปริมาณงาน ดินตัด, ดินถม, งานกรุงทางถางป่าขุดตอ, งานปรับเกลี่ยแต่งและบดอัดคันทางเดิม,งานรองพื้นทาง, งานพื้นทาง, งานPrime Coat, งานผิวทาง, งานไหล่ทาง | AC6: CHECK
A7: STA. | B7: ระยะ | C7: Cut | D7: Fill | E7: Cut | F7: Fill | G7: ผิวทางกว้าง | H7: ไหล่ทางกว้าง | I7: รวมผิว+ไหล่ทาง | J7: งานชั้นวัสดุคัดเลือก | N7: งานรองพื้นทาง | R7: งานถางป่ากรุยทาง | S7: งานปรับเกลียแต่งและบดอัดคันทางเดิม | T7: งานวัสดุคัดเลือก | U7: งานรองพื้นทางลูกรัง | V7: งานชั้นพื้นทาง | Z7: งานชั้นพื้นทาง | AA7: งานผิวทาง | AB7: งานไหล่ทาง
B8: ม. | C8: ตร.ม. | D8: ตร.ม. | E8: ลบ.ม. | F8: ลบ.ม. | G8: ม. | H8: ข้างละ ม. | I8: ม. | J8: ผิวบน | K8: ผิวล่าง | L8: เฉลี่ย | M8: พท. | N8: ผิวบน | O8: ผิวล่าง | P8: เฉลี่ย | Q8: พท. | R8: ตร.ม. | S8: ตร.ม. | T8: ลบ.ม. | U8: ลบ.ม. | V8: ผิวบน | W8: ผิวล่าง | X8: เฉลี่ย | Y8: พท. | Z8: ลบ.ม. | AA8: ตร.ม. | AB8: ตร.ม.
A9: 0 | B9: 25 | E9: 0 | F9: 0 | G9: =ปร.4_1!I5 -> 5 | H9: =ปร.4_1!I6 -> 0 | I9: =+G9+2*H9 -> 5 | J9: =IF(I9=0,0,I9+2*($I$3+I$4)/(1/$I$1)) -> 6.4 | K9: =IF(I9=0,0,I9+2*($I$2+$I$3+$I$4)/(1/$I$1)) -> 6.4 | L9: =(J9+K9)/2 -> 6.4 | M9: =L9*$I$2 -> 0 | N9: =IF(I9=0,0,I9+2*$I$4/(1/$I$1)) -> 5.6 | O9: =IF(I9=0,0,I9+2*($I$3+$I$4)/(1/$I$1)) -> 6.4 | P9: =+(N9+O9)/2 -> 6 | Q9: =+P9*$I$3 -> 1.2 | U9: 0 | V9: =+I9 -> 5 | W9: =N9 -> 5.6 | X9: =+(V9+W9)/2 -> 5.3 | Y9: =+X9*$I$4 -> 0.795 | Z9: 0 | AA9: 0 | AB9: 0
A10: =A9+B10 -> 25 | B10: =B9 -> 25 | E10: =(C9+C10)/2*B10 -> 0 | F10: =+(D9+D10)/2*B10 -> 0 | G10: =G9 -> 5 | H10: =H9 -> 0 | I10: =+G10+2*H10 -> 5 | J10: =IF(I10=0,0,I10+2*($I$3+I$4)/(1/$I$1)) -> 6.4 | K10: =IF(I10=0,0,I10+2*($I$2+$I$3+$I$4)/(1/$I$1)) -> 6.4 | L10: =(J10+K10)/2 -> 6.4 | M10: =L10*$I$2 -> 0 | N10: =IF(I10=0,0,I10+2*$I$4/(1/$I$1)) -> 5.6 | O10: =IF(I10=0,0,I10+2*($I$3+$I$4)/(1/$I$1)) -> 6.4 | P10: =+(N10+O10)/2 -> 6 | Q10: =+P10*$I$3 -> 1.2 | R10: =(2*ปร.4_1!$W$12)*B10 -> 100 | S10: =ปร.4_1!$Z$13*Soil!B10 -> 125 | T10: =IF(G10=0,0,(M10+M9)/2*B10) -> 0 | U10: =IF(G10=0,0,(Q10+Q9)/2*B10) -> 30 | V10: =+I10 -> 5 | W10: =N10 -> 5.6 | X10: =+(V10+W10)/2 -> 5.3 | Y10: =+X10*$I$4 -> 0.795 | Z10: =IF(G10=0,0,(Y10+Y9)/2*B10) -> 19.875 | AA10: =IF(G10=0,0,(G9+G10)/2*B10) -> 125 | AB10: =IF(G10=0,0,(2*H9+2*H10)/2*B10) -> 0 | AC10: =IF(G10>0,B10,0) -> 25
A11: =A10+B11 -> 50 | B11: =B10 -> 25 | E11: =(C10+C11)/2*B11 -> 0 | F11: =+(D10+D11)/2*B11 -> 0 | G11: =G10 -> 5 | H11: =H10 -> 0 | I11: =+G11+2*H11 -> 5 | J11: =IF(I11=0,0,I11+2*($I$3+I$4)/(1/$I$1)) -> 6.4 | K11: =IF(I11=0,0,I11+2*($I$2+$I$3+$I$4)/(1/$I$1)) -> 6.4 | L11: =(J11+K11)/2 -> 6.4 | M11: =L11*$I$2 -> 0 | N11: =IF(I11=0,0,I11+2*$I$4/(1/$I$1)) -> 5.6 | O11: =IF(I11=0,0,I11+2*($I$3+$I$4)/(1/$I$1)) -> 6.4 | P11: =+(N11+O11)/2 -> 6 | Q11: =+P11*$I$3 -> 1.2 | R11: =(2*ปร.4_1!$W$12)*B11 -> 100 | S11: =ปร.4_1!$Z$13*Soil!B11 -> 125 | T11: =IF(G11=0,0,(M11+M10)/2*B11) -> 0 | U11: =IF(G11=0,0,(Q11+Q10)/2*B11) -> 30 | V11: =+I11 -> 5 | W11: =N11 -> 5.6 | X11: =+(V11+W11)/2 -> 5.3 | Y11: =+X11*$I$4 -> 0.795 | Z11: =IF(G11=0,0,(Y11+Y10)/2*B11) -> 19.875 | AA11: =IF(G11=0,0,(G10+G11)/2*B11) -> 125 | AB11: =IF(G11=0,0,(2*H10+2*H11)/2*B11) -> 0 | AC11: =IF(G11>0,B11,0) -> 25
A12: =A11+B12 -> 75 | B12: =B11 -> 25 | E12: =(C11+C12)/2*B12 -> 0 | F12: =+(D11+D12)/2*B12 -> 0 | G12: =G11 -> 5 | H12: =H11 -> 0 | I12: =+G12+2*H12 -> 5 | J12: =IF(I12=0,0,I12+2*($I$3+I$4)/(1/$I$1)) -> 6.4 | K12: =IF(I12=0,0,I12+2*($I$2+$I$3+$I$4)/(1/$I$1)) -> 6.4 | L12: =(J12+K12)/2 -> 6.4 | M12: =L12*$I$2 -> 0 | N12: =IF(I12=0,0,I12+2*$I$4/(1/$I$1)) -> 5.6 | O12: =IF(I12=0,0,I12+2*($I$3+$I$4)/(1/$I$1)) -> 6.4 | P12: =+(N12+O12)/2 -> 6 | Q12: =+P12*$I$3 -> 1.2 | R12: =(2*ปร.4_1!$W$12)*B12 -> 100 | S12: =ปร.4_1!$Z$13*Soil!B12 -> 125 | T12: =IF(G12=0,0,(M12+M11)/2*B12) -> 0 | U12: =IF(G12=0,0,(Q12+Q11)/2*B12) -> 30 | V12: =+I12 -> 5 | W12: =N12 -> 5.6 | X12: =+(V12+W12)/2 -> 5.3 | Y12: =+X12*$I$4 -> 0.795 | Z12: =IF(G12=0,0,(Y12+Y11)/2*B12) -> 19.875 | AA12: =IF(G12=0,0,(G11+G12)/2*B12) -> 125 | AB12: =IF(G12=0,0,(2*H11+2*H12)/2*B12) -> 0 | AC12: =IF(G12>0,B12,0) -> 25
A13: =A12+B13 -> 100 | B13: =B12 -> 25 | E13: =(C12+C13)/2*B13 -> 0 | F13: =+(D12+D13)/2*B13 -> 0 | G13: =G12 -> 5 | H13: =H12 -> 0 | I13: =+G13+2*H13 -> 5 | J13: =IF(I13=0,0,I13+2*($I$3+I$4)/(1/$I$1)) -> 6.4 | K13: =IF(I13=0,0,I13+2*($I$2+$I$3+$I$4)/(1/$I$1)) -> 6.4 | L13: =(J13+K13)/2 -> 6.4 | M13: =L13*$I$2 -> 0 | N13: =IF(I13=0,0,I13+2*$I$4/(1/$I$1)) -> 5.6 | O13: =IF(I13=0,0,I13+2*($I$3+$I$4)/(1/$I$1)) -> 6.4 | P13: =+(N13+O13)/2 -> 6 | Q13: =+P13*$I$3 -> 1.2 | R13: =(2*ปร.4_1!$W$12)*B13 -> 100 | S13: =ปร.4_1!$Z$13*Soil!B13 -> 125 | T13: =IF(G13=0,0,(M13+M12)/2*B13) -> 0 | U13: =IF(G13=0,0,(Q13+Q12)/2*B13) -> 30 | V13: =+I13 -> 5 | W13: =N13 -> 5.6 | X13: =+(V13+W13)/2 -> 5.3 | Y13: =+X13*$I$4 -> 0.795 | Z13: =IF(G13=0,0,(Y13+Y12)/2*B13) -> 19.875 | AA13: =IF(G13=0,0,(G12+G13)/2*B13) -> 125 | AB13: =IF(G13=0,0,(2*H12+2*H13)/2*B13) -> 0 | AC13: =IF(G13>0,B13,0) -> 25
A14: =A13+B14 -> 125 | B14: =B13 -> 25 | E14: =(C13+C14)/2*B14 -> 0 | F14: =+(D13+D14)/2*B14 -> 0 | G14: =G13 -> 5 | H14: =H13 -> 0 | I14: =+G14+2*H14 -> 5 | J14: =IF(I14=0,0,I14+2*($I$3+I$4)/(1/$I$1)) -> 6.4 | K14: =IF(I14=0,0,I14+2*($I$2+$I$3+$I$4)/(1/$I$1)) -> 6.4 | L14: =(J14+K14)/2 -> 6.4 | M14: =L14*$I$2 -> 0 | N14: =IF(I14=0,0,I14+2*$I$4/(1/$I$1)) -> 5.6 | O14: =IF(I14=0,0,I14+2*($I$3+$I$4)/(1/$I$1)) -> 6.4 | P14: =+(N14+O14)/2 -> 6 | Q14: =+P14*$I$3 -> 1.2 | R14: =(2*ปร.4_1!$W$12)*B14 -> 100 | S14: =ปร.4_1!$Z$13*Soil!B14 -> 125 | T14: =IF(G14=0,0,(M14+M13)/2*B14) -> 0 | U14: =IF(G14=0,0,(Q14+Q13)/2*B14) -> 30 | V14: =+I14 -> 5 | W14: =N14 -> 5.6 | X14: =+(V14+W14)/2 -> 5.3 | Y14: =+X14*$I$4 -> 0.795 | Z14: =IF(G14=0,0,(Y14+Y13)/2*B14) -> 19.875 | AA14: =IF(G14=0,0,(G13+G14)/2*B14) -> 125 | AB14: =IF(G14=0,0,(2*H13+2*H14)/2*B14) -> 0 | AC14: =IF(G14>0,B14,0) -> 25
A15: =A14+B15 -> 150 | B15: =B14 -> 25 | E15: =(C14+C15)/2*B15 -> 0 | F15: =+(D14+D15)/2*B15 -> 0 | G15: =G14 -> 5 | H15: =H14 -> 0 | I15: =+G15+2*H15 -> 5 | J15: =IF(I15=0,0,I15+2*($I$3+I$4)/(1/$I$1)) -> 6.4 | K15: =IF(I15=0,0,I15+2*($I$2+$I$3+$I$4)/(1/$I$1)) -> 6.4 | L15: =(J15+K15)/2 -> 6.4 | M15: =L15*$I$2 -> 0 | N15: =IF(I15=0,0,I15+2*$I$4/(1/$I$1)) -> 5.6 | O15: =IF(I15=0,0,I15+2*($I$3+$I$4)/(1/$I$1)) -> 6.4 | P15: =+(N15+O15)/2 -> 6 | Q15: =+P15*$I$3 -> 1.2 | R15: =(2*ปร.4_1!$W$12)*B15 -> 100 | S15: =ปร.4_1!$Z$13*Soil!B15 -> 125 | T15: =IF(G15=0,0,(M15+M14)/2*B15) -> 0 | U15: =IF(G15=0,0,(Q15+Q14)/2*B15) -> 30 | V15: =+I15 -> 5 | W15: =N15 -> 5.6 | X15: =+(V15+W15)/2 -> 5.3 | Y15: =+X15*$I$4 -> 0.795 | Z15: =IF(G15=0,0,(Y15+Y14)/2*B15) -> 19.875 | AA15: =IF(G15=0,0,(G14+G15)/2*B15) -> 125 | AB15: =IF(G15=0,0,(2*H14+2*H15)/2*B15) -> 0 | AC15: =IF(G15>0,B15,0) -> 25
A16: =A15+B16 -> 175 | B16: =B15 -> 25 | E16: =(C15+C16)/2*B16 -> 0 | F16: =+(D15+D16)/2*B16 -> 0 | G16: =G15 -> 5 | H16: =H15 -> 0 | I16: =+G16+2*H16 -> 5 | J16: =IF(I16=0,0,I16+2*($I$3+I$4)/(1/$I$1)) -> 6.4 | K16: =IF(I16=0,0,I16+2*($I$2+$I$3+$I$4)/(1/$I$1)) -> 6.4 | L16: =(J16+K16)/2 -> 6.4 | M16: =L16*$I$2 -> 0 | N16: =IF(I16=0,0,I16+2*$I$4/(1/$I$1)) -> 5.6 | O16: =IF(I16=0,0,I16+2*($I$3+$I$4)/(1/$I$1)) -> 6.4 | P16: =+(N16+O16)/2 -> 6 | Q16: =+P16*$I$3 -> 1.2 | R16: =(2*ปร.4_1!$W$12)*B16 -> 100 | S16: =ปร.4_1!$Z$13*Soil!B16 -> 125 | T16: =IF(G16=0,0,(M16+M15)/2*B16) -> 0 | U16: =IF(G16=0,0,(Q16+Q15)/2*B16) -> 30 | V16: =+I16 -> 5 | W16: =N16 -> 5.6 | X16: =+(V16+W16)/2 -> 5.3 | Y16: =+X16*$I$4 -> 0.795 | Z16: =IF(G16=0,0,(Y16+Y15)/2*B16) -> 19.875 | AA16: =IF(G16=0,0,(G15+G16)/2*B16) -> 125 | AB16: =IF(G16=0,0,(2*H15+2*H16)/2*B16) -> 0 | AC16: =IF(G16>0,B16,0) -> 25
A17: =A16+B17 -> 200 | B17: =B16 -> 25 | E17: =(C16+C17)/2*B17 -> 0 | F17: =+(D16+D17)/2*B17 -> 0 | G17: =G16 -> 5 | H17: =H16 -> 0 | I17: =+G17+2*H17 -> 5 | J17: =IF(I17=0,0,I17+2*($I$3+I$4)/(1/$I$1)) -> 6.4 | K17: =IF(I17=0,0,I17+2*($I$2+$I$3+$I$4)/(1/$I$1)) -> 6.4 | L17: =(J17+K17)/2 -> 6.4 | M17: =L17*$I$2 -> 0 | N17: =IF(I17=0,0,I17+2*$I$4/(1/$I$1)) -> 5.6 | O17: =IF(I17=0,0,I17+2*($I$3+$I$4)/(1/$I$1)) -> 6.4 | P17: =+(N17+O17)/2 -> 6 | Q17: =+P17*$I$3 -> 1.2 | R17: =(2*ปร.4_1!$W$12)*B17 -> 100 | S17: =ปร.4_1!$Z$13*Soil!B17 -> 125 | T17: =IF(G17=0,0,(M17+M16)/2*B17) -> 0 | U17: =IF(G17=0,0,(Q17+Q16)/2*B17) -> 30 | V17: =+I17 -> 5 | W17: =N17 -> 5.6 | X17: =+(V17+W17)/2 -> 5.3 | Y17: =+X17*$I$4 -> 0.795 | Z17: =IF(G17=0,0,(Y17+Y16)/2*B17) -> 19.875 | AA17: =IF(G17=0,0,(G16+G17)/2*B17) -> 125 | AB17: =IF(G17=0,0,(2*H16+2*H17)/2*B17) -> 0 | AC17: =IF(G17>0,B17,0) -> 25
A18: =A17+B18 -> 225 | B18: =B17 -> 25 | E18: =(C17+C18)/2*B18 -> 0 | F18: =+(D17+D18)/2*B18 -> 0 | G18: =G17 -> 5 | H18: =H17 -> 0 | I18: =+G18+2*H18 -> 5 | J18: =IF(I18=0,0,I18+2*($I$3+I$4)/(1/$I$1)) -> 6.4 | K18: =IF(I18=0,0,I18+2*($I$2+$I$3+$I$4)/(1/$I$1)) -> 6.4 | L18: =(J18+K18)/2 -> 6.4 | M18: =L18*$I$2 -> 0 | N18: =IF(I18=0,0,I18+2*$I$4/(1/$I$1)) -> 5.6 | O18: =IF(I18=0,0,I18+2*($I$3+$I$4)/(1/$I$1)) -> 6.4 | P18: =+(N18+O18)/2 -> 6 | Q18: =+P18*$I$3 -> 1.2 | R18: =(2*ปร.4_1!$W$12)*B18 -> 100 | S18: =ปร.4_1!$Z$13*Soil!B18 -> 125 | T18: =IF(G18=0,0,(M18+M17)/2*B18) -> 0 | U18: =IF(G18=0,0,(Q18+Q17)/2*B18) -> 30 | V18: =+I18 -> 5 | W18: =N18 -> 5.6 | X18: =+(V18+W18)/2 -> 5.3 | Y18: =+X18*$I$4 -> 0.795 | Z18: =IF(G18=0,0,(Y18+Y17)/2*B18) -> 19.875 | AA18: =IF(G18=0,0,(G17+G18)/2*B18) -> 125 | AB18: =IF(G18=0,0,(2*H17+2*H18)/2*B18) -> 0 | AC18: =IF(G18>0,B18,0) -> 25
A19: =A18+B19 -> 250 | B19: =B18 -> 25 | E19: =(C18+C19)/2*B19 -> 0 | F19: =+(D18+D19)/2*B19 -> 0 | G19: =G18 -> 5 | H19: =H18 -> 0 | I19: =+G19+2*H19 -> 5 | J19: =IF(I19=0,0,I19+2*($I$3+I$4)/(1/$I$1)) -> 6.4 | K19: =IF(I19=0,0,I19+2*($I$2+$I$3+$I$4)/(1/$I$1)) -> 6.4 | L19: =(J19+K19)/2 -> 6.4 | M19: =L19*$I$2 -> 0 | N19: =IF(I19=0,0,I19+2*$I$4/(1/$I$1)) -> 5.6 | O19: =IF(I19=0,0,I19+2*($I$3+$I$4)/(1/$I$1)) -> 6.4 | P19: =+(N19+O19)/2 -> 6 | Q19: =+P19*$I$3 -> 1.2 | R19: =(2*ปร.4_1!$W$12)*B19 -> 100 | S19: =ปร.4_1!$Z$13*Soil!B19 -> 125 | T19: =IF(G19=0,0,(M19+M18)/2*B19) -> 0 | U19: =IF(G19=0,0,(Q19+Q18)/2*B19) -> 30 | V19: =+I19 -> 5 | W19: =N19 -> 5.6 | X19: =+(V19+W19)/2 -> 5.3 | Y19: =+X19*$I$4 -> 0.795 | Z19: =IF(G19=0,0,(Y19+Y18)/2*B19) -> 19.875 | AA19: =IF(G19=0,0,(G18+G19)/2*B19) -> 125 | AB19: =IF(G19=0,0,(2*H18+2*H19)/2*B19) -> 0 | AC19: =IF(G19>0,B19,0) -> 25
A20: =A19+B20 -> 275 | B20: =B19 -> 25 | E20: =(C19+C20)/2*B20 -> 0 | F20: =+(D19+D20)/2*B20 -> 0 | G20: =G19 -> 5 | H20: =H19 -> 0 | I20: =+G20+2*H20 -> 5 | J20: =IF(I20=0,0,I20+2*($I$3+I$4)/(1/$I$1)) -> 6.4 | K20: =IF(I20=0,0,I20+2*($I$2+$I$3+$I$4)/(1/$I$1)) -> 6.4 | L20: =(J20+K20)/2 -> 6.4 | M20: =L20*$I$2 -> 0 | N20: =IF(I20=0,0,I20+2*$I$4/(1/$I$1)) -> 5.6 | O20: =IF(I20=0,0,I20+2*($I$3+$I$4)/(1/$I$1)) -> 6.4 | P20: =+(N20+O20)/2 -> 6 | Q20: =+P20*$I$3 -> 1.2 | R20: =(2*ปร.4_1!$W$12)*B20 -> 100 | S20: =ปร.4_1!$Z$13*Soil!B20 -> 125 | T20: =IF(G20=0,0,(M20+M19)/2*B20) -> 0 | U20: =IF(G20=0,0,(Q20+Q19)/2*B20) -> 30 | V20: =+I20 -> 5 | W20: =N20 -> 5.6 | X20: =+(V20+W20)/2 -> 5.3 | Y20: =+X20*$I$4 -> 0.795 | Z20: =IF(G20=0,0,(Y20+Y19)/2*B20) -> 19.875 | AA20: =IF(G20=0,0,(G19+G20)/2*B20) -> 125 | AB20: =IF(G20=0,0,(2*H19+2*H20)/2*B20) -> 0 | AC20: =IF(G20>0,B20,0) -> 25
A21: =A20+B21 -> 300 | B21: =B20 -> 25 | E21: =(C20+C21)/2*B21 -> 0 | F21: =+(D20+D21)/2*B21 -> 0 | G21: =G20 -> 5 | H21: =H20 -> 0 | I21: =+G21+2*H21 -> 5 | J21: =IF(I21=0,0,I21+2*($I$3+I$4)/(1/$I$1)) -> 6.4 | K21: =IF(I21=0,0,I21+2*($I$2+$I$3+$I$4)/(1/$I$1)) -> 6.4 | L21: =(J21+K21)/2 -> 6.4 | M21: =L21*$I$2 -> 0 | N21: =IF(I21=0,0,I21+2*$I$4/(1/$I$1)) -> 5.6 | O21: =IF(I21=0,0,I21+2*($I$3+$I$4)/(1/$I$1)) -> 6.4 | P21: =+(N21+O21)/2 -> 6 | Q21: =+P21*$I$3 -> 1.2 | R21: =(2*ปร.4_1!$W$12)*B21 -> 100 | S21: =ปร.4_1!$Z$13*Soil!B21 -> 125 | T21: =IF(G21=0,0,(M21+M20)/2*B21) -> 0 | U21: =IF(G21=0,0,(Q21+Q20)/2*B21) -> 30 | V21: =+I21 -> 5 | W21: =N21 -> 5.6 | X21: =+(V21+W21)/2 -> 5.3 | Y21: =+X21*$I$4 -> 0.795 | Z21: =IF(G21=0,0,(Y21+Y20)/2*B21) -> 19.875 | AA21: =IF(G21=0,0,(G20+G21)/2*B21) -> 125 | AB21: =IF(G21=0,0,(2*H20+2*H21)/2*B21) -> 0 | AC21: =IF(G21>0,B21,0) -> 25
A22: =A21+B22 -> 325 | B22: =B21 -> 25 | E22: =(C21+C22)/2*B22 -> 0 | F22: =+(D21+D22)/2*B22 -> 0 | G22: =G21 -> 5 | H22: =H21 -> 0 | I22: =+G22+2*H22 -> 5 | J22: =IF(I22=0,0,I22+2*($I$3+I$4)/(1/$I$1)) -> 6.4 | K22: =IF(I22=0,0,I22+2*($I$2+$I$3+$I$4)/(1/$I$1)) -> 6.4 | L22: =(J22+K22)/2 -> 6.4 | M22: =L22*$I$2 -> 0 | N22: =IF(I22=0,0,I22+2*$I$4/(1/$I$1)) -> 5.6 | O22: =IF(I22=0,0,I22+2*($I$3+$I$4)/(1/$I$1)) -> 6.4 | P22: =+(N22+O22)/2 -> 6 | Q22: =+P22*$I$3 -> 1.2 | R22: =(2*ปร.4_1!$W$12)*B22 -> 100 | S22: =ปร.4_1!$Z$13*Soil!B22 -> 125 | T22: =IF(G22=0,0,(M22+M21)/2*B22) -> 0 | U22: =IF(G22=0,0,(Q22+Q21)/2*B22) -> 30 | V22: =+I22 -> 5 | W22: =N22 -> 5.6 | X22: =+(V22+W22)/2 -> 5.3 | Y22: =+X22*$I$4 -> 0.795 | Z22: =IF(G22=0,0,(Y22+Y21)/2*B22) -> 19.875 | AA22: =IF(G22=0,0,(G21+G22)/2*B22) -> 125 | AB22: =IF(G22=0,0,(2*H21+2*H22)/2*B22) -> 0 | AC22: =IF(G22>0,B22,0) -> 25
A23: =A22+B23 -> 350 | B23: 25 | E23: =(C22+C23)/2*B23 -> 0 | F23: =+(D22+D23)/2*B23 -> 0 | G23: =G22 -> 5 | H23: =H22 -> 0 | I23: =+G23+2*H23 -> 5 | J23: =IF(I23=0,0,I23+2*($I$3+I$4)/(1/$I$1)) -> 6.4 | K23: =IF(I23=0,0,I23+2*($I$2+$I$3+$I$4)/(1/$I$1)) -> 6.4 | L23: =(J23+K23)/2 -> 6.4 | M23: =L23*$I$2 -> 0 | N23: =IF(I23=0,0,I23+2*$I$4/(1/$I$1)) -> 5.6 | O23: =IF(I23=0,0,I23+2*($I$3+$I$4)/(1/$I$1)) -> 6.4 | P23: =+(N23+O23)/2 -> 6 | Q23: =+P23*$I$3 -> 1.2 | R23: =(2*ปร.4_1!$W$12)*B23 -> 100 | S23: =ปร.4_1!$Z$13*Soil!B23 -> 125 | T23: =IF(G23=0,0,(M23+M22)/2*B23) -> 0 | U23: =IF(G23=0,0,(Q23+Q22)/2*B23) -> 30 | V23: =+I23 -> 5 | W23: =N23 -> 5.6 | X23: =+(V23+W23)/2 -> 5.3 | Y23: =+X23*$I$4 -> 0.795 | Z23: =IF(G23=0,0,(Y23+Y22)/2*B23) -> 19.875 | AA23: =IF(G23=0,0,(G22+G23)/2*B23) -> 125 | AB23: =IF(G23=0,0,(2*H22+2*H23)/2*B23) -> 0 | AC23: =IF(G23>0,B23,0) -> 25
A24: =A23+B24 -> 375 | B24: 25 | E24: =(C23+C24)/2*B24 -> 0 | F24: =+(D23+D24)/2*B24 -> 0 | G24: =G23 -> 5 | H24: =H23 -> 0 | I24: =+G24+2*H24 -> 5 | J24: =IF(I24=0,0,I24+2*($I$3+I$4)/(1/$I$1)) -> 6.4 | K24: =IF(I24=0,0,I24+2*($I$2+$I$3+$I$4)/(1/$I$1)) -> 6.4 | L24: =(J24+K24)/2 -> 6.4 | M24: =L24*$I$2 -> 0 | N24: =IF(I24=0,0,I24+2*$I$4/(1/$I$1)) -> 5.6 | O24: =IF(I24=0,0,I24+2*($I$3+$I$4)/(1/$I$1)) -> 6.4 | P24: =+(N24+O24)/2 -> 6 | Q24: =+P24*$I$3 -> 1.2 | R24: =(2*ปร.4_1!$W$12)*B24 -> 100 | S24: =ปร.4_1!$Z$13*Soil!B24 -> 125 | T24: =IF(G24=0,0,(M24+M23)/2*B24) -> 0 | U24: =IF(G24=0,0,(Q24+Q23)/2*B24) -> 30 | V24: =+I24 -> 5 | W24: =N24 -> 5.6 | X24: =+(V24+W24)/2 -> 5.3 | Y24: =+X24*$I$4 -> 0.795 | Z24: =IF(G24=0,0,(Y24+Y23)/2*B24) -> 19.875 | AA24: =IF(G24=0,0,(G23+G24)/2*B24) -> 125 | AB24: =IF(G24=0,0,(2*H23+2*H24)/2*B24) -> 0 | AC24: =IF(G24>0,B24,0) -> 25
A25: =A24+B25 -> 400 | B25: =B24 -> 25 | E25: =(C24+C25)/2*B25 -> 0 | F25: =+(D24+D25)/2*B25 -> 0 | G25: =G24 -> 5 | H25: =H24 -> 0 | I25: =+G25+2*H25 -> 5 | J25: =IF(I25=0,0,I25+2*($I$3+I$4)/(1/$I$1)) -> 6.4 | K25: =IF(I25=0,0,I25+2*($I$2+$I$3+$I$4)/(1/$I$1)) -> 6.4 | L25: =(J25+K25)/2 -> 6.4 | M25: =L25*$I$2 -> 0 | N25: =IF(I25=0,0,I25+2*$I$4/(1/$I$1)) -> 5.6 | O25: =IF(I25=0,0,I25+2*($I$3+$I$4)/(1/$I$1)) -> 6.4 | P25: =+(N25+O25)/2 -> 6 | Q25: =+P25*$I$3 -> 1.2 | R25: =(2*ปร.4_1!$W$12)*B25 -> 100 | S25: =ปร.4_1!$Z$13*Soil!B25 -> 125 | T25: =IF(G25=0,0,(M25+M24)/2*B25) -> 0 | U25: =IF(G25=0,0,(Q25+Q24)/2*B25) -> 30 | V25: =+I25 -> 5 | W25: =N25 -> 5.6 | X25: =+(V25+W25)/2 -> 5.3 | Y25: =+X25*$I$4 -> 0.795 | Z25: =IF(G25=0,0,(Y25+Y24)/2*B25) -> 19.875 | AA25: =IF(G25=0,0,(G24+G25)/2*B25) -> 125 | AB25: =IF(G25=0,0,(2*H24+2*H25)/2*B25) -> 0 | AC25: =IF(G25>0,B25,0) -> 25
A26: =A25+B26 -> 425 | B26: =B25 -> 25 | E26: =(C25+C26)/2*B26 -> 0 | F26: =+(D25+D26)/2*B26 -> 0 | G26: =G25 -> 5 | H26: =H25 -> 0 | I26: =+G26+2*H26 -> 5 | J26: =IF(I26=0,0,I26+2*($I$3+I$4)/(1/$I$1)) -> 6.4 | K26: =IF(I26=0,0,I26+2*($I$2+$I$3+$I$4)/(1/$I$1)) -> 6.4 | L26: =(J26+K26)/2 -> 6.4 | M26: =L26*$I$2 -> 0 | N26: =IF(I26=0,0,I26+2*$I$4/(1/$I$1)) -> 5.6 | O26: =IF(I26=0,0,I26+2*($I$3+$I$4)/(1/$I$1)) -> 6.4 | P26: =+(N26+O26)/2 -> 6 | Q26: =+P26*$I$3 -> 1.2 | R26: =(2*ปร.4_1!$W$12)*B26 -> 100 | S26: =ปร.4_1!$Z$13*Soil!B26 -> 125 | T26: =IF(G26=0,0,(M26+M25)/2*B26) -> 0 | U26: =IF(G26=0,0,(Q26+Q25)/2*B26) -> 30 | V26: =+I26 -> 5 | W26: =N26 -> 5.6 | X26: =+(V26+W26)/2 -> 5.3 | Y26: =+X26*$I$4 -> 0.795 | Z26: =IF(G26=0,0,(Y26+Y25)/2*B26) -> 19.875 | AA26: =IF(G26=0,0,(G25+G26)/2*B26) -> 125 | AB26: =IF(G26=0,0,(2*H25+2*H26)/2*B26) -> 0 | AC26: =IF(G26>0,B26,0) -> 25
A27: =A26+B27 -> 450 | B27: =B26 -> 25 | E27: =(C26+C27)/2*B27 -> 0 | F27: =+(D26+D27)/2*B27 -> 0 | G27: =G26 -> 5 | H27: =H26 -> 0 | I27: =+G27+2*H27 -> 5 | J27: =IF(I27=0,0,I27+2*($I$3+I$4)/(1/$I$1)) -> 6.4 | K27: =IF(I27=0,0,I27+2*($I$2+$I$3+$I$4)/(1/$I$1)) -> 6.4 | L27: =(J27+K27)/2 -> 6.4 | M27: =L27*$I$2 -> 0 | N27: =IF(I27=0,0,I27+2*$I$4/(1/$I$1)) -> 5.6 | O27: =IF(I27=0,0,I27+2*($I$3+$I$4)/(1/$I$1)) -> 6.4 | P27: =+(N27+O27)/2 -> 6 | Q27: =+P27*$I$3 -> 1.2 | R27: =(2*ปร.4_1!$W$12)*B27 -> 100 | S27: =ปร.4_1!$Z$13*Soil!B27 -> 125 | T27: =IF(G27=0,0,(M27+M26)/2*B27) -> 0 | U27: =IF(G27=0,0,(Q27+Q26)/2*B27) -> 30 | V27: =+I27 -> 5 | W27: =N27 -> 5.6 | X27: =+(V27+W27)/2 -> 5.3 | Y27: =+X27*$I$4 -> 0.795 | Z27: =IF(G27=0,0,(Y27+Y26)/2*B27) -> 19.875 | AA27: =IF(G27=0,0,(G26+G27)/2*B27) -> 125 | AB27: =IF(G27=0,0,(2*H26+2*H27)/2*B27) -> 0 | AC27: =IF(G27>0,B27,0) -> 25
A28: =A27+B28 -> 475 | B28: =B27 -> 25 | E28: =(C27+C28)/2*B28 -> 0 | F28: =+(D27+D28)/2*B28 -> 0 | G28: =G27 -> 5 | H28: =H27 -> 0 | I28: =+G28+2*H28 -> 5 | J28: =IF(I28=0,0,I28+2*($I$3+I$4)/(1/$I$1)) -> 6.4 | K28: =IF(I28=0,0,I28+2*($I$2+$I$3+$I$4)/(1/$I$1)) -> 6.4 | L28: =(J28+K28)/2 -> 6.4 | M28: =L28*$I$2 -> 0 | N28: =IF(I28=0,0,I28+2*$I$4/(1/$I$1)) -> 5.6 | O28: =IF(I28=0,0,I28+2*($I$3+$I$4)/(1/$I$1)) -> 6.4 | P28: =+(N28+O28)/2 -> 6 | Q28: =+P28*$I$3 -> 1.2 | R28: =(2*ปร.4_1!$W$12)*B28 -> 100 | S28: =ปร.4_1!$Z$13*Soil!B28 -> 125 | T28: =IF(G28=0,0,(M28+M27)/2*B28) -> 0 | U28: =IF(G28=0,0,(Q28+Q27)/2*B28) -> 30 | V28: =+I28 -> 5 | W28: =N28 -> 5.6 | X28: =+(V28+W28)/2 -> 5.3 | Y28: =+X28*$I$4 -> 0.795 | Z28: =IF(G28=0,0,(Y28+Y27)/2*B28) -> 19.875 | AA28: =IF(G28=0,0,(G27+G28)/2*B28) -> 125 | AB28: =IF(G28=0,0,(2*H27+2*H28)/2*B28) -> 0 | AC28: =IF(G28>0,B28,0) -> 25
A29: =A28+B29 -> 500 | B29: =B28 -> 25 | E29: =(C28+C29)/2*B29 -> 0 | F29: =+(D28+D29)/2*B29 -> 0 | G29: =G28 -> 5 | H29: =H28 -> 0 | I29: =+G29+2*H29 -> 5 | J29: =IF(I29=0,0,I29+2*($I$3+I$4)/(1/$I$1)) -> 6.4 | K29: =IF(I29=0,0,I29+2*($I$2+$I$3+$I$4)/(1/$I$1)) -> 6.4 | L29: =(J29+K29)/2 -> 6.4 | M29: =L29*$I$2 -> 0 | N29: =IF(I29=0,0,I29+2*$I$4/(1/$I$1)) -> 5.6 | O29: =IF(I29=0,0,I29+2*($I$3+$I$4)/(1/$I$1)) -> 6.4 | P29: =+(N29+O29)/2 -> 6 | Q29: =+P29*$I$3 -> 1.2 | R29: =(2*ปร.4_1!$W$12)*B29 -> 100 | S29: =ปร.4_1!$Z$13*Soil!B29 -> 125 | T29: =IF(G29=0,0,(M29+M28)/2*B29) -> 0 | U29: =IF(G29=0,0,(Q29+Q28)/2*B29) -> 30 | V29: =+I29 -> 5 | W29: =N29 -> 5.6 | X29: =+(V29+W29)/2 -> 5.3 | Y29: =+X29*$I$4 -> 0.795 | Z29: =IF(G29=0,0,(Y29+Y28)/2*B29) -> 19.875 | AA29: =IF(G29=0,0,(G28+G29)/2*B29) -> 125 | AB29: =IF(G29=0,0,(2*H28+2*H29)/2*B29) -> 0 | AC29: =IF(G29>0,B29,0) -> 25
A30: =A29+B30 -> 525 | B30: =B29 -> 25 | E30: =(C29+C30)/2*B30 -> 0 | F30: =+(D29+D30)/2*B30 -> 0 | G30: =G29 -> 5 | H30: =H29 -> 0 | I30: =+G30+2*H30 -> 5 | J30: =IF(I30=0,0,I30+2*($I$3+I$4)/(1/$I$1)) -> 6.4 | K30: =IF(I30=0,0,I30+2*($I$2+$I$3+$I$4)/(1/$I$1)) -> 6.4 | L30: =(J30+K30)/2 -> 6.4 | M30: =L30*$I$2 -> 0 | N30: =IF(I30=0,0,I30+2*$I$4/(1/$I$1)) -> 5.6 | O30: =IF(I30=0,0,I30+2*($I$3+$I$4)/(1/$I$1)) -> 6.4 | P30: =+(N30+O30)/2 -> 6 | Q30: =+P30*$I$3 -> 1.2 | R30: =(2*ปร.4_1!$W$12)*B30 -> 100 | S30: =ปร.4_1!$Z$13*Soil!B30 -> 125 | T30: =IF(G30=0,0,(M30+M29)/2*B30) -> 0 | U30: =IF(G30=0,0,(Q30+Q29)/2*B30) -> 30 | V30: =+I30 -> 5 | W30: =N30 -> 5.6 | X30: =+(V30+W30)/2 -> 5.3 | Y30: =+X30*$I$4 -> 0.795 | Z30: =IF(G30=0,0,(Y30+Y29)/2*B30) -> 19.875 | AA30: =IF(G30=0,0,(G29+G30)/2*B30) -> 125 | AB30: =IF(G30=0,0,(2*H29+2*H30)/2*B30) -> 0 | AC30: =IF(G30>0,B30,0) -> 25
A31: =A30+B31 -> 550 | B31: =B30 -> 25 | E31: =(C30+C31)/2*B31 -> 0 | F31: =+(D30+D31)/2*B31 -> 0 | G31: =G30 -> 5 | H31: =H30 -> 0 | I31: =+G31+2*H31 -> 5 | J31: =IF(I31=0,0,I31+2*($I$3+I$4)/(1/$I$1)) -> 6.4 | K31: =IF(I31=0,0,I31+2*($I$2+$I$3+$I$4)/(1/$I$1)) -> 6.4 | L31: =(J31+K31)/2 -> 6.4 | M31: =L31*$I$2 -> 0 | N31: =IF(I31=0,0,I31+2*$I$4/(1/$I$1)) -> 5.6 | O31: =IF(I31=0,0,I31+2*($I$3+$I$4)/(1/$I$1)) -> 6.4 | P31: =+(N31+O31)/2 -> 6 | Q31: =+P31*$I$3 -> 1.2 | R31: =(2*ปร.4_1!$W$12)*B31 -> 100 | S31: =ปร.4_1!$Z$13*Soil!B31 -> 125 | T31: =IF(G31=0,0,(M31+M30)/2*B31) -> 0 | U31: =IF(G31=0,0,(Q31+Q30)/2*B31) -> 30 | V31: =+I31 -> 5 | W31: =N31 -> 5.6 | X31: =+(V31+W31)/2 -> 5.3 | Y31: =+X31*$I$4 -> 0.795 | Z31: =IF(G31=0,0,(Y31+Y30)/2*B31) -> 19.875 | AA31: =IF(G31=0,0,(G30+G31)/2*B31) -> 125 | AB31: =IF(G31=0,0,(2*H30+2*H31)/2*B31) -> 0 | AC31: =IF(G31>0,B31,0) -> 25
A32: =A31+B32 -> 575 | B32: =B31 -> 25 | E32: =(C31+C32)/2*B32 -> 0 | F32: =+(D31+D32)/2*B32 -> 0 | G32: =G31 -> 5 | H32: =H31 -> 0 | I32: =+G32+2*H32 -> 5 | J32: =IF(I32=0,0,I32+2*($I$3+I$4)/(1/$I$1)) -> 6.4 | K32: =IF(I32=0,0,I32+2*($I$2+$I$3+$I$4)/(1/$I$1)) -> 6.4 | L32: =(J32+K32)/2 -> 6.4 | M32: =L32*$I$2 -> 0 | N32: =IF(I32=0,0,I32+2*$I$4/(1/$I$1)) -> 5.6 | O32: =IF(I32=0,0,I32+2*($I$3+$I$4)/(1/$I$1)) -> 6.4 | P32: =+(N32+O32)/2 -> 6 | Q32: =+P32*$I$3 -> 1.2 | R32: =(2*ปร.4_1!$W$12)*B32 -> 100 | S32: =ปร.4_1!$Z$13*Soil!B32 -> 125 | T32: =IF(G32=0,0,(M32+M31)/2*B32) -> 0 | U32: =IF(G32=0,0,(Q32+Q31)/2*B32) -> 30 | V32: =+I32 -> 5 | W32: =N32 -> 5.6 | X32: =+(V32+W32)/2 -> 5.3 | Y32: =+X32*$I$4 -> 0.795 | Z32: =IF(G32=0,0,(Y32+Y31)/2*B32) -> 19.875 | AA32: =IF(G32=0,0,(G31+G32)/2*B32) -> 125 | AB32: =IF(G32=0,0,(2*H31+2*H32)/2*B32) -> 0 | AC32: =IF(G32>0,B32,0) -> 25
A33: =A32+B33 -> 600 | B33: =B32 -> 25 | E33: =(C32+C33)/2*B33 -> 0 | F33: =+(D32+D33)/2*B33 -> 0 | G33: =G32 -> 5 | H33: =H32 -> 0 | I33: =+G33+2*H33 -> 5 | J33: =IF(I33=0,0,I33+2*($I$3+I$4)/(1/$I$1)) -> 6.4 | K33: =IF(I33=0,0,I33+2*($I$2+$I$3+$I$4)/(1/$I$1)) -> 6.4 | L33: =(J33+K33)/2 -> 6.4 | M33: =L33*$I$2 -> 0 | N33: =IF(I33=0,0,I33+2*$I$4/(1/$I$1)) -> 5.6 | O33: =IF(I33=0,0,I33+2*($I$3+$I$4)/(1/$I$1)) -> 6.4 | P33: =+(N33+O33)/2 -> 6 | Q33: =+P33*$I$3 -> 1.2 | R33: =(2*ปร.4_1!$W$12)*B33 -> 100 | S33: =ปร.4_1!$Z$13*Soil!B33 -> 125 | T33: =IF(G33=0,0,(M33+M32)/2*B33) -> 0 | U33: =IF(G33=0,0,(Q33+Q32)/2*B33) -> 30 | V33: =+I33 -> 5 | W33: =N33 -> 5.6 | X33: =+(V33+W33)/2 -> 5.3 | Y33: =+X33*$I$4 -> 0.795 | Z33: =IF(G33=0,0,(Y33+Y32)/2*B33) -> 19.875 | AA33: =IF(G33=0,0,(G32+G33)/2*B33) -> 125 | AB33: =IF(G33=0,0,(2*H32+2*H33)/2*B33) -> 0 | AC33: =IF(G33>0,B33,0) -> 25
A34: =A33+B34 -> 625 | B34: =B33 -> 25 | E34: =(C33+C34)/2*B34 -> 0 | F34: =+(D33+D34)/2*B34 -> 0 | G34: =G33 -> 5 | H34: =H33 -> 0 | I34: =+G34+2*H34 -> 5 | J34: =IF(I34=0,0,I34+2*($I$3+I$4)/(1/$I$1)) -> 6.4 | K34: =IF(I34=0,0,I34+2*($I$2+$I$3+$I$4)/(1/$I$1)) -> 6.4 | L34: =(J34+K34)/2 -> 6.4 | M34: =L34*$I$2 -> 0 | N34: =IF(I34=0,0,I34+2*$I$4/(1/$I$1)) -> 5.6 | O34: =IF(I34=0,0,I34+2*($I$3+$I$4)/(1/$I$1)) -> 6.4 | P34: =+(N34+O34)/2 -> 6 | Q34: =+P34*$I$3 -> 1.2 | R34: =(2*ปร.4_1!$W$12)*B34 -> 100 | S34: =ปร.4_1!$Z$13*Soil!B34 -> 125 | T34: =IF(G34=0,0,(M34+M33)/2*B34) -> 0 | U34: =IF(G34=0,0,(Q34+Q33)/2*B34) -> 30 | V34: =+I34 -> 5 | W34: =N34 -> 5.6 | X34: =+(V34+W34)/2 -> 5.3 | Y34: =+X34*$I$4 -> 0.795 | Z34: =IF(G34=0,0,(Y34+Y33)/2*B34) -> 19.875 | AA34: =IF(G34=0,0,(G33+G34)/2*B34) -> 125 | AB34: =IF(G34=0,0,(2*H33+2*H34)/2*B34) -> 0 | AC34: =IF(G34>0,B34,0) -> 25
A35: =A34+B35 -> 650 | B35: =B34 -> 25 | E35: =(C34+C35)/2*B35 -> 0 | F35: =+(D34+D35)/2*B35 -> 0 | G35: =G34 -> 5 | H35: =H34 -> 0 | I35: =+G35+2*H35 -> 5 | J35: =IF(I35=0,0,I35+2*($I$3+I$4)/(1/$I$1)) -> 6.4 | K35: =IF(I35=0,0,I35+2*($I$2+$I$3+$I$4)/(1/$I$1)) -> 6.4 | L35: =(J35+K35)/2 -> 6.4 | M35: =L35*$I$2 -> 0 | N35: =IF(I35=0,0,I35+2*$I$4/(1/$I$1)) -> 5.6 | O35: =IF(I35=0,0,I35+2*($I$3+$I$4)/(1/$I$1)) -> 6.4 | P35: =+(N35+O35)/2 -> 6 | Q35: =+P35*$I$3 -> 1.2 | R35: =(2*ปร.4_1!$W$12)*B35 -> 100 | S35: =ปร.4_1!$Z$13*Soil!B35 -> 125 | T35: =IF(G35=0,0,(M35+M34)/2*B35) -> 0 | U35: =IF(G35=0,0,(Q35+Q34)/2*B35) -> 30 | V35: =+I35 -> 5 | W35: =N35 -> 5.6 | X35: =+(V35+W35)/2 -> 5.3 | Y35: =+X35*$I$4 -> 0.795 | Z35: =IF(G35=0,0,(Y35+Y34)/2*B35) -> 19.875 | AA35: =IF(G35=0,0,(G34+G35)/2*B35) -> 125 | AB35: =IF(G35=0,0,(2*H34+2*H35)/2*B35) -> 0 | AC35: =IF(G35>0,B35,0) -> 25
A36: =A35+B36 -> 675 | B36: =B35 -> 25 | E36: =(C35+C36)/2*B36 -> 0 | F36: =+(D35+D36)/2*B36 -> 0 | G36: =G35 -> 5 | H36: =H35 -> 0 | I36: =+G36+2*H36 -> 5 | J36: =IF(I36=0,0,I36+2*($I$3+I$4)/(1/$I$1)) -> 6.4 | K36: =IF(I36=0,0,I36+2*($I$2+$I$3+$I$4)/(1/$I$1)) -> 6.4 | L36: =(J36+K36)/2 -> 6.4 | M36: =L36*$I$2 -> 0 | N36: =IF(I36=0,0,I36+2*$I$4/(1/$I$1)) -> 5.6 | O36: =IF(I36=0,0,I36+2*($I$3+$I$4)/(1/$I$1)) -> 6.4 | P36: =+(N36+O36)/2 -> 6 | Q36: =+P36*$I$3 -> 1.2 | R36: =(2*ปร.4_1!$W$12)*B36 -> 100 | S36: =ปร.4_1!$Z$13*Soil!B36 -> 125 | T36: =IF(G36=0,0,(M36+M35)/2*B36) -> 0 | U36: =IF(G36=0,0,(Q36+Q35)/2*B36) -> 30 | V36: =+I36 -> 5 | W36: =N36 -> 5.6 | X36: =+(V36+W36)/2 -> 5.3 | Y36: =+X36*$I$4 -> 0.795 | Z36: =IF(G36=0,0,(Y36+Y35)/2*B36) -> 19.875 | AA36: =IF(G36=0,0,(G35+G36)/2*B36) -> 125 | AB36: =IF(G36=0,0,(2*H35+2*H36)/2*B36) -> 0 | AC36: =IF(G36>0,B36,0) -> 25
... A38: =A37+B38 -> 725 | B38: =B37 -> 25 | E38: =(C37+C38)/2*B38 -> 0 | F38: =+(D37+D38)/2*B38 -> 0 | G38: =G37 -> 5 | H38: =H37 -> 0 | I38: =+G38+2*H38 -> 5 | J38: =IF(I38=0,0,I38+2*($I$3+I$4)/(1/$I$1)) -> 6.4 | K38: =IF(I38=0,0,I38+2*($I$2+$I$3+$I$4)/(1/$I$1)) -> 6.4 | L38: =(J38+K38)/2 -> 6.4 | M38: =L38*$I$2 -> 0 | N38: =IF(I38=0,0,I38+2*$I$4/(1/$I$1)) -> 5.6 | O38: =IF(I38=0,0,I38+2*($I$3+$I$4)/(1/$I$1)) -> 6.4 | P38: =+(N38+O38)/2 -> 6 | Q38: =+P38*$I$3 -> 1.2 | R38: =(2*ปร.4_1!$W$12)*B38 -> 100 | S38: =ปร.4_1!$Z$13*Soil!B38 -> 125 | T38: =IF(G38=0,0,(M38+M37)/2*B38) -> 0 | U38: =IF(G38=0,0,(Q38+Q37)/2*B38) -> 30 | V38: =+I38 -> 5 | W38: =N38 -> 5.6 | X38: =+(V38+W38)/2 -> 5.3 | Y38: =+X38*$I$4 -> 0.795 | Z38: =IF(G38=0,0,(Y38+Y37)/2*B38) -> 19.875 | AA38: =IF(G38=0,0,(G37+G38)/2*B38) -> 125 | AB38: =IF(G38=0,0,(2*H37+2*H38)/2*B38) -> 0 | AC38: =IF(G38>0,B38,0) -> 25
A39: =A38+B39 -> 750 | B39: 25 | E39: =(C38+C39)/2*B39 -> 0 | F39: =+(D38+D39)/2*B39 -> 0 | G39: =G38 -> 5 | H39: =H38 -> 0 | I39: =+G39+2*H39 -> 5 | J39: =IF(I39=0,0,I39+2*($I$3+I$4)/(1/$I$1)) -> 6.4 | K39: =IF(I39=0,0,I39+2*($I$2+$I$3+$I$4)/(1/$I$1)) -> 6.4 | L39: =(J39+K39)/2 -> 6.4 | M39: =L39*$I$2 -> 0 | N39: =IF(I39=0,0,I39+2*$I$4/(1/$I$1)) -> 5.6 | O39: =IF(I39=0,0,I39+2*($I$3+$I$4)/(1/$I$1)) -> 6.4 | P39: =+(N39+O39)/2 -> 6 | Q39: =+P39*$I$3 -> 1.2 | R39: =(2*ปร.4_1!$W$12)*B39 -> 100 | S39: =ปร.4_1!$Z$13*Soil!B39 -> 125 | T39: =IF(G39=0,0,(M39+M38)/2*B39) -> 0 | U39: =IF(G39=0,0,(Q39+Q38)/2*B39) -> 30 | V39: =+I39 -> 5 | W39: =N39 -> 5.6 | X39: =+(V39+W39)/2 -> 5.3 | Y39: =+X39*$I$4 -> 0.795 | Z39: =IF(G39=0,0,(Y39+Y38)/2*B39) -> 19.875 | AA39: =IF(G39=0,0,(G38+G39)/2*B39) -> 125 | AB39: =IF(G39=0,0,(2*H38+2*H39)/2*B39) -> 0 | AC39: =IF(G39>0,B39,0) -> 25
A40: =A39+B40 -> 775 | B40: 25 | E40: =(C39+C40)/2*B40 -> 0 | F40: =+(D39+D40)/2*B40 -> 0 | G40: =G39 -> 5 | H40: =H39 -> 0 | I40: =+G40+2*H40 -> 5 | J40: =IF(I40=0,0,I40+2*($I$3+I$4)/(1/$I$1)) -> 6.4 | K40: =IF(I40=0,0,I40+2*($I$2+$I$3+$I$4)/(1/$I$1)) -> 6.4 | L40: =(J40+K40)/2 -> 6.4 | M40: =L40*$I$2 -> 0 | N40: =IF(I40=0,0,I40+2*$I$4/(1/$I$1)) -> 5.6 | O40: =IF(I40=0,0,I40+2*($I$3+$I$4)/(1/$I$1)) -> 6.4 | P40: =+(N40+O40)/2 -> 6 | Q40: =+P40*$I$3 -> 1.2 | R40: =(2*ปร.4_1!$W$12)*B40 -> 100 | S40: =ปร.4_1!$Z$13*Soil!B40 -> 125 | T40: =IF(G40=0,0,(M40+M39)/2*B40) -> 0 | U40: =IF(G40=0,0,(Q40+Q39)/2*B40) -> 30 | V40: =+I40 -> 5 | W40: =N40 -> 5.6 | X40: =+(V40+W40)/2 -> 5.3 | Y40: =+X40*$I$4 -> 0.795 | Z40: =IF(G40=0,0,(Y40+Y39)/2*B40) -> 19.875 | AA40: =IF(G40=0,0,(G39+G40)/2*B40) -> 125 | AB40: =IF(G40=0,0,(2*H39+2*H40)/2*B40) -> 0 | AC40: =IF(G40>0,B40,0) -> 25
A41: =A40+B41 -> 800 | B41: 25 | E41: =(C40+C41)/2*B41 -> 0 | F41: =+(D40+D41)/2*B41 -> 0 | G41: =G40 -> 5 | H41: =H40 -> 0 | I41: =+G41+2*H41 -> 5 | J41: =IF(I41=0,0,I41+2*($I$3+I$4)/(1/$I$1)) -> 6.4 | K41: =IF(I41=0,0,I41+2*($I$2+$I$3+$I$4)/(1/$I$1)) -> 6.4 | L41: =(J41+K41)/2 -> 6.4 | M41: =L41*$I$2 -> 0 | N41: =IF(I41=0,0,I41+2*$I$4/(1/$I$1)) -> 5.6 | O41: =IF(I41=0,0,I41+2*($I$3+$I$4)/(1/$I$1)) -> 6.4 | P41: =+(N41+O41)/2 -> 6 | Q41: =+P41*$I$3 -> 1.2 | R41: =(2*ปร.4_1!$W$12)*B41 -> 100 | S41: =ปร.4_1!$Z$13*Soil!B41 -> 125 | T41: =IF(G41=0,0,(M41+M40)/2*B41) -> 0 | U41: =IF(G41=0,0,(Q41+Q40)/2*B41) -> 30 | V41: =+I41 -> 5 | W41: =N41 -> 5.6 | X41: =+(V41+W41)/2 -> 5.3 | Y41: =+X41*$I$4 -> 0.795 | Z41: =IF(G41=0,0,(Y41+Y40)/2*B41) -> 19.875 | AA41: =IF(G41=0,0,(G40+G41)/2*B41) -> 125 | AB41: =IF(G41=0,0,(2*H40+2*H41)/2*B41) -> 0 | AC41: =IF(G41>0,B41,0) -> 25
...

Sheet ปร.5 ท
A1: แบบฟอร์มสรุปผลประมาณราคางานก่อสร้าง | T1: วันที่ | U1: เดือน | V1: ปี | Y1: รหัสสายทาง | Z1: ชื่อสายทาง | AB1: =IF(C5=Y2,X2,IF(C5=Y3,X3,IF(C5=Y4,X4,IF(C5=Y5,X5,IF(C5=Y6,X6,IF(C5=Y7,X7,IF(C5=Y8,X8,IF(C5=Y9,X9,IF(C5=Y10,X10,IF(C5=Y11,X11,IF(C5=Y12,X12,IF(C5=Y13,X13,IF(C5=Y14,X14,IF(C5=Y15,X15,IF(C5=Y16,X16,IF(C5=Y17,X17,IF(C5=Y18,X18,IF(C5=Y19,X19,IF(C5=Y20,X20,IF(C5=Y21,X21,IF(C5=Y22,X22,IF(C5=Y23,X23,IF(C5=Y24,X24,IF(C5=Y25,X25,IF(C5=Y26,X26,IF(C5=Y27,X27,IF(C5=Y28,X28,IF(C5=Y29,X29,IF(C5=Y30,X30,IF(C5=Y31,X31,IF(C5=Y32,X32,IF(C5=Y33,X33,IF(C5=Y34,X34,IF(C5=Y35,X35,IF(C5=Y36,X36,IF(C5=Y37,X37,IF(C5=Y38,X38,IF(C5=Y39,X39,IF(C5=Y40,X40,IF(C5=Y41,X41,IF(C5=Y42,X42,IF(C5=Y43,X43,IF(C5=Y44,X44,IF(C5=Y45,X45,IF(C5=Y46,X46,IF(C5=Y47,X47,IF(C5=Y48,X48,IF(C5=Y49,X49,X50)))))))))))))))))))))))))))))))))))))))))))))))) -> 48 | AC1: แยกทางหลวงหมายเลข 4047 - บ้านท่าช้าง | AE1: ระยะทาง
A2: ส่วนราชการ | C2: เทศบาลตำบลหนองพ้อ | I2: กองช่าง | T2: - | U2: - | V2: - | X2: 0 | Y2: ------------- | Z2: ------------- | AE2: 0
C3: กรมส่งเสริมปกครองท้องถิ่น | I3: กระทรวงมหาดไทย | T3: 1 | U3: มกราคม | V3: 2556 | X3: 1 | Y3: พท.4001 | Z3: แยกทางหลวงหมายเลข 4047 - บ้านท่าช้าง | AE3: 15.537
A4: ประเภทงาน | C4: บำรุงรักษาระบบโครงข่ายทาง | T4: 2 | U4: กุมภาพันธ์ | V4: 2557 | X4: 2 | Y4: พท.1002 | Z4: แยกทางหลวงหมายเลข 4 - บ้านคู | AE4: 12.892
A5: ชื่อสายทาง ป่าตอ-ใสขรบ | T5: 3 | U5: มีนาคม | V5: 2558 | X5: 3 | Y5: พท.1005 | Z5: แยกทางหลวงหมายเลข 4 - บ้านไสแตระ | AE5: 13.653
A6: สถานที่ก่อสร้าง | C6: ตำบลควนขนุน อำเภอควนขนุน จังหวัดพัทลุง | T6: 4 | U6: เมษายน | V6: 2559 | X6: 4 | Y6: พท.2006 | Z6: แยกทางหลวงหมายเลข 41 - บ้านสำนักปรางค์ | AE6: 12.749
A7: ลักษณะสายทางเดิม | C7: ชนิดผิวทาง | D7: 0 | G7: กว้าง | H7: 5 | I7: ม. ระยะทางตลอดสายทาง | K7: กม. | L7: กิจกรรมไฟฟ้าแสงสว่างและไฟสัญญาณจราจร | O7: ระยะห่างต่อต้น | T7: 5 | U7: พฤษภาคม | V7: 2560 | X7: 5 | Y7: พท.4007 | Z7: แยกทางหลวงหมายเลข 4047 - บ้านทะเลน้อย | AE7: 21.084
C8: ชนิดไหล่ทาง | D8: Asphaltic Concrete | G8: กว้าง | H8: 0 | I8: ม. | M8: =INT(N8/O8)+3 -> 3 | N8: =E14-C14 -> 0 | O8: 35 | T8: 6 | U8: มิถุนายน | V8: 2561 | X8: 6 | Y8: พท.2008 | Z8: แยกทางหลวงหมายเลข 41 - บ้านปากเหมือง | AE8: 14.84
G9: ผิวทางกว้าง | H9: 5 | I9: ม. | T9: 7 | U9: กรกฎาคม | V9: 2562 | X9: 7 | Y9: พท.4009 | Z9: แยกทางหลวงหมายเลข 4048 - บ้านท่าสำเภาใต้ | AE9: 13.321
A10: สรุปประมาณราคาตามแบบฟอร์ม | E10: ปร. 4/1 บร | G10: จำนวน | H10: 1 | I10: แผ่น | T10: 8 | U10: สิงหาคม | V10: 2563 | X10: 8 | Y10: พท.1010 | Z10: แยกทางหลวงหมายเลข 4 - บ้านควนปริง | AE10: 11.117
E11: ปร. 4/2 บร | G11: จำนวน | H11: 0 | I11: แผ่น | T11: 9 | U11: กันยายน | V11: 2564 | X11: 9 | Y11: พท.1011 | Z11: แยกทางหลวงหมายเลข 4 - บ้านควนกุฎ | AE11: 11.672
E12: ปร. 4/1 ท | G12: จำนวน | H12: 1 | I12: แผ่น | L12: =Soil!B1 -> 0.84 | M12: กม. | T12: 10 | U12: ตุลาคม | V12: 2565 | X12: 10 | Y12: พท.2013 | Z12: แยกทางหลวงหมายเลข 41 - บ้านใหม่ | AE12: 12.184
A13: ระยะทางดำเนินการ | D13: กม. | M13: =E14-C14 -> 0 | T13: 11 | U13: พฤศจิกายน | X13: 11 | Y13: พท.2016 | Z13: แยกทางหลวงหมายเลข 41 - บ้านหัสคุณ | AE13: 11.733
B14: ช่วงที่ 1 กม. | C14: =Soil!A9 -> 0 | D14: ถึง กม. | F14: ="(ซ่อมแซมผิวทางแบบเซอร์เฟซทรีตเมนต์ชั้นเดียว S.S.T. ) ระยะทาง "&FIXED((E14-C14)/1000,3)&" กม.) " -> (ซ่อมแซมผิวทางแบบเซอร์เฟซทรีตเมนต์ชั้นเดียว S.S.T. ) ระยะทาง 0.000 กม.) | T14: 12 | U14: ธันวาคม | X14: 12 | Y14: พท.4018 | Z14: แยกทางหลวงหมายเลข 4050 - บ้านลำปำ | AE14: 4.862
B15: ช่วงที่ 2 กม. | C15: 0 | D15: ถึง กม. | E15: 0 | F15: ="(ซ่อมสร้างผิวทางพาราแอสฟัลท์ติกคอนกรีต ระยะทาง "&FIXED((E15-C15)/1000,3)&" กม.) " -> (ซ่อมสร้างผิวทางพาราแอสฟัลท์ติกคอนกรีต ระยะทาง 0.000 กม.) | T15: 13 | X15: 13 | Y15: พท.4019 | Z15: แยกทางหลวงหมายเลข4048 - บ้านแหลมโตนด | AE15: 10.4
B16: ช่วงที่ 3 กม. | D16: ถึง กม. | F16: ="(ซ่อมสร้างผิวทางแอสฟัลท์ติกคอนกรีต ระยะทาง "&FIXED((E16-C16)/1000,3)&" กม.) " -> (ซ่อมสร้างผิวทางแอสฟัลท์ติกคอนกรีต ระยะทาง 0.000 กม.) | N16: =SUM(M13:M13) -> 0 | T16: 14 | X16: 14 | Y16: พท.1021 | Z16: แยกทางหลวงหมายเลข 4 - บ้านทุ่งนาชี | AE16: 23
A17: ประมาณราคาวันที่ | C17: 30 | D17: เดือน | E17: มิถุนายน | F17: พ.ศ. | G17: 2563 | M17: รวมค่างานต้นทุน | N17: =G20+G21 -> 518779.71 | O17: บาท | T17: 15 | X17: 15 | Y17: พท.2030 | Z17: แยกทางหลวงหมายเลข 41 - บ้านคลองใหญ่ | AE17: 12.443
T18: 16 | X18: 16 | Y18: พท.5036 | Z18: แยกทางหลวงชนบท พท.2030 - บ้านหนองอ้ายเล | AE18: 4.895
A19: ลำดับที่ | B19: รายการ | G19: รวมค่างานต้นทุน | H19: Factor F | I19: รวมค่าก่อสร้าง | J19: หมายเหตุ | M19: งบจัดสรร | N19: 4000000 | O19: บาท | T19: 17 | X19: 17 | Y19: พท.5037 | Z19: แยกทางหลวงชนบท พท.1010 - บ้านขัน | AE19: 5.62
A20: 1 | B20: ประเภทงานทาง | G20: =ปร.4_1!M171 -> 518779.71 | H20: =ปร.4_1!N172 -> 1.3795 | I20: =ปร.4_1!P173 -> 715574.66 | J20: Factor F ฝนตกชุก 1 | M20: งบประมาณที่ประเมินได้ | N20: =I25 -> 718000 | O20: บาท | T20: 18 | X20: 18 | Y20: พท.2038 | Z20: แยกทางหลวงหมายเลข 41 - วัดเต่า | AE20: 3
A21: 2 | B21: ประเภทงานสะพานและท่อเหลี่ยม | G21: =ปร.4_2!M89 -> 0 | H21: =ปร.4_2!N90 -> 0 | I21: =ปร.4_2!P91 -> 0 | J21: - เงินล่วงหน้าจ่าย | K21: % | M21: =IF(N19<N20,"ประเมินราคาสูงไป",IF(N19=N20,"ประเมินราคาพอดีตามงบ","ประเมินราคาต่ำไป")) -> ประเมินราคาต่ำไป | N21: =N19-N20 -> 3282000 | O21: =IF(N19=N20,"O.K.","บาท") -> บาท | T21: 19 | X21: 19 | Y21: พท.1040 | Z21: แยกทางหลวงหมายเลข 4 - บ้านท่ายูง | AE21: 8
A22: 3 | B22: ป้ายโครงการ | G22: 1 | H22: 3000 | I22: =SUM(G22*H22) -> 3000 | J22: - ดอกเบี้ยเงินกู้ | K22: 0.06 | T22: 20 | X22: 20 | Y22: พท.2041 | Z22: แยกทางหลวงหมายเลข 41 - บ้านทุ่งชุมพล | AE22: 15.59
J23: - เงินประกันผลงานหัก | K23: 0 | T23: 21 | X23: 21 | Y23: พท.4044 | Z23: แยกทางหลวงหมายเลข 4163 - บ้านหนองเสม็ด | AE23: 7.206
B24: รวมเป็นค่าก่อสร้าง | I24: =SUM(I20:I23) -> 718574.66 | T24: 22 | X24: 22 | Y24: พท.4048 | Z24: แยกทางหลวงหมายเลข 4122 - บ้านสมหวัง | AE24: 7.6
A25: สรุป | B25: คิดเป็นเงินค่าก่อสร้างประมาณ | I25: =ROUNDDOWN(I24,-3) -> 718000 | T25: 23 | X25: 23 | Y25: พท.5050 | Z25: ถนนเฉลิมพระเกียรติ ๘๐ พรรษา ๕ ธันวาคม ๒๕๕๐ | AE25: 17.547
B26: ตัวอักษร | C26: =CONCATENATE("(",BAHTTEXT(I25),")") -> (เจ็ดแสนหนึ่งหมื่นแปดพันบาทถ้วน) | T26: 24 | X26: 24 | Y26: พท.4052 | Z26: แยกทางหลวงหมายเลข 4164 - บ้านควนนายพุฒ | AE26: 5.556
T27: 25 | X27: 25 | Y27: พท.4053 | Z27: แยกทางหลวงหมายเลข 4163 - บ้านควนตะแบก | AE27: 8.4
B28: ระยะทางดำเนินการซ่อมสร้างฯ | E28: =ปร.4_1!T2 -> 0.84 | F28: กม. | G28: เฉลี่ยราคา กม. ละ | I28: =IF(G20=0,0,ROUNDDOWN(I20/E28,0)) -> 851874 | J28: บาท | T28: 26 | X28: 26 | Y28: พท.4055 | Z28: แยกทางหลวงหมายเลข 4285 - บ้านควนแร่ | AE28: 6.134
O29: คณะกรรมการกำหนดราคากลาง | Q29: ประธานกรรมการฯ | T29: 27 | X29: 27 | Y29: พท.5057 | Z29: แยกทางหลวงชนบท พท.1011 - บ้านทุ่งลาน | AE29: 5.66
Q30: กรรมการ | T30: 28 | X30: 28 | Y30: ------------- | Z30: -------------
A31: คณะกรรมการกำหนดราคากลาง | Q31: กรรมการ | T31: 29 | X31: 29 | Y31: พท.4003 | Z31: แยกทางหลวงหมายเลข 4050 - บ้านจงเก | AE31: 13.842
A32: ลงชื่อ | D32: ประธานกรรมการ | T32: 30 | X32: 30 | Y32: พท.4004 | Z32: แยกทางหลวงหมายเลข 4081 - บ้านฝาละมี | AE32: 26.558
B33: (นายบุญภาศ ทองฤทธิ์นุ่น ) | L33: 1 | M33: นางสาวพันธุ์ทิพย์ | N33: ทองเดช | O33: นายช่างเขียนแบบ อาวุโส | Q33: ประมาณราคา | T33: 31 | X33: 31 | Y33: พท.1014 | Z33: แยกทางหลวงหมายเลข 4 - บ้านควนอินนอโม | AE33: 9.364
A34: ลงชื่อ | D34: กรรมการ | L34: 2 | M34: นายบุญภาศ | N34: ทองฤทธิ์นุ่น | O34: ผู้อำนวยการกองช่าง | Q34: ตรวจ | X34: 32 | Y34: พท.1015 | Z34: แยกทางหลวงหมายเลข 4 - บ้านศาลาเม็ง | AE34: 9.155
B35: (น.ส.พันธุ์ทิพย์ ทองเดช ) | L35: 3 | M35: นางรุจิรา | N35: กลับแป้น | O35: รองปลัดเทศบาล | Q35: เห็นชอบ | X35: 33 | Y35: พท.1017 | Z35: แยกทางหลวงหมายเลข 4 - บ้านเขาชัยสน | AE35: 11.244
A36: ลงชื่อ | D36: กรรมการ | I36: ลงชื่อ……...…….......................เห็นชอบ | L36: 4 | M36: นายสุพัฒน์ | N36: หนูจีนเส้ง | O36: นายกเทศมนตรีตำบลหนองพ้อ | Q36: อนุมัติ | X36: 34 | Y36: พท.1020 | Z36: แยกทางหลวงหมายเลข 4 - บ้านป่าแก่ | AE36: 11.722
B37: (นายปรีชา มณีนิล ) | I37: (นางรุจิรา กลับแป้น ) | X37: 35 | Y37: พท.5022 | Z37: แยกทางหลวงชนบท พท.4004 - บ้านบางแก้ว | AE37: 11.764
I38: รองปลัดเทศบาล รักษาราชการแทน | X38: 36 | Y38: พท.1023 | Z38: แยกทางหลวงหมายเลข 4 - บ้านหารเทา | AE38: 12.216
I39: ปลัดเทศบาลตำบลหนองพ้อ | X39: 37 | Y39: พท.4025 | Z39: แยกทางหลวงหมายเลข 4121 - บ้านท่าเชียด | AE39: 12.659
X40: 38 | Y40: พท.4026 | Z40: แยกทางหลวงหมายเลข 4181 - บ้านชะแล้ | AE40: 16.574
...

Sheet ปร.4_1
A1: แบบประเมินราคางานก่อสร้างทาง
A2: ชื่อโครงการ | C2: ซ่อมแซมผิวทางแบบเซอร์เฟซทรีตเมนต์ชั้นเดียว S.S.T. สายป่าตอ-ใสขรบ หมู่ที่ 5 | S2: ระยะทางก่อสร้างถนน | T2: =Soil!B1-V2 -> 0.84 | U2: กม.
A3: สถานที่ก่อสร้าง | C3: ='ปร.5 ท'!C6 -> ตำบลควนขนุน อำเภอควนขนุน จังหวัดพัทลุง | S3: ความกว้างผิวจราจร | T3: =I5+(2*I6) -> 5 | U3: ม.
A4: ='ปร.5 ท'!A13 -> ระยะทางดำเนินการ | D4: =T2 -> 0.84 | E4: กม. | S4: ผิวสะพานเดิม กว้าง | T4: 0 | U4: ม. ยาว | V4: 0 | W4: ม. จำนวน | X4: 0 | Y4: แห่ง พ.ท.ผิว | Z4: =ROUNDDOWN(T4*V4*X4,2) -> 0 | AA4: ตร.ม.
A5: ก่อสร้างผิวทาง | D5: 0 | H5: กว้าง | I5: ='ปร.5 ท'!H7 -> 5 | J5: เมตร | S5: ก่อสร้าง TAPER จาก | T5: 0 | U5: ม. เป็นกว้าง | V5: 0 | W5: ม. ยาว | X5: 0 | Y5: ม. จำนวน | Z5: 0 | AA5: แห่ง
A6: ซ่อมสร้างไหล่ทาง | C6: ='ปร.5 ท'!F14 -> (ซ่อมแซมผิวทางแบบเซอร์เฟซทรีตเมนต์ชั้นเดียว S.S.T. ) ระยะทาง 0.000 กม.) | D6: 0 | H6: กว้างข้างละ | I6: ='ปร.5 ท'!H8 -> 0 | J6: เมตร | W6: รวมความยาว Taper | X6: =X5*Z5 -> 0 | Y6: ม.
A7: ประมาณราคาวันที่ | D7: ='ปร.5 ท'!C17&" "&'ปร.5 ท'!E17&" "&'ปร.5 ท'!F17&" "&'ปร.5 ท'!G17 -> 30 มิถุนายน พ.ศ. 2563 | W7: พื้นที่ Taper | X7: =ROUNDDOWN(0.5*(T5+V5)*X5,2)*Z5 -> 0 | Y7: ตร.ม.
A8: ลำดับที่ | B8: รายการ | J8: หน่วย | K8: ปริมาณ | L8: ค่างานต้นทุน (บาท) | N8: Factor | O8: ราคากลาง (บาท) | Q8: หมาย | S8: ซ่อมสร้างผิวทาง | T8: ซ่อมสร้างผิวไหล่ทาง
L9: ราคาต่อหน่วย | M9: รวม | N9: F | O9: ราคาต่อหน่วย | P9: รวม | Q9: เหตุ | S9: เสริมผิวทาง | T9: เสริมผิวไหล่ทาง
B10: ประเภทงานทาง
A11: 1 | B11: งานปรับปรุงโครงสร้างทาง
B12: 1.1 | C12: งานถางป่าขุดตอ | J12: ตร.ม. | K12: =T12 -> 0 | L12: =IF(K12=0,0,ราคาต้นทุนงานทาง!G11) -> 0 | M12: =ROUNDDOWN(K12*L12,2) -> 0 | N12: =IF(K12=0,0,$N$172) -> 0 | O12: =ROUNDDOWN(L12*N12,2) -> 0 | P12: =ROUNDDOWN(K12*O12,2) -> 0 | R12: ถางป่าและขุดตอ | T12: =ROUNDDOWN(Soil!R210,0)*0 -> 0 | U12: ตร.ม. | V12: offset | W12: 2 | X12: m.
B13: 1.1 | C13: งานขุดรื้อผิวทางและไหล่ทางเดิม แล้วบดอัดแน่น | J13: ตร.ม. | K13: =T13 -> 4200 | L13: =IF(K13=0,0,ราคาต้นทุนงานทาง!I31)+ราคาต้นทุนงานทาง!J35 -> 24.7256 | M13: =ROUNDDOWN(K13*L13,2) -> 103847.52 | N13: =IF(K13=0,0,$N$172) -> 1.3795 | O13: =ROUNDDOWN(L13*N13,2) -> 34.1 | P13: =ROUNDDOWN(K13*O13,2) -> 143220 | R13: ขุดรื้อผิวทางและไหล่ทาง | T13: =ROUNDDOWN(Soil!S210+((0.5)*(Z13-V5)*(X6)),0)-(V2*T3*1000) -> 4200 | U13: ตร.ม. | V13: ความหนา | W13: 0 | X13: ซม. | Y13: คันเดิมกว้าง | Z13: 5 | AA13: m.
B14: 1.3 | C14: งานเกลี่ยปรับคันทางและไหล่ทางเดิมแล้วบดทับ | J14: ตร.ม. | K14: =T14 -> 0 | L14: =IF(K14=0,0,ราคาต้นทุนงานทาง!J35) -> 0 | M14: =K14*L14 -> 0 | N14: =IF(K14=0,0,$N$172) -> 0 | O14: =ROUND(L14*N14,2) -> 0 | P14: =ROUNDDOWN(K14*O14,2) -> 0 | R14: ปรับเกลี่ยและบดอัด | T14: =ROUNDDOWN(Soil!S210+((0.5)*(Z14-V6)*(X7)),0)*0 -> 0 | U14: ตร.ม.
B15: 1.4 | C15: งานตัดแต่งขั้นบันได | J15: ลบ.ม. | K15: 0 | L15: =IF(K15=0,0,ราคาต้นทุนงานทาง!I40) -> 0 | M15: =K15*L15 -> 0 | N15: =IF(K15=0,0,$N$172) -> 0 | O15: =ROUND(L15*N15,2) -> 0 | P15: =ROUNDDOWN(K15*O15,2) -> 0
B16: 1.5 | C16: งานดินตัด | J16: ลบ.ม. | K16: =T16 -> 0 | L16: =IF(K16=0,0,ราคาต้นทุนงานทาง!H49) -> 0 | M16: =ROUNDDOWN(K16*L16,2) -> 0 | N16: =IF(K16=0,0,$N$172) -> 0 | O16: =ROUNDDOWN(L16*N16,2) -> 0 | P16: =ROUNDDOWN(K16*O16,2) -> 0 | R16: ดินตัด | T16: =Soil!H213 -> 0 | U16: ลบ.ม.
B17: 1.6 | C17: งานดินถม (วัสดุจากดินตัด) | J17: ลบ.ม. | K17: =T17 -> 0 | L17: =IF(K17=0,0,ราคาต้นทุนงานทาง!H57) -> 0 | M17: =ROUNDDOWN(K17*L17,2) -> 0 | N17: =IF(K17=0,0,$N$172) -> 0 | O17: =ROUNDDOWN(L17*N17,2) -> 0 | P17: =ROUNDDOWN(K17*O17,2) -> 0 | R17: ดินถมจากดินตัด | T17: =Soil!H215 -> 0 | U17: ลบ.ม.
B18: 1.7 | C18: งานดินถม (วัสดุจากแหล่งนอกโครงการ) | J18: ลบ.ม. | K18: =T18 -> 0 | L18: =IF(K18=0,0,ราคาต้นทุนงานทาง!H66) -> 0 | M18: =K18*L18 -> 0 | N18: =IF(K18=0,0,$N$172) -> 0 | O18: =ROUND(L18*N18,2) -> 0 | P18: =ROUNDDOWN(K18*O18,2) -> 0 | R18: ดินถมจากแหล่ง | T18: =Soil!H216 -> 0 | U18: ลบ.ม.
B19: 1.8 | C19: งานทรายถม | J19: ลบ.ม. | K19: 0 | L19: =IF(K19=0,0,ราคาต้นทุนงานทาง!H74) -> 0 | M19: =K19*L19 -> 0 | N19: =IF(K19=0,0,$N$172) -> 0 | O19: =ROUND(L19*N19,2) -> 0 | P19: =ROUNDDOWN(K19*O19,2) -> 0
B20: 1.9 | C20: งานวัสดุคัดเลือกบดอัดแน่น | J20: ลบ.ม. | K20: 0 | L20: =IF(K20=0,0,ราคาต้นทุนงานทาง!H91) -> 0 | M20: =K20*L20 -> 0 | N20: =IF(K20=0,0,$N$172) -> 0 | O20: =ROUND(L20*N20,2) -> 0 | P20: =ROUNDDOWN(K20*O20,2) -> 0 | V20: WIDENING | X20: ทางเชื่อม
B21: 1.1 | C21: งานรองพื้นทาง (ลูกรังบดอัดแน่น) ( ลูกรังหนา | H21: 0 | I21: ซม. ) | J21: ลบ.ม. | K21: =T21+V21+X21 -> 0 | L21: =IF(K21=0,0,ราคาต้นทุนงานทาง!H100) -> 0 | M21: =ROUNDDOWN(K21*L21,2) -> 0 | N21: =IF(K21=0,0,$N$172) -> 0 | O21: =ROUNDDOWN(L21*N21,2) -> 0 | P21: =ROUNDDOWN(K21*O21,2) -> 0 | R21: งานรองพื้นทาง | T21: =ROUNDDOWN(Soil!U210-(((V4*X4)+(X5*Z5))*Soil!Q9)+((0.5)*(T5+V5)*(X5)*H21/100),0)*0 -> 0 | U21: ลบ.ม. | V21: ='ทางเชื่อม (AC)'!K26 -> 0 | W21: ลบ.ม. | X21: ='ทางเชื่อม (AC)'!M26 -> 0 | Y21: ลบ.ม.
B22: 1.2 | C22: หินคลุกบดอัดแน่นเสริมพื้นทาง 30% | G22: ( หินคลุกหนา | H22: 15 | I22: ซม. ) | J22: ลบ.ม. | K22: =SUM(D4*1000)*4*0.15*0.3 -> 151.2 | L22: =IF(K22=0,0,ราคาต้นทุนงานทาง!H109) -> 564.32 | M22: =ROUNDDOWN(K22*L22,2) -> 85325.18 | N22: =IF(K22=0,0,$N$172) -> 1.3795 | O22: =ROUNDDOWN(L22*N22,2) -> 778.47 | P22: =ROUNDDOWN(K22*O22,2) -> 117704.66 | R22: งานพื้นทาง | T22: =ROUNDDOWN(Soil!Z210-(((V4*X4)+(X5*Z5))*Soil!Y9)+(0.5*(T5+V5)*(X5)*H22/100),0)*0 -> 0 | U22: ลบ.ม. | V22: =V38*(H22/100) -> 0 | W22: ลบ.ม. | X22: ='ทางเชื่อม (AC)'!M26 -> 0 | Y22: ลบ.ม.
B23: 1.12 | C23: หินคลุกปรับระดับ (หลวม) | J23: ลบ.ม. | K23: =T23+V23 -> 0 | L23: =IF(K23=0,0,ราคาต้นทุนงานทาง!H115) -> 0 | M23: =ROUNDDOWN(K23*L23,2) -> 0 | N23: =IF(K23=0,0,$N$172) -> 0 | O23: =ROUNDDOWN(L23*N23,2) -> 0 | P23: =ROUNDDOWN(K23*O23,2) -> 0
B24: 1.13 | C24: งานทรายรองใต้ผิวจราจรคอนกรีต หนา | H24: 0 | I24: ซม. | J24: ลบ.ม. | K24: =T24 -> 0 | L24: =IF(K24=0,0,ราคาต้นทุนงานทาง!H123) -> 0 | M24: =K24*L24 -> 0 | N24: =IF(K24=0,0,$N$172) -> 0 | O24: =ROUND(L24*N24,2) -> 0 | P24: =ROUNDDOWN(K24*O24,2) -> 0 | R24: งานทรายรองใต้ผิวจราจร | T24: =IF(D5="Concrete",ROUNDDOWN(((T2*1000)*(H24/100)*T3)+((0.5)*(T5+V5)*(X5)*H24/100),0),0) -> 0 | U24: ลบ.ม.
B25: 1.14 | C25: Skin Patch | J25: ตร.ม. | K25: =T25 -> 0 | L25: =IF(K25=0,0,ราคาต้นทุนงานทาง!J130) -> 0 | M25: =K25*L25 -> 0 | N25: =IF(K25=0,0,$N$172) -> 0 | O25: =ROUND(L25*N25,2) -> 0 | P25: =ROUNDDOWN(K25*O25,2) -> 0 | T25: 0 | U25: ตร.ม.
B26: 1.15 | C26: Deep Patch | J26: ตร.ม. | K26: 0 | L26: =IF(K26=0,0,ราคาต้นทุนงานทาง!M140) -> 0 | M26: =K26*L26 -> 0 | N26: =IF(K26=0,0,$N$172) -> 0 | O26: =ROUND(L26*N26,2) -> 0 | P26: =ROUNDDOWN(K26*O26,2) -> 0 | T26: 0 | U26: ตร.ม.
B27: 1.16 | C27: งาน Pavement In-Place Recycling | J27: ตร.ม. | K27: 0 | L27: =IF(K27=0,0,ราคาต้นทุนงานทาง!J159) -> 0 | M27: =K27*L27 -> 0 | N27: =IF(K27=0,0,$N$172) -> 0 | O27: =ROUND(L27*N27,2) -> 0 | P27: =ROUNDDOWN(K27*O27,2) -> 0
B28: 1.17 | C28: งานอื่น ๆ (ระบุชนิด) | E28: หินคลุกงานซ่อมหลุม บดอัดแน่น | J28: ลบ.ม. | K28: 5
A30: 2 | B30: งานผิวทางและไหล่ทาง
B31: 2.1 | C31: PRIME COAT & TACK COAT สำหรับผิวทางและไหล่ทาง | R31: Asphaltic Concrete | V31: WIDENING | X31: ทางเชื่อม
C32: 2.1.1 | D32: PRIME COAT | J32: ตร.ม. | K32: =T32+V32+X32 -> 4200 | L32: =IF(K32=0,0,ราคาต้นทุนงานทาง!H173) -> 29.45 | M32: =ROUNDDOWN(K32*L32,2) -> 123690 | N32: =IF(K32=0,0,$N$172) -> 1.3795 | O32: =ROUNDDOWN(L32*N32,2) -> 40.62 | P32: =ROUNDDOWN(K32*O32,2) -> 170604 | R32: PRIME COAT | T32: =SUM(T2*1000)*T3 -> 4200 | U32: ตร.ม. | V32: 0 | W32: ตร.ม. | X32: ='ทางเชื่อม (AC)'!N26 -> 0 | Y32: ตร.ม.
C33: 2.1.2 | D33: TACK COAT | J33: ตร.ม. | K33: =T33+V33+X33 -> 0 | L33: =IF(K33=0,0,ราคาต้นทุนงานทาง!H179) -> 0 | M33: =ROUNDDOWN(K33*L33,2) -> 0 | N33: =IF(K33=0,0,$N$172) -> 0 | O33: =ROUNDDOWN(L33*N33,2) -> 0 | P33: =ROUNDDOWN(K33*O33,2) -> 0 | R33: TACK COAT | T33: =IF(D6=R32,((T3*1000)-X7)*T4,0)-Z5+X8 -> 0 | U33: ตร.ม. | V33: 0 | W33: ตร.ม. | X33: 0 | Y33: ตร.ม.
B34: 2.2 | C34: งานผิวทางแบบเซอร์เฟซทรีตเมนต์ชั้นเดียว (S.S.T. ) | J34: ตร.ม. | K34: =K32 -> 4200 | L34: =IF(K34=0,0,ราคาต้นทุนงานทาง!J225) -> 49.027861 | M34: =ROUNDDOWN(K34*L34,2) -> 205917.01 | N34: =IF(K34=0,0,$N$172) -> 1.3795 | O34: =ROUNDDOWN(L34*N34,2) -> 67.63 | P34: =ROUNDDOWN(K34*O34,2) -> 284046 | R34: Cape Seal | T34: =IF(D5=R34,(T2*1000)*T3,0) -> 0 | U34: ตร.ม.
B35: 2.3 | C35: งานผิวทางและไหล่ทาง Slurry Seal | J35: ตร.ม. | K35: =T35 -> 0 | L35: =IF(K35=0,0,ราคาต้นทุนงานทาง!J257) -> 0 | M35: =ROUNDDOWN(K35*L35,2) -> 0 | N35: =IF(K35=0,0,$N$172) -> 0 | O35: =ROUNDDOWN(L35*N35,2) -> 0 | P35: =ROUNDDOWN(K35*O35,2) -> 0 | R35: Slurry Seal | U35: ตร.ม.
B36: 2.4 | C36: งานผิวทางและไหล่ทาง Para Slurry Seal Type 3 | J36: ตร.ม. | K36: =T36 -> 0 | L36: =IF(K36=0,0,ราคาต้นทุนงานทาง!J261) -> 0 | M36: =ROUNDDOWN(K36*L36,2) -> 0 | N36: =IF(K36=0,0,$N$172) -> 0 | O36: =ROUNDDOWN(L36*N36,2) -> 0 | P36: =ROUNDDOWN(K36*O36,2) -> 0 | R36: Para Slurry Seal | U36: ตร.ม.
B37: 2.2 | C37: งานผิวทางและไหล่ทาง Para Asphaltic concrete | V37: WIDENING | X37: ทางเชื่อม
C38: 2.5.1 | D38: งานผิวทางและไหล่ทางพาราแอสฟัลติกคอนกรีตชั้น Wearing Course | J38: ตร.ม. | K38: =T38+V38+X38 -> 0 | L38: =IF(K38=0,0,ราคาต้นทุนงานทาง!J300) -> 0 | M38: =ROUNDDOWN(K38*L38,2) -> 0 | N38: =IF(K38=0,0,$N$172) -> 0 | O38: =ROUNDDOWN(L38*N38,2) -> 0 | P38: =ROUNDDOWN(K38*O38,2) -> 0 | R38: Asphaltic Concrete | T38: =IF(AND(D5=R38,E39>0),T32,0) -> 0 | U38: ตร.ม. | V38: 0 | W38: ตร.ม. | X38: ='ทางเชื่อม (AC)'!O26 -> 0 | Y38: ตร.ม.
D39: ความหนา | E39: 5 | F39: ซม. (ปูบน PRIME COAT)
C40: 2.5.2 | D40: งานผิวทางและไหล่ทางพาราแอสฟัลติกคอนกรีตชั้น Wearing Course | J40: ตร.ม. | K40: =T40+V40+X40 -> 0 | L40: =IF(K40=0,0,ราคาต้นทุนงานทาง!J329) -> 0 | M40: =K40*L40 -> 0 | N40: =IF(K40=0,0,$N$172) -> 0 | O40: =ROUND(L40*N40,2) -> 0 | P40: =ROUNDDOWN(K40*O40,2) -> 0 | R40: Asphaltic Concrete | T40: =IF(AND(D5=R40,E41>0),T33,0) -> 0 | U40: ตร.ม.
D41: ความหนา | E41: 5 | F41: ซม. (ปูบน TACK COAT)
...

Sheet ปร.4_2
A1: แบบประเมินราคางานก่อสร้างสะพานและท่อลอดเหลี่ยม
A2: ชื่อโครงการ | C2: =ปร.4_1!C2 -> ซ่อมแซมผิวทางแบบเซอร์เฟซทรีตเมนต์ชั้นเดียว S.S.T. สายป่าตอ-ใสขรบ หมู่ที่ 5
A3: สถานที่ก่อสร้าง | D3: =ปร.4_1!C3 -> ตำบลควนขนุน อำเภอควนขนุน จังหวัดพัทลุง
A4: จำนวน | C4: 1 | E4: แห่ง
A5: ผิวทาง | C5: =ปร.4_1!D5 -> 0 | F5: กว้าง | G5: =ปร.4_1!I5 -> 5 | H5: เมตร
A6: ไหล่ทาง | C6: =ปร.4_1!D6 -> 0 | F6: กว้างข้างละ | G6: =ปร.4_1!I6 -> 0 | H6: เมตร
A7: ประมาณราคาวันที่ | D7: =ปร.4_1!D7 -> 30 มิถุนายน พ.ศ. 2563
A8: ลำดับที่ | B8: รายการ | J8: หน่วย | K8: ปริมาณ | L8: ค่างานต้นทุน (บาท) | N8: Factor F | O8: ราคากลาง (บาท) | Q8: หมายเหตุ
L9: ราคาต่อหน่วย | M9: รวม | O9: ราคาต่อหน่วย | P9: รวม | W9: P1 | X9: =11.75-0.24-0.6-0.7-0.8-8 -> 1.41
B10: ประเภทงานสะพานและท่อลอดเหลี่ยม | W10: P2 | X10: =12.5-0.24-0.6-1.9-1.8-6 -> 1.96
A11: 1 | B11: งานสะพาน คสล. | W11: P3 | X11: =12.979-0.24-0.6-1.9-1.8-6 -> 2.439
B12: 1.1 | C12: งานก่อสร้างสะพานที่ กม. | F12: - | G12: ถึง กม. | H12: - | W12: P4 | X12: =12.96-0.24-0.6-1.9-1.8-6 -> 2.42 | Y12: =(X11+X12+X15)/3 -> 2.3406667
C13: ความกว้าง | E13: 0 | F13: เมตร ความยาว | G13: 0 | H13: เมตร
C14: ทางเท้ากว้างข้างละ | F14: 0 | G14: เมตร
C15: 1.1.1 | D15: งานเสาเข็ม | W15: P5 | X15: =12.703-0.24-0.6-1.9-1.8-6 -> 2.163
D16: 1.1.1(1) เสาเข็ม ขนาด 0.40 ม. x 0.40 ม. ความยาว | H16: 10 | I16: เมตร | J16: ต้น | K16: 0 | L16: =IF(K16=0,0,ราคาต้นทุนงานทาง!K924) -> 0 | M16: =K16*L16 -> 0 | N16: =IF(K16=0,0,$N$90) -> 0 | O16: =ROUNDDOWN(L16*N16,0) -> 0 | P16: =ROUNDDOWN(M16*N16,0) -> 0 | W16: P6 | X16: =12.25-0.24-0.6-1.9-1.8-6 -> 1.71 | Y16: =(X10+X16)/2 -> 1.835
D17: 1.1.1(2) สกัดหัวเสาเข็ม ขนาด 0.40 x 0.40 ม. | J17: ต้น | K17: 0 | L17: =IF(K17=0,0,ราคาต้นทุนงานทาง!K933) -> 0 | M17: =K17*L17 -> 0 | N17: =IF(K17=0,0,$N$90) -> 0 | O17: =ROUNDDOWN(L17*N17,0) -> 0 | P17: =ROUNDDOWN(M17*N17,0) -> 0 | W17: P7 | X17: =11.7-0.24-0.6-0.7-0.8-8 -> 1.36 | Y17: =(X9+X17)/2 -> 1.385
D18: 1.1.1(3) ตอกเสาเข็ม ขนาด 0.40 x 0.40 ม. | J18: ต้น | K18: 0 | L18: =IF(K18=0,0,ราคาต้นทุนงานทาง!K929) -> 0 | M18: =K18*L18 -> 0 | N18: =IF(K18=0,0,$N$90) -> 0 | O18: =ROUNDDOWN(L18*N18,0) -> 0 | P18: =ROUNDDOWN(M18*N18,0) -> 0
D19: 1.1.1(4) นั่งร้านตอกเสาเข็ม | J19: ตร.ม. | K19: 0 | L19: =IF(K19=0,0,ราคาต้นทุนงานทาง!K947) -> 0 | M19: =K19*L19 -> 0 | N19: =IF(K19=0,0,$N$90) -> 0 | O19: =ROUNDDOWN(L19*N19,0) -> 0 | P19: =ROUNDDOWN(M19*N19,0) -> 0 | X19: =1.36*2 -> 2.72
C20: 1.1.2 | D20: งานตอม่อรับพื้นสะพาน | X20: =(2.72*2.72)+(1.36*1.36) -> 9.248 | Y20: =(2.66*2.66)+(5.32*5.32) -> 35.378
D21: 1.2.2(1) ตอม่อตับริมแบบ ช่วง 00.00 ม. และ ช่วง 24.00 ม.(P) | J21: ตับ | K21: 0 | L21: =IF(K21=0,0,ราคาต้นทุนงานทาง!K966) -> 0 | M21: =K21*L21 -> 0 | N21: =IF(K21=0,0,$N$90) -> 0 | O21: =ROUNDDOWN(L21*N21,0) -> 0 | P21: =ROUNDDOWN(M21*N21,0) -> 0 | X21: =1.7*2.5 -> 4.25 | Y21: =1.36+0.7+0.6 -> 2.66 | Z21: =Y21*2 -> 5.32
D22: 1.2.2(2) ตอม่อตับกลางแบบ ช่วง 8.00 + 16.00 ม.(P) | J22: ตับ | K22: 0 | L22: =IF(K22=0,0,ราคาต้นทุนงานทาง!K982) -> 0 | M22: =K22*L22 -> 0 | N22: =IF(K22=0,0,$N$90) -> 0 | O22: =ROUNDDOWN(L22*N22,0) -> 0 | P22: =ROUNDDOWN(M22*N22,0) -> 0
D23: 1.2.2(5) งานแผงปิดตอม่อ ช่วง 00.00 + 00.00 (P) | J23: ฐาน | K23: 0 | L23: 0 | M23: =K23*L23 -> 0 | N23: =IF(K23=0,0,$N$90) -> 0 | O23: =ROUNDDOWN(L23*N23,0) -> 0 | P23: =ROUNDDOWN(M23*N23,0) -> 0
C24: 1.1.3 | D24: งานพื้นสะพานหล่อในที่ | J24: ตร.ม. | K24: 0 | L24: =IF(K24=0,0,ราคาต้นทุนงานทาง!K996) -> 0 | M24: =K24*L24 -> 0 | N24: =IF(K24=0,0,$N$90) -> 0 | O24: =ROUNDDOWN(L24*N24,0) -> 0 | P24: =ROUNDDOWN(M24*N24,0) -> 0
C25: 1.1.4 | D25: งานพื้นสะพานหล่อสำเร็จ
D26: 1.1.4(1) หล่อคานอัดแรง Plank - Girder สำหรับช่วงความยาว 5.00 - 12.00 ม.(ตัวริม) | J26: คาน | K26: 0 | L26: =IF(K26=0,0,ราคาต้นทุนงานทาง!K1013) -> 0 | M26: =K26*L26 -> 0 | N26: =IF(K26=0,0,$N$90) -> 0 | O26: =ROUNDDOWN(L26*N26,0) -> 0 | P26: =ROUNDDOWN(M26*N26,0) -> 0
D27: 1.1.4(2) หล่อคานอัดแรง Plank - Girder สำหรับช่วงความยาว 5.00 - 12.00 ม.(ตัวใน) | J27: คาน | K27: 0 | L27: =IF(K27=0,0,ราคาต้นทุนงานทาง!K1029) -> 0 | M27: =K27*L27 -> 0 | N27: =IF(K27=0,0,$N$90) -> 0 | O27: =ROUNDDOWN(L27*N27,0) -> 0 | P27: =ROUNDDOWN(M27*N27,0) -> 0
D28: 1.1.4(3) ติดตั้งคานอัดแรง Plank - Girder สำหรับช่วงความยาว 5.00 - 12.00 ม. | J28: คาน | K28: 0 | L28: =IF(K28=0,0,ราคาต้นทุนงานทาง!K1030) -> 0 | M28: =K28*L28 -> 0 | N28: =IF(K28=0,0,$N$90) -> 0 | O28: =ROUNDDOWN(L28*N28,0) -> 0 | P28: =ROUNDDOWN(M28*N28,0) -> 0 | W28: 1.15 | X28: =(1.15*1.15)+(2.3*2.3) -> 6.6125
D29: 1.1.4(4) หล่อคานอัดแรง Box - Girder สำหรับช่วงความยาว 13.00 - 20.00 ม.(ตัวริม) | J29: คาน | K29: 0 | L29: =IF(K29=0,0,ราคาต้นทุนงานทาง!K1031) -> 0 | M29: =K29*L29 -> 0 | N29: =IF(K29=0,0,$N$90) -> 0 | O29: =ROUNDDOWN(L29*N29,0) -> 0 | P29: =ROUNDDOWN(M29*N29,0) -> 0
D30: 1.1.4(5) หล่อคานอัดแรง Box - Girder สำหรับช่วงความยาว 13.00 - 20.00 ม.(ตัวใน) | J30: คาน | K30: 0 | L30: =IF(K30=0,0,ราคาต้นทุนงานทาง!K1032) -> 0 | M30: =K30*L30 -> 0 | N30: =IF(K30=0,0,$N$90) -> 0 | O30: =ROUNDDOWN(L30*N30,0) -> 0 | P30: =ROUNDDOWN(M30*N30,0) -> 0
D31: 1.1.4(6) ติดตั้งคานอัดแรง Box - Girder สำหรับช่วงความยาว 13.00 - 20.00 ม. | J31: คาน | K31: 0 | L31: =IF(K31=0,0,ราคาต้นทุนงานทาง!K1033) -> 0 | M31: =K31*L31 -> 0 | N31: =IF(K31=0,0,$N$90) -> 0 | O31: =ROUNDDOWN(L31*N31,0) -> 0 | P31: =ROUNDDOWN(M31*N31,0) -> 0
D32: 1.1.4(7) หล่อคานอัดแรง I - Girder สำหรับช่วงความยาว 20.00 - 30.00 ม. | J32: คาน | K32: 0 | L32: =IF(K32=0,0,ราคาต้นทุนงานทาง!K1034) -> 0 | M32: =K32*L32 -> 0 | N32: =IF(K32=0,0,$N$90) -> 0 | O32: =ROUNDDOWN(L32*N32,0) -> 0 | P32: =ROUNDDOWN(M32*N32,0) -> 0
D33: 1.1.4(8) ติดตั้งคานอัดแรง I - Girder สำหรับช่วงความยาว 20.00 - 30.00 ม. | J33: คาน | K33: 0 | L33: =IF(K33=0,0,ราคาต้นทุนงานทาง!K1035) -> 0 | M33: =K33*L33 -> 0 | N33: =IF(K33=0,0,$N$90) -> 0 | O33: =ROUNDDOWN(L33*N33,0) -> 0 | P33: =ROUNDDOWN(M33*N33,0) -> 0
D34: 1.1.4(9) งานหล่อคานขวาง รับช่วงความยาว 20.00 - 30.00 ม. | J34: ช่วง | K34: 0 | L34: =IF(K34=0,0,ราคาต้นทุนงานทาง!K1036) -> 0 | M34: =K34*L34 -> 0 | N34: =IF(K34=0,0,$N$90) -> 0 | O34: =ROUNDDOWN(L34*N34,0) -> 0 | P34: =ROUNDDOWN(M34*N34,0) -> 0
D35: 1.1.4(10) งานคอนกรีต Topping | J35: ตร.ม. | K35: 0 | L35: =IF(K35=0,0,ราคาต้นทุนงานทาง!K1042) -> 0 | M35: =K35*L35 -> 0 | N35: =IF(K35=0,0,$N$90) -> 0 | O35: =ROUNDDOWN(L35*N35,0) -> 0 | P35: =ROUNDDOWN(M35*N35,0) -> 0 | W35: 2.3
C36: 1.1.5 | D36: งานทางเท้า ราวสะพาน และงาน เบ็ดเตล็ด อื่น ๆ | Y36: 2.57
D37: 1.1.5(1) งานราวสะพาน คสล. | J37: เมตร | K37: 0 | L37: =IF(K37=0,0,ราคาต้นทุนงานทาง!K1059) -> 0 | M37: =K37*L37 -> 0 | N37: =IF(K37=0,0,$N$90) -> 0 | O37: =ROUNDDOWN(L37*N37,0) -> 0 | P37: =ROUNDDOWN(M37*N37,0) -> 0 | V37: =(3.4*3.4)+(0.55*0.55) -> 11.8625 | Y37: =11.7*2.57*1.0642*2 -> 63.99886
D38: 1.1.5(2) งานทางเท้า คสล. | J38: เมตร | K38: 0 | L38: =IF(K38=0,0,ราคาต้นทุนงานทาง!K1072) -> 0 | M38: =K38*L38 -> 0 | N38: =IF(K38=0,0,$N$90) -> 0 | O38: =ROUNDDOWN(L38*N38,0) -> 0 | P38: =ROUNDDOWN(M38*N38,0) -> 0
D39: 1.1.5(3) งานป้ายชื่อสะพาน คสล. | J39: ป้าย | K39: 0 | L39: =IF(K39=0,0,ราคาต้นทุนงานทาง!K1087) -> 0 | M39: =K39*L39 -> 0 | N39: =IF(K39=0,0,$N$90) -> 0 | O39: =ROUNDDOWN(L39*N39,0) -> 0 | P39: =ROUNDDOWN(M39*N39,0) -> 0
D40: 1.1.4(4) ป้ายชื่อสะพาน ชนิดหินออ่นสีดำ ขนาด 0.25 x 0.85 เมตร | J40: ป้าย | K40: 0 | L40: =IF(K40=0,0,3500) -> 0 | M40: =K40*L40 -> 0 | N40: =IF(K40=0,0,$N$90) -> 0 | O40: =ROUNDDOWN(L40*N40,0) -> 0 | P40: =ROUNDDOWN(M40*N40,0) -> 0
...

Sheet ปร.4_1 ท
A1: แบบประเมินราคางานก่อสร้างทาง
A2: ชื่อโครงการ | C2: =ปร.4_1!C2 -> ซ่อมแซมผิวทางแบบเซอร์เฟซทรีตเมนต์ชั้นเดียว S.S.T. สายป่าตอ-ใสขรบ หมู่ที่ 5
A3: สถานที่ | C3: =ปร.4_1!C3 -> ตำบลควนขนุน อำเภอควนขนุน จังหวัดพัทลุง
A4: =ปร.4_1!A4 -> ระยะทางดำเนินการ | E4: ='ปร.5 ท'!L12 -> 0.84 | F4: กม.
A5: ซ่อมสร้างผิวทาง | D5: =ปร.4_1!D5 -> 0 | E5: กว้าง | F5: =ปร.4_2!G5 -> 5 | G5: เมตร
A6: ซ่อมสร้างไหล่ทาง | D6: =ปร.4_1!D6 -> 0 | E6: กว้างข้างละ | F6: =ปร.4_2!G6 -> 0 | G6: เมตร
A7: ประมาณราคาวันที่ | D7: =ปร.4_2!D7 -> 30 มิถุนายน พ.ศ. 2563
A8: ลำดับที่ | B8: รายการ | H8: หน่วย | I8: ปริมาณ | J8: ค่างานต้นทุน (บาท) | L8: Factor F | M8: ราคากลาง (บาท) | O8: หมายเหตุ
J9: ราคาต่อหน่วย | K9: รวม | M9: ราคาต่อหน่วย | N9: รวม
B10: ประเภทงานอำนวยการ
A11: 1 | B11: จัดหาสำนักงาน พร้อมอุปกรณ์อำนวยความสะดวก
B12: 1.1 | C12: ค่าใช้จ่ายต่อเดือน | H12: เดือน | I12: =4-4 -> 0 | J12: =IF(I12=0,0,5900) -> 0 | K12: =J12*I12 -> 0 | L12: =IF(I12=0,0,$L$23) -> 0 | M12: =ROUND(J12*L12,2) -> 0 | N12: =K12*L12 -> 0
B13: 1.2 | C13: เหมาจ่ายตรง | H13: L.S. | I13: =1-1 -> 0 | J13: =IF(I13=0,0,47000) -> 0 | K13: =J13*I13 -> 0 | L13: =IF(I13=0,0,$L$23) -> 0 | M13: =ROUND(J13*L13,2) -> 0 | N13: =K13*L13 -> 0
A14: 2 | B14: การจัดหารถยนต์ พร้อมน้ำมันเชื้อเพลิง การบำรุงรักษาและประกันภัย | H14: เดือน | I14: 0 | J14: =IF(I14=0,0,14000) -> 0 | K14: =J14*I14 -> 0 | L14: =IF(I14=0,0,$L$23) -> 0 | M14: =ROUND(J14*L14,2) -> 0 | N14: =K14*L14 -> 0
A15: 3 | B15: เครื่องมือและอุปกรณ์ในการสำรวจ | H15: เดือน | I15: =I12 -> 0 | J15: =IF(I15=0,0,1900) -> 0 | K15: =J15*I15 -> 0 | L15: =IF(I15=0,0,$L$23) -> 0 | M15: =ROUND(J15*L15,2) -> 0 | N15: =K15*L15 -> 0
A16: 4 | B16: งานควบคุมและป้องกันมลภาวะในการก่อสร้าง | H16: เงินจร
